BEGIN:VCALENDAR
VERSION:2.0
PRODID:-//Harvard Square Business Association - ECPv6.15.20//NONSGML v1.0//EN
CALSCALE:GREGORIAN
METHOD:PUBLISH
X-WR-CALNAME:Harvard Square Business Association
X-ORIGINAL-URL:https://harvardsquare.com
X-WR-CALDESC:Events for Harvard Square Business Association
REFRESH-INTERVAL;VALUE=DURATION:PT1H
X-Robots-Tag:noindex
X-PUBLISHED-TTL:PT1H
BEGIN:VTIMEZONE
TZID:America/New_York
BEGIN:DAYLIGHT
TZOFFSETFROM:-0500
TZOFFSETTO:-0400
TZNAME:EDT
DTSTART:20250309T070000
END:DAYLIGHT
BEGIN:STANDARD
TZOFFSETFROM:-0400
TZOFFSETTO:-0500
TZNAME:EST
DTSTART:20251102T060000
END:STANDARD
BEGIN:DAYLIGHT
TZOFFSETFROM:-0500
TZOFFSETTO:-0400
TZNAME:EDT
DTSTART:20260308T070000
END:DAYLIGHT
BEGIN:STANDARD
TZOFFSETFROM:-0400
TZOFFSETTO:-0500
TZNAME:EST
DTSTART:20261101T060000
END:STANDARD
BEGIN:DAYLIGHT
TZOFFSETFROM:-0500
TZOFFSETTO:-0400
TZNAME:EDT
DTSTART:20270314T070000
END:DAYLIGHT
BEGIN:STANDARD
TZOFFSETFROM:-0400
TZOFFSETTO:-0500
TZNAME:EST
DTSTART:20271107T060000
END:STANDARD
END:VTIMEZONE
BEGIN:VEVENT
DTSTART;TZID=America/New_York:20260317T093000
DTEND;TZID=America/New_York:20260317T113000
DTSTAMP:20260425T062534
CREATED:20260220T220018Z
LAST-MODIFIED:20260220T220030Z
UID:61639-1773739800-1773747000@harvardsquare.com
SUMMARY:3D: Illusions of Depth
DESCRIPTION:Have you ever wondered how artists can give a painted landscape depth or make an orange in a still-life look truly spherical? Artists use a familiar set of techniques such as vanishing points\, occlusion\, and atmospheric perspective to communicate depth and dimension that are all based on how our brains interpret visual scenes. In this workshop\, we will try these techniques for ourselves while also learning why they work. The group will be limited to 12 participants\, allowing ample time for individual feedback. All skill levels are welcome.
URL:https://harvardsquare.com/event/3d-illusions-of-depth/
CATEGORIES:Classes,Crafting
ATTACH;FMTTYPE=image/png:https://harvardsquare.com/wp-content/uploads/2026/02/Screenshot-2026-02-20-165859.png
LOCATION:https://harvardsquare.com/event/3d-illusions-of-depth/
END:VEVENT
END:VCALENDAR