BEGIN:VCALENDAR
VERSION:2.0
PRODID:-//Harvard Square Business Association - ECPv6.15.20//NONSGML v1.0//EN
CALSCALE:GREGORIAN
METHOD:PUBLISH
X-WR-CALNAME:Harvard Square Business Association
X-ORIGINAL-URL:https://harvardsquare.com
X-WR-CALDESC:Events for Harvard Square Business Association
REFRESH-INTERVAL;VALUE=DURATION:PT1H
X-Robots-Tag:noindex
X-PUBLISHED-TTL:PT1H
BEGIN:VTIMEZONE
TZID:America/New_York
BEGIN:DAYLIGHT
TZOFFSETFROM:-0500
TZOFFSETTO:-0400
TZNAME:EDT
DTSTART:20250309T070000
END:DAYLIGHT
BEGIN:STANDARD
TZOFFSETFROM:-0400
TZOFFSETTO:-0500
TZNAME:EST
DTSTART:20251102T060000
END:STANDARD
BEGIN:DAYLIGHT
TZOFFSETFROM:-0500
TZOFFSETTO:-0400
TZNAME:EDT
DTSTART:20260308T070000
END:DAYLIGHT
BEGIN:STANDARD
TZOFFSETFROM:-0400
TZOFFSETTO:-0500
TZNAME:EST
DTSTART:20261101T060000
END:STANDARD
BEGIN:DAYLIGHT
TZOFFSETFROM:-0500
TZOFFSETTO:-0400
TZNAME:EDT
DTSTART:20270314T070000
END:DAYLIGHT
BEGIN:STANDARD
TZOFFSETFROM:-0400
TZOFFSETTO:-0500
TZNAME:EST
DTSTART:20271107T060000
END:STANDARD
END:VTIMEZONE
BEGIN:VEVENT
DTSTART;TZID=America/New_York:20260516T190000
DTEND;TZID=America/New_York:20260516T190000
DTSTAMP:20260419T075232
CREATED:20260414T190911Z
LAST-MODIFIED:20260414T191011Z
UID:63233-1778958000-1778958000@harvardsquare.com
SUMMARY:Abigail Lapell
DESCRIPTION:Toronto songwriter and multi-instrumentalist Abigail Lapell returns with More Songs About Love\, the extended companion to her JUNO-nominated 2024 album Anniversary. An evocative collection of original love songs\, Anniversary was produced with Great Lake Swimmers’ Tony Dekker and recorded at 200-year-old St Mark’s Church in Niagara-on-the-Lake\, Ontario. Dekker helped shape the sessions’ spooky\, resonant sound and also lent his voice to a couple of spellbinding duets. \nBalancing upbeat earworms with elegiac ballads\, More Songs About Love adds eight new stripped-down tracks to the collection. Combining cynical and sentimental elements\, the collection ultimately emerges as an earnest celebration of love. Anniversary & More Songs About Love is out May 3\, 2025 on Outside Music. \nOver the past six years and four spellbinding releases\, Lapell has garnered four Canadian Folk Music Awards and accrued a staggering 60 million streams across online platforms. She tours regularly across Canada\, the U.S. and Europe.
URL:https://harvardsquare.com/event/abigail-lapell/
LOCATION:Passim\, 47 Palmer Street\, Cambridge\, MA\, 02138\, United States
CATEGORIES:Live Music
ATTACH;FMTTYPE=image/png:https://harvardsquare.com/wp-content/uploads/2026/04/Screenshot-2026-04-14-150838.png
END:VEVENT
END:VCALENDAR