BEGIN:VCALENDAR
VERSION:2.0
PRODID:-//Harvard Square Business Association - ECPv6.15.20//NONSGML v1.0//EN
CALSCALE:GREGORIAN
METHOD:PUBLISH
X-WR-CALNAME:Harvard Square Business Association
X-ORIGINAL-URL:https://harvardsquare.com
X-WR-CALDESC:Events for Harvard Square Business Association
REFRESH-INTERVAL;VALUE=DURATION:PT1H
X-Robots-Tag:noindex
X-PUBLISHED-TTL:PT1H
BEGIN:VTIMEZONE
TZID:America/New_York
BEGIN:DAYLIGHT
TZOFFSETFROM:-0500
TZOFFSETTO:-0400
TZNAME:EDT
DTSTART:20250309T070000
END:DAYLIGHT
BEGIN:STANDARD
TZOFFSETFROM:-0400
TZOFFSETTO:-0500
TZNAME:EST
DTSTART:20251102T060000
END:STANDARD
BEGIN:DAYLIGHT
TZOFFSETFROM:-0500
TZOFFSETTO:-0400
TZNAME:EDT
DTSTART:20260308T070000
END:DAYLIGHT
BEGIN:STANDARD
TZOFFSETFROM:-0400
TZOFFSETTO:-0500
TZNAME:EST
DTSTART:20261101T060000
END:STANDARD
BEGIN:DAYLIGHT
TZOFFSETFROM:-0500
TZOFFSETTO:-0400
TZNAME:EDT
DTSTART:20270314T070000
END:DAYLIGHT
BEGIN:STANDARD
TZOFFSETFROM:-0400
TZOFFSETTO:-0500
TZNAME:EST
DTSTART:20271107T060000
END:STANDARD
END:VTIMEZONE
BEGIN:VEVENT
DTSTART;TZID=America/New_York:20260519T120000
DTEND;TZID=America/New_York:20260519T130000
DTSTAMP:20260419T092931
CREATED:20260415T184306Z
LAST-MODIFIED:20260415T184306Z
UID:63325-1779192000-1779195600@harvardsquare.com
SUMMARY:Art + Science: The Effects of Light on Paper and Media
DESCRIPTION:This event does not require registration; see further details below. \nHave you ever wondered what happens in our conservation labs? Join a member of our Straus Center staff for an informal conversation about their work treating objects in our collections. Taking place just outside the Straus Center in the Lightbox Gallery\, this presentation will give you the chance to get up close and hands-on with a selection of tools and materials used by conservation staff. \nIn this session\, Valeria Pesce\, the Craigen W. Bowen Paper Conservation Fellow\, will talk about how light affects paper and media. \nThe Straus Center for Conservation and Technical Studies is a world leader in fine arts conservation\, research\, and training. The center’s laboratories are where conservation\, conservation science\, and curatorial practice intersect\, coming together to enrich the understanding of and care for the approximately 250\,000 objects in the Harvard Art Museums collections. \nPlease check in with museum staff at the Visitor Services desk in the Calderwood Courtyard to request to join the program. Space is limited\, and this program is available on a first-come\, first-served basis; no registration is required. \nThe Harvard Art Museums offer free admission every day\, Tuesday through Sunday. Please see the museum visit page to learn about our general policies for visiting the museums. \nSupport for this program is made possible by an anonymous Fund for Conservation and Special Projects.
URL:https://harvardsquare.com/event/art-science-the-effects-of-light-on-paper-and-media/
LOCATION:Harvard Art Museums\, 32 Quincy St\, Cambridge\, MA\, 02138\, United States
ATTACH;FMTTYPE=image/jpeg:https://harvardsquare.com/wp-content/uploads/2026/04/b4eff5661d587bbf-hero.jpg
END:VEVENT
END:VCALENDAR