BEGIN:VCALENDAR
VERSION:2.0
PRODID:-//Harvard Square Business Association - ECPv6.15.20//NONSGML v1.0//EN
CALSCALE:GREGORIAN
METHOD:PUBLISH
X-WR-CALNAME:Harvard Square Business Association
X-ORIGINAL-URL:https://harvardsquare.com
X-WR-CALDESC:Events for Harvard Square Business Association
REFRESH-INTERVAL;VALUE=DURATION:PT1H
X-Robots-Tag:noindex
X-PUBLISHED-TTL:PT1H
BEGIN:VTIMEZONE
TZID:America/New_York
BEGIN:DAYLIGHT
TZOFFSETFROM:-0500
TZOFFSETTO:-0400
TZNAME:EDT
DTSTART:20250309T070000
END:DAYLIGHT
BEGIN:STANDARD
TZOFFSETFROM:-0400
TZOFFSETTO:-0500
TZNAME:EST
DTSTART:20251102T060000
END:STANDARD
BEGIN:DAYLIGHT
TZOFFSETFROM:-0500
TZOFFSETTO:-0400
TZNAME:EDT
DTSTART:20260308T070000
END:DAYLIGHT
BEGIN:STANDARD
TZOFFSETFROM:-0400
TZOFFSETTO:-0500
TZNAME:EST
DTSTART:20261101T060000
END:STANDARD
BEGIN:DAYLIGHT
TZOFFSETFROM:-0500
TZOFFSETTO:-0400
TZNAME:EDT
DTSTART:20270314T070000
END:DAYLIGHT
BEGIN:STANDARD
TZOFFSETFROM:-0400
TZOFFSETTO:-0500
TZNAME:EST
DTSTART:20271107T060000
END:STANDARD
END:VTIMEZONE
BEGIN:VEVENT
DTSTART;TZID=America/New_York:20260515T110000
DTEND;TZID=America/New_York:20260515T120000
DTSTAMP:20260420T111246
CREATED:20260415T183524Z
LAST-MODIFIED:20260415T183524Z
UID:63320-1778842800-1778846400@harvardsquare.com
SUMMARY:Art Study Center Seminar: Jacques de Gheyn II
DESCRIPTION:This talk follows the remarkable career of Jacques de Gheyn II\, a Flemish-born draughtsman and printmaker who arrived in the Northern Netherlands in the 1590s as part of a broader wave of artists fleeing war and upheaval in the south. \nLooking at prints and drawings in the Art Study Center\, we will explore what it took for artists to reinvent themselves in one of Europe’s most dynamic and rapidly changing art markets. \nLed by:\nSusanne Bartels\, Stanley H. Durwood Foundation Curatorial Fellow\, Division of European and American Art
URL:https://harvardsquare.com/event/art-study-center-seminar-jacques-de-gheyn-ii/
LOCATION:Harvard Art Museums\, 32 Quincy St\, Cambridge\, MA\, 02138\, United States
ATTACH;FMTTYPE=image/jpeg:https://harvardsquare.com/wp-content/uploads/2026/04/01KNMDPSVVYNVC75HS202SJR5A-hero.jpg
END:VEVENT
END:VCALENDAR