BEGIN:VCALENDAR
VERSION:2.0
PRODID:-//Harvard Square Business Association - ECPv6.15.20//NONSGML v1.0//EN
CALSCALE:GREGORIAN
METHOD:PUBLISH
X-WR-CALNAME:Harvard Square Business Association
X-ORIGINAL-URL:https://harvardsquare.com
X-WR-CALDESC:Events for Harvard Square Business Association
REFRESH-INTERVAL;VALUE=DURATION:PT1H
X-Robots-Tag:noindex
X-PUBLISHED-TTL:PT1H
BEGIN:VTIMEZONE
TZID:America/New_York
BEGIN:DAYLIGHT
TZOFFSETFROM:-0500
TZOFFSETTO:-0400
TZNAME:EDT
DTSTART:20250309T070000
END:DAYLIGHT
BEGIN:STANDARD
TZOFFSETFROM:-0400
TZOFFSETTO:-0500
TZNAME:EST
DTSTART:20251102T060000
END:STANDARD
BEGIN:DAYLIGHT
TZOFFSETFROM:-0500
TZOFFSETTO:-0400
TZNAME:EDT
DTSTART:20260308T070000
END:DAYLIGHT
BEGIN:STANDARD
TZOFFSETFROM:-0400
TZOFFSETTO:-0500
TZNAME:EST
DTSTART:20261101T060000
END:STANDARD
BEGIN:DAYLIGHT
TZOFFSETFROM:-0500
TZOFFSETTO:-0400
TZNAME:EDT
DTSTART:20270314T070000
END:DAYLIGHT
BEGIN:STANDARD
TZOFFSETFROM:-0400
TZOFFSETTO:-0500
TZNAME:EST
DTSTART:20271107T060000
END:STANDARD
END:VTIMEZONE
BEGIN:VEVENT
DTSTART;TZID=America/New_York:20260414T190000
DTEND;TZID=America/New_York:20260414T190000
DTSTAMP:20260425T232127
CREATED:20260325T183339Z
LAST-MODIFIED:20260325T183348Z
UID:62645-1776193200-1776193200@harvardsquare.com
SUMMARY:BroadBand
DESCRIPTION:That’s the BroadBand signature: We create a distinctive treble sound on even the most complex arrangements. BroadBand is a Boston-area group dedicated to delivering a beautiful harmonic blend and an engaging a cappella performance experience for our audiences. We choose arrangements that are snazzy\, melodic\, unique. Our repertoire includes jazz\, pop and contemporary styles of music. \nIt’s part of our mission to make a cappella entertainment accessible for fundraisers\, schools and other good causes. Singing is not a day job for any of the “Broads\,” so we make service to non-profits our performance priority. We are also very proud to have been selected to perform the National Anthem for the Boston Celtics (5 times and counting) and the Boston Red Sox.
URL:https://harvardsquare.com/event/broadband/
LOCATION:Passim\, 47 Palmer Street\, Cambridge\, MA\, 02138\, United States
CATEGORIES:Live Music
ATTACH;FMTTYPE=image/png:https://harvardsquare.com/wp-content/uploads/2026/03/Screenshot-2026-03-25-143317.png
END:VEVENT
END:VCALENDAR