BEGIN:VCALENDAR
VERSION:2.0
PRODID:-//Harvard Square Business Association - ECPv6.15.20//NONSGML v1.0//EN
CALSCALE:GREGORIAN
METHOD:PUBLISH
X-WR-CALNAME:Harvard Square Business Association
X-ORIGINAL-URL:https://harvardsquare.com
X-WR-CALDESC:Events for Harvard Square Business Association
REFRESH-INTERVAL;VALUE=DURATION:PT1H
X-Robots-Tag:noindex
X-PUBLISHED-TTL:PT1H
BEGIN:VTIMEZONE
TZID:America/New_York
BEGIN:DAYLIGHT
TZOFFSETFROM:-0500
TZOFFSETTO:-0400
TZNAME:EDT
DTSTART:20250309T070000
END:DAYLIGHT
BEGIN:STANDARD
TZOFFSETFROM:-0400
TZOFFSETTO:-0500
TZNAME:EST
DTSTART:20251102T060000
END:STANDARD
BEGIN:DAYLIGHT
TZOFFSETFROM:-0500
TZOFFSETTO:-0400
TZNAME:EDT
DTSTART:20260308T070000
END:DAYLIGHT
BEGIN:STANDARD
TZOFFSETFROM:-0400
TZOFFSETTO:-0500
TZNAME:EST
DTSTART:20261101T060000
END:STANDARD
BEGIN:DAYLIGHT
TZOFFSETFROM:-0500
TZOFFSETTO:-0400
TZNAME:EDT
DTSTART:20270314T070000
END:DAYLIGHT
BEGIN:STANDARD
TZOFFSETFROM:-0400
TZOFFSETTO:-0500
TZNAME:EST
DTSTART:20271107T060000
END:STANDARD
END:VTIMEZONE
BEGIN:VEVENT
DTSTART;TZID=America/New_York:20260515T190000
DTEND;TZID=America/New_York:20260515T190000
DTSTAMP:20260423T173830
CREATED:20260414T184131Z
LAST-MODIFIED:20260414T184142Z
UID:63225-1778871600-1778871600@harvardsquare.com
SUMMARY:Caiola
DESCRIPTION:Jordan Caiola (CAI•OLA) is a songwriter/musician/producer based out of Philadelphia. He founded the indie rock band Mo Lowda & The Humble in 2010 and\, due to its intense touring schedule\, the band became his main priority along with his side project NightSeason (founded in 2016) – an indie/electro-pop producer duo. Though he always felt writing folk songs was his true “wheelhouse”\, it wasn’t until the nationwide lockdown in early 2020 that he finally put aside the time to record a collection of those songs for his first solo album ‘Only Real When Shared’. His second record\, a more mature and textural follow up entitled\, ‘This Could Be Everything’\, was released August 2nd\, 2024 and is streaming everywhere.
URL:https://harvardsquare.com/event/caiola/
LOCATION:Passim\, 47 Palmer Street\, Cambridge\, MA\, 02138\, United States
CATEGORIES:Live Music
ATTACH;FMTTYPE=image/png:https://harvardsquare.com/wp-content/uploads/2026/04/Screenshot-2026-04-14-144056.png
END:VEVENT
END:VCALENDAR