BEGIN:VCALENDAR
VERSION:2.0
PRODID:-//Harvard Square Business Association - ECPv6.15.20//NONSGML v1.0//EN
CALSCALE:GREGORIAN
METHOD:PUBLISH
X-WR-CALNAME:Harvard Square Business Association
X-ORIGINAL-URL:https://harvardsquare.com
X-WR-CALDESC:Events for Harvard Square Business Association
REFRESH-INTERVAL;VALUE=DURATION:PT1H
X-Robots-Tag:noindex
X-PUBLISHED-TTL:PT1H
BEGIN:VTIMEZONE
TZID:America/New_York
BEGIN:DAYLIGHT
TZOFFSETFROM:-0500
TZOFFSETTO:-0400
TZNAME:EDT
DTSTART:20250309T070000
END:DAYLIGHT
BEGIN:STANDARD
TZOFFSETFROM:-0400
TZOFFSETTO:-0500
TZNAME:EST
DTSTART:20251102T060000
END:STANDARD
BEGIN:DAYLIGHT
TZOFFSETFROM:-0500
TZOFFSETTO:-0400
TZNAME:EDT
DTSTART:20260308T070000
END:DAYLIGHT
BEGIN:STANDARD
TZOFFSETFROM:-0400
TZOFFSETTO:-0500
TZNAME:EST
DTSTART:20261101T060000
END:STANDARD
BEGIN:DAYLIGHT
TZOFFSETFROM:-0500
TZOFFSETTO:-0400
TZNAME:EDT
DTSTART:20270314T070000
END:DAYLIGHT
BEGIN:STANDARD
TZOFFSETFROM:-0400
TZOFFSETTO:-0500
TZNAME:EST
DTSTART:20271107T060000
END:STANDARD
END:VTIMEZONE
BEGIN:VEVENT
DTSTART;TZID=America/New_York:20260508T190000
DTEND;TZID=America/New_York:20260508T190000
DTSTAMP:20260422T044644
CREATED:20260414T174706Z
LAST-MODIFIED:20260414T174706Z
UID:63212-1778266800-1778266800@harvardsquare.com
SUMMARY:Elizabeth Preston at Harvard Book Store
DESCRIPTION:Harvard Book Store welcomes Elizabeth Preston—award-winning science journalist\, who contributes regularly to The New York Times and The Boston Globe\, and has written for publications including Science and National Geographic—for a discussion of her new book\, The Creatures’ Guide to Caring: How Animal Parents Teach Us That Humans Were Born to Care. She will be joined in conversation by Cynthia Graber—co-host/co-founder of the internationally popular and acclaimed podcast Gastropod and instructor in the MIT Graduate Program in Science Writing.
URL:https://harvardsquare.com/event/elizabeth-preston-at-harvard-book-store/
LOCATION:Harvard Book Store\, 1256 Massachusetts Ave\, Cambridge\, 02138\, United States
CATEGORIES:Author Events
ATTACH;FMTTYPE=image/png:https://harvardsquare.com/wp-content/uploads/2026/04/Elizabeth-Preston-Photo-Credit-Kristin-Chalmers.png
END:VEVENT
END:VCALENDAR