BEGIN:VCALENDAR
VERSION:2.0
PRODID:-//Harvard Square Business Association - ECPv6.15.20//NONSGML v1.0//EN
CALSCALE:GREGORIAN
METHOD:PUBLISH
X-WR-CALNAME:Harvard Square Business Association
X-ORIGINAL-URL:https://harvardsquare.com
X-WR-CALDESC:Events for Harvard Square Business Association
REFRESH-INTERVAL;VALUE=DURATION:PT1H
X-Robots-Tag:noindex
X-PUBLISHED-TTL:PT1H
BEGIN:VTIMEZONE
TZID:America/New_York
BEGIN:DAYLIGHT
TZOFFSETFROM:-0500
TZOFFSETTO:-0400
TZNAME:EDT
DTSTART:20250309T070000
END:DAYLIGHT
BEGIN:STANDARD
TZOFFSETFROM:-0400
TZOFFSETTO:-0500
TZNAME:EST
DTSTART:20251102T060000
END:STANDARD
BEGIN:DAYLIGHT
TZOFFSETFROM:-0500
TZOFFSETTO:-0400
TZNAME:EDT
DTSTART:20260308T070000
END:DAYLIGHT
BEGIN:STANDARD
TZOFFSETFROM:-0400
TZOFFSETTO:-0500
TZNAME:EST
DTSTART:20261101T060000
END:STANDARD
BEGIN:DAYLIGHT
TZOFFSETFROM:-0500
TZOFFSETTO:-0400
TZNAME:EDT
DTSTART:20270314T070000
END:DAYLIGHT
BEGIN:STANDARD
TZOFFSETFROM:-0400
TZOFFSETTO:-0500
TZNAME:EST
DTSTART:20271107T060000
END:STANDARD
END:VTIMEZONE
BEGIN:VEVENT
DTSTART;TZID=America/New_York:20260331T170000
DTEND;TZID=America/New_York:20260331T170000
DTSTAMP:20260423T160446
CREATED:20260325T172648Z
LAST-MODIFIED:20260325T172655Z
UID:62618-1774976400-1774976400@harvardsquare.com
SUMMARY:Emily Scott Robinson
DESCRIPTION:On her third album with Oh Boy Records\, and her fifth since beginning her career a decade ago\, Emily Scott Robinson once again unveils her mastery as a performer and storyteller. With her 2026 release Appalachia — recorded at Dreamland Recording Studios with Grammy-nominated producer Josh Kaufman — Robinson opens herself up to experimentation and sings in her crystal-clear voice about resilience\, love\, grief and hope. \nRobinson’s talent is no surprise to the music industry — she’s now a veteran touring artist\, both at home and abroad. Her records Traveling Mercies (2019) and American Siren (2021) each landed high on Rolling Stone’s “Best Country and Americana Albums” and Stereogum’s “10 Best Country Albums” year-end lists. She’s been lauded by the Washington Post\, Billboard\, American Songwriter and No Depression\, and earned the 19th spot on NPR’s “100 Best Songs of 2021” with her song “Let ‘Em Burn.”
URL:https://harvardsquare.com/event/emily-scott-robinson/
LOCATION:Passim\, 47 Palmer Street\, Cambridge\, MA\, 02138\, United States
CATEGORIES:Live Music
ATTACH;FMTTYPE=image/png:https://harvardsquare.com/wp-content/uploads/2026/03/Screenshot-2026-03-25-132618.png
END:VEVENT
END:VCALENDAR