BEGIN:VCALENDAR
VERSION:2.0
PRODID:-//Harvard Square Business Association - ECPv6.15.20//NONSGML v1.0//EN
CALSCALE:GREGORIAN
METHOD:PUBLISH
X-WR-CALNAME:Harvard Square Business Association
X-ORIGINAL-URL:https://harvardsquare.com
X-WR-CALDESC:Events for Harvard Square Business Association
REFRESH-INTERVAL;VALUE=DURATION:PT1H
X-Robots-Tag:noindex
X-PUBLISHED-TTL:PT1H
BEGIN:VTIMEZONE
TZID:America/New_York
BEGIN:DAYLIGHT
TZOFFSETFROM:-0500
TZOFFSETTO:-0400
TZNAME:EDT
DTSTART:20250309T070000
END:DAYLIGHT
BEGIN:STANDARD
TZOFFSETFROM:-0400
TZOFFSETTO:-0500
TZNAME:EST
DTSTART:20251102T060000
END:STANDARD
BEGIN:DAYLIGHT
TZOFFSETFROM:-0500
TZOFFSETTO:-0400
TZNAME:EDT
DTSTART:20260308T070000
END:DAYLIGHT
BEGIN:STANDARD
TZOFFSETFROM:-0400
TZOFFSETTO:-0500
TZNAME:EST
DTSTART:20261101T060000
END:STANDARD
BEGIN:DAYLIGHT
TZOFFSETFROM:-0500
TZOFFSETTO:-0400
TZNAME:EDT
DTSTART:20270314T070000
END:DAYLIGHT
BEGIN:STANDARD
TZOFFSETFROM:-0400
TZOFFSETTO:-0500
TZNAME:EST
DTSTART:20271107T060000
END:STANDARD
END:VTIMEZONE
BEGIN:VEVENT
DTSTART;TZID=America/New_York:20260215T160000
DTEND;TZID=America/New_York:20260215T160000
DTSTAMP:20260420T094742
CREATED:20260211T173318Z
LAST-MODIFIED:20260211T173343Z
UID:61447-1771171200-1771171200@harvardsquare.com
SUMMARY:Farewell Unkind: Songs and Dances by John Dowland | Boston Camerata
DESCRIPTION:ohn Dowland: The most eminent lutenist of his age\, a composer of unforgettable melodies\, and arguably the most famous English-musician of the day\, with music known and loved by people of all social classes and callings. After a long hiatus\, enriched by other musical discoveries\, The Boston Camerata is eager to return to Dowland’s compelling repertoire. Most especially this year\, as 2026 marks the 400th anniversary of his death. Dowland’s compositions are precious jewels. In a few measures\, these pieces\, deceptively accessible and simple\, unlock worlds of beauty and of tender emotion without pair.
URL:https://harvardsquare.com/event/farewell-unkind-songs-and-dances-by-john-dowland-boston-camerata/
LOCATION:Edward M Pickman Hall\, 27 Garden St\, Cambridge\, 02138\, United States
CATEGORIES:Live Music
ATTACH;FMTTYPE=image/png:https://harvardsquare.com/wp-content/uploads/2026/02/Screenshot-2026-02-11-122928.png
END:VEVENT
END:VCALENDAR