BEGIN:VCALENDAR
VERSION:2.0
PRODID:-//Harvard Square Business Association - ECPv6.15.20//NONSGML v1.0//EN
CALSCALE:GREGORIAN
METHOD:PUBLISH
X-WR-CALNAME:Harvard Square Business Association
X-ORIGINAL-URL:https://harvardsquare.com
X-WR-CALDESC:Events for Harvard Square Business Association
REFRESH-INTERVAL;VALUE=DURATION:PT1H
X-Robots-Tag:noindex
X-PUBLISHED-TTL:PT1H
BEGIN:VTIMEZONE
TZID:America/New_York
BEGIN:DAYLIGHT
TZOFFSETFROM:-0500
TZOFFSETTO:-0400
TZNAME:EDT
DTSTART:20250309T070000
END:DAYLIGHT
BEGIN:STANDARD
TZOFFSETFROM:-0400
TZOFFSETTO:-0500
TZNAME:EST
DTSTART:20251102T060000
END:STANDARD
BEGIN:DAYLIGHT
TZOFFSETFROM:-0500
TZOFFSETTO:-0400
TZNAME:EDT
DTSTART:20260308T070000
END:DAYLIGHT
BEGIN:STANDARD
TZOFFSETFROM:-0400
TZOFFSETTO:-0500
TZNAME:EST
DTSTART:20261101T060000
END:STANDARD
BEGIN:DAYLIGHT
TZOFFSETFROM:-0500
TZOFFSETTO:-0400
TZNAME:EDT
DTSTART:20270314T070000
END:DAYLIGHT
BEGIN:STANDARD
TZOFFSETFROM:-0400
TZOFFSETTO:-0500
TZNAME:EST
DTSTART:20271107T060000
END:STANDARD
END:VTIMEZONE
BEGIN:VEVENT
DTSTART;TZID=America/New_York:20260422T183000
DTEND;TZID=America/New_York:20260422T213000
DTSTAMP:20260419T090700
CREATED:20260417T202415Z
LAST-MODIFIED:20260417T202415Z
UID:63425-1776882600-1776893400@harvardsquare.com
SUMMARY:Film Screening: Part 1
DESCRIPTION:A two-part screening across two evenings — a space to watch and reflect together \nAs I Was Moving Ahead Occasionally I Saw Brief Glimpses of Beauty by Jonas Mekas \nJoin us for a rare viewing of this 4 hour 48 minute experimental film by Lithuanian filmmaker and poet Jonas Mekas\, a central figure in diaristic filmmaking. In this composition of home-movie fragments\, passing moments\, and seasons of life assembled over 30 years there is no single narrative to follow. Instead\, the film moves like memory itself: intimate\, drifting\, attentive to the beauty of ordinary life. \nRegistration required. Limited seating available. \n\n\n\n\n\n\n\n\nGuests are welcome to attend one or both screenings. \nLight concessions will be available for purchase at the event. \nFollowing each screening\, there will be an optional\, casual discussion facilitated by Spring 2026 Artist-in-Residence Alyson Wong. Feel free to join or head out whenever. \nFilm screening courtesy of the Mekas Estate.
URL:https://harvardsquare.com/event/film-screening-part-1/
LOCATION:Still Life Studios\, 187 Mount Auburn Street\, Cambridge\, MA\, 02138\, United States
CATEGORIES:Discussion,Movies & Museums
ATTACH;FMTTYPE=image/png:https://harvardsquare.com/wp-content/uploads/2026/04/Screenshot-2026-04-17-162318.png
END:VEVENT
END:VCALENDAR