BEGIN:VCALENDAR
VERSION:2.0
PRODID:-//Harvard Square Business Association - ECPv6.15.20//NONSGML v1.0//EN
CALSCALE:GREGORIAN
METHOD:PUBLISH
X-WR-CALNAME:Harvard Square Business Association
X-ORIGINAL-URL:https://harvardsquare.com
X-WR-CALDESC:Events for Harvard Square Business Association
REFRESH-INTERVAL;VALUE=DURATION:PT1H
X-Robots-Tag:noindex
X-PUBLISHED-TTL:PT1H
BEGIN:VTIMEZONE
TZID:America/New_York
BEGIN:DAYLIGHT
TZOFFSETFROM:-0500
TZOFFSETTO:-0400
TZNAME:EDT
DTSTART:20250309T070000
END:DAYLIGHT
BEGIN:STANDARD
TZOFFSETFROM:-0400
TZOFFSETTO:-0500
TZNAME:EST
DTSTART:20251102T060000
END:STANDARD
BEGIN:DAYLIGHT
TZOFFSETFROM:-0500
TZOFFSETTO:-0400
TZNAME:EDT
DTSTART:20260308T070000
END:DAYLIGHT
BEGIN:STANDARD
TZOFFSETFROM:-0400
TZOFFSETTO:-0500
TZNAME:EST
DTSTART:20261101T060000
END:STANDARD
BEGIN:DAYLIGHT
TZOFFSETFROM:-0500
TZOFFSETTO:-0400
TZNAME:EDT
DTSTART:20270314T070000
END:DAYLIGHT
BEGIN:STANDARD
TZOFFSETFROM:-0400
TZOFFSETTO:-0500
TZNAME:EST
DTSTART:20271107T060000
END:STANDARD
END:VTIMEZONE
BEGIN:VEVENT
DTSTART;TZID=America/New_York:20260314T220000
DTEND;TZID=America/New_York:20260314T220000
DTSTAMP:20260423T125536
CREATED:20260225T212431Z
LAST-MODIFIED:20260225T212431Z
UID:61828-1773525600-1773525600@harvardsquare.com
SUMMARY:fruitstand presents: Now That’s What I Call Gay! 2000s
DESCRIPTION:$15 cash cover\, $10 for first 100 RSVPs.\n21+ full bar. Consent is sexy. This event will have flashing lights. \nHi\, we’re fruitstand your new favorite queer nightlife event! find us in Cambridge and Somerville hosting highly curated dance parties with DJ Frazzo playing the queer bops you know and love. We’ll bring the intimacy of a house party and a space where you can be your full authentic self so come mingle and let loose!
URL:https://harvardsquare.com/event/fruitstand-presents-now-thats-what-i-call-gay-2000s/
LOCATION:The Sinclair\, 52 Church St\, Cambridge\, Cambridge\, MA\, 02138\, United States
ATTACH;FMTTYPE=image/jpeg:https://harvardsquare.com/wp-content/uploads/2026/02/fruitstand-presents-now-thatys-what-i-call-gay-2000s-tickets_03-14-26_17_699f210320c1a.jpg
END:VEVENT
END:VCALENDAR