BEGIN:VCALENDAR
VERSION:2.0
PRODID:-//Harvard Square Business Association - ECPv6.15.20//NONSGML v1.0//EN
CALSCALE:GREGORIAN
METHOD:PUBLISH
X-WR-CALNAME:Harvard Square Business Association
X-ORIGINAL-URL:https://harvardsquare.com
X-WR-CALDESC:Events for Harvard Square Business Association
REFRESH-INTERVAL;VALUE=DURATION:PT1H
X-Robots-Tag:noindex
X-PUBLISHED-TTL:PT1H
BEGIN:VTIMEZONE
TZID:America/New_York
BEGIN:DAYLIGHT
TZOFFSETFROM:-0500
TZOFFSETTO:-0400
TZNAME:EDT
DTSTART:20250309T070000
END:DAYLIGHT
BEGIN:STANDARD
TZOFFSETFROM:-0400
TZOFFSETTO:-0500
TZNAME:EST
DTSTART:20251102T060000
END:STANDARD
BEGIN:DAYLIGHT
TZOFFSETFROM:-0500
TZOFFSETTO:-0400
TZNAME:EDT
DTSTART:20260308T070000
END:DAYLIGHT
BEGIN:STANDARD
TZOFFSETFROM:-0400
TZOFFSETTO:-0500
TZNAME:EST
DTSTART:20261101T060000
END:STANDARD
BEGIN:DAYLIGHT
TZOFFSETFROM:-0500
TZOFFSETTO:-0400
TZNAME:EDT
DTSTART:20270314T070000
END:DAYLIGHT
BEGIN:STANDARD
TZOFFSETFROM:-0400
TZOFFSETTO:-0500
TZNAME:EST
DTSTART:20271107T060000
END:STANDARD
END:VTIMEZONE
BEGIN:VEVENT
DTSTART;TZID=America/New_York:20260611T123000
DTEND;TZID=America/New_York:20260611T130000
DTSTAMP:20260422T083333
CREATED:20260415T194729Z
LAST-MODIFIED:20260415T194729Z
UID:63338-1781181000-1781182800@harvardsquare.com
SUMMARY:Gallery Talk: American Works of Art at the 250th
DESCRIPTION:This event does not require registration; see further details below. \nFrom late January to early July 2026\, curator of American art Horace D. Ballard will lead a series of gallery talks to coincide with the 250th anniversary of the signing of the Declaration of Independence. Each talk will closely examine a work of art that speaks to the historical\, social\, and political contexts that continue to shape the events and ideas of the United States within the broader context of the colonial and political framework of the Americas. Please note that each month\, the work of art experienced will change. \nThis gallery talk is part of our New on View series\, highlighting recent gallery installations and presenting new insights into recent acquisitions or old favorites. \nLed by:\nHorace D. Ballard\, Theodore E. Stebbins\, Jr.\, Curator of American Art\, Division of European and American Art \nPlease check in with museum staff at the Visitor Services desk in the Calderwood Courtyard to request to join the gallery talk. Space is limited\, and talks are available on a first-come\, first-served basis; no registration is required.
URL:https://harvardsquare.com/event/gallery-talk-american-works-of-art-at-the-250th-2/
LOCATION:Harvard Art Museums\, 32 Quincy St\, Cambridge\, MA\, 02138\, United States
ATTACH;FMTTYPE=image/jpeg:https://harvardsquare.com/wp-content/uploads/2026/04/01KH6Q84BQM9Z0ZN88FPMZXEBF-hero.jpg
END:VEVENT
END:VCALENDAR