BEGIN:VCALENDAR
VERSION:2.0
PRODID:-//Harvard Square Business Association - ECPv6.15.20//NONSGML v1.0//EN
CALSCALE:GREGORIAN
METHOD:PUBLISH
X-WR-CALNAME:Harvard Square Business Association
X-ORIGINAL-URL:https://harvardsquare.com
X-WR-CALDESC:Events for Harvard Square Business Association
REFRESH-INTERVAL;VALUE=DURATION:PT1H
X-Robots-Tag:noindex
X-PUBLISHED-TTL:PT1H
BEGIN:VTIMEZONE
TZID:America/New_York
BEGIN:DAYLIGHT
TZOFFSETFROM:-0500
TZOFFSETTO:-0400
TZNAME:EDT
DTSTART:20250309T070000
END:DAYLIGHT
BEGIN:STANDARD
TZOFFSETFROM:-0400
TZOFFSETTO:-0500
TZNAME:EST
DTSTART:20251102T060000
END:STANDARD
BEGIN:DAYLIGHT
TZOFFSETFROM:-0500
TZOFFSETTO:-0400
TZNAME:EDT
DTSTART:20260308T070000
END:DAYLIGHT
BEGIN:STANDARD
TZOFFSETFROM:-0400
TZOFFSETTO:-0500
TZNAME:EST
DTSTART:20261101T060000
END:STANDARD
BEGIN:DAYLIGHT
TZOFFSETFROM:-0500
TZOFFSETTO:-0400
TZNAME:EDT
DTSTART:20270314T070000
END:DAYLIGHT
BEGIN:STANDARD
TZOFFSETFROM:-0400
TZOFFSETTO:-0500
TZNAME:EST
DTSTART:20271107T060000
END:STANDARD
END:VTIMEZONE
BEGIN:VEVENT
DTSTART;TZID=America/New_York:20260217T140000
DTEND;TZID=America/New_York:20260217T143000
DTSTAMP:20260420T112216
CREATED:20260211T193600Z
LAST-MODIFIED:20260211T193600Z
UID:61462-1771336800-1771338600@harvardsquare.com
SUMMARY:Gallery Talk: American Works of Art at the 250th
DESCRIPTION:From late January to early July 2026\, curator of American art Horace D. Ballard will lead a series of gallery talks to coincide with the 250th anniversary of the signing of the Declaration of Independence. Each talk will closely examine a work of art that speaks to the historical\, social\, and political contexts that continue to shape the events and ideas of the United States within the broader context of the colonial and political framework of the Americas. Please note that each month\, the work of art experienced will change.
URL:https://harvardsquare.com/event/gallery-talk-american-works-of-art-at-the-250th/
LOCATION:Harvard Art Museums\, 32 Quincy St\, Cambridge\, MA\, 02138\, United States
CATEGORIES:Discussion,Movies & Museums
ATTACH;FMTTYPE=image/png:https://harvardsquare.com/wp-content/uploads/2026/02/Screenshot-2026-02-11-143427.png
END:VEVENT
END:VCALENDAR