BEGIN:VCALENDAR
VERSION:2.0
PRODID:-//Harvard Square Business Association - ECPv6.15.20//NONSGML v1.0//EN
CALSCALE:GREGORIAN
METHOD:PUBLISH
X-WR-CALNAME:Harvard Square Business Association
X-ORIGINAL-URL:https://harvardsquare.com
X-WR-CALDESC:Events for Harvard Square Business Association
REFRESH-INTERVAL;VALUE=DURATION:PT1H
X-Robots-Tag:noindex
X-PUBLISHED-TTL:PT1H
BEGIN:VTIMEZONE
TZID:America/New_York
BEGIN:DAYLIGHT
TZOFFSETFROM:-0500
TZOFFSETTO:-0400
TZNAME:EDT
DTSTART:20250309T070000
END:DAYLIGHT
BEGIN:STANDARD
TZOFFSETFROM:-0400
TZOFFSETTO:-0500
TZNAME:EST
DTSTART:20251102T060000
END:STANDARD
BEGIN:DAYLIGHT
TZOFFSETFROM:-0500
TZOFFSETTO:-0400
TZNAME:EDT
DTSTART:20260308T070000
END:DAYLIGHT
BEGIN:STANDARD
TZOFFSETFROM:-0400
TZOFFSETTO:-0500
TZNAME:EST
DTSTART:20261101T060000
END:STANDARD
BEGIN:DAYLIGHT
TZOFFSETFROM:-0500
TZOFFSETTO:-0400
TZNAME:EDT
DTSTART:20270314T070000
END:DAYLIGHT
BEGIN:STANDARD
TZOFFSETFROM:-0400
TZOFFSETTO:-0500
TZNAME:EST
DTSTART:20271107T060000
END:STANDARD
END:VTIMEZONE
BEGIN:VEVENT
DTSTART;TZID=America/New_York:20260720T093000
DTEND;TZID=America/New_York:20260720T120000
DTSTAMP:20260420T160110
CREATED:20260406T194231Z
LAST-MODIFIED:20260406T194231Z
UID:10001799-1784539800-1784548800@harvardsquare.com
SUMMARY:Geology\, Gems\, and Jewelry
DESCRIPTION:For children entering grades 6–8. Red garnets\, purple amethyst\, blue turquoise—these jewels are actually naturally made rocks and minerals! Learn the geology behind your favorite gems. Then\, learn jewelry techniques to turn real rocks\, minerals\, and semi-precious stones into earrings\, necklaces\, pendants\, and more in this class that combines art with science.
URL:https://harvardsquare.com/event/geology-gems-and-jewelry/2026-07-20/
LOCATION:Harvard Museums of Science and Culture\, 11 Divinity Avenue\, Cambridge\, MA\, 02138\, United States
CATEGORIES:Classes
ATTACH;FMTTYPE=image/png:https://harvardsquare.com/wp-content/uploads/2026/04/Screenshot-2026-04-06-154200.png
END:VEVENT
END:VCALENDAR