BEGIN:VCALENDAR
VERSION:2.0
PRODID:-//Harvard Square Business Association - ECPv6.15.20//NONSGML v1.0//EN
CALSCALE:GREGORIAN
METHOD:PUBLISH
X-WR-CALNAME:Harvard Square Business Association
X-ORIGINAL-URL:https://harvardsquare.com
X-WR-CALDESC:Events for Harvard Square Business Association
REFRESH-INTERVAL;VALUE=DURATION:PT1H
X-Robots-Tag:noindex
X-PUBLISHED-TTL:PT1H
BEGIN:VTIMEZONE
TZID:America/New_York
BEGIN:DAYLIGHT
TZOFFSETFROM:-0500
TZOFFSETTO:-0400
TZNAME:EDT
DTSTART:20250309T070000
END:DAYLIGHT
BEGIN:STANDARD
TZOFFSETFROM:-0400
TZOFFSETTO:-0500
TZNAME:EST
DTSTART:20251102T060000
END:STANDARD
BEGIN:DAYLIGHT
TZOFFSETFROM:-0500
TZOFFSETTO:-0400
TZNAME:EDT
DTSTART:20260308T070000
END:DAYLIGHT
BEGIN:STANDARD
TZOFFSETFROM:-0400
TZOFFSETTO:-0500
TZNAME:EST
DTSTART:20261101T060000
END:STANDARD
BEGIN:DAYLIGHT
TZOFFSETFROM:-0500
TZOFFSETTO:-0400
TZNAME:EDT
DTSTART:20270314T070000
END:DAYLIGHT
BEGIN:STANDARD
TZOFFSETFROM:-0400
TZOFFSETTO:-0500
TZNAME:EST
DTSTART:20271107T060000
END:STANDARD
END:VTIMEZONE
BEGIN:VEVENT
DTSTART;TZID=America/New_York:20260528T170000
DTEND;TZID=America/New_York:20260528T210000
DTSTAMP:20260424T041306
CREATED:20260415T191129Z
LAST-MODIFIED:20260415T191129Z
UID:63333-1779987600-1780002000@harvardsquare.com
SUMMARY:Harvard Art Museums at Night
DESCRIPTION:Join us for an evening of art\, fun\, food\, and more! This event is free and open to everyone. \nGather with friends and mingle inside our Italian-inspired courtyard while taking in the smooth sounds from DJ C-Zone. Browse the museum shop and chat over a snack or drink for purchase from local vendors\, such as Dorchester Brewing Company. Stop by the Materials Lab for a fun art-making activity\, and then drop in on one of our Spotlight Tours. You’ll also get the chance to win prizes! And of course\, wander the galleries to take in our world-class art collections—over 50 galleries to explore! Don’t forget to check out our current exhibitions. \nHarvard Art Museums at Night takes place the last Thursday of every month (holidays permitting)\, from 5 to 9pm. Each night features a new mix of local talent and community partners to make this a festive occasion for all. \nWhen arriving\, enter via Quincy Street. In inclement weather\, please use the Prescott entrance as it provides extra shelter. Advance registration is encouraged\, but walk-in visitors are always welcome. Please note that space may be limited due to capacity. Registration opens two weeks before the event. \nVisit the museum website for the latest visitor policies and parking information. The Harvard Art Museums offer free admission every day\, Tuesday through Sunday. \nWBUR is the media partner for Harvard Art Museums at Night. This event is part of ArtsThursdays\, a university-wide initiative supported by Harvard University Committee on the Arts (HUCA).
URL:https://harvardsquare.com/event/harvard-art-museums-at-night-4/
LOCATION:Harvard Art Museums\, 32 Quincy St\, Cambridge\, MA\, 02138\, United States
ATTACH;FMTTYPE=image/jpeg:https://harvardsquare.com/wp-content/uploads/2026/04/056deaa03f376586-hero.jpg
END:VEVENT
END:VCALENDAR