BEGIN:VCALENDAR
VERSION:2.0
PRODID:-//Harvard Square Business Association - ECPv6.15.20//NONSGML v1.0//EN
CALSCALE:GREGORIAN
METHOD:PUBLISH
X-WR-CALNAME:Harvard Square Business Association
X-ORIGINAL-URL:https://harvardsquare.com
X-WR-CALDESC:Events for Harvard Square Business Association
REFRESH-INTERVAL;VALUE=DURATION:PT1H
X-Robots-Tag:noindex
X-PUBLISHED-TTL:PT1H
BEGIN:VTIMEZONE
TZID:America/New_York
BEGIN:DAYLIGHT
TZOFFSETFROM:-0500
TZOFFSETTO:-0400
TZNAME:EDT
DTSTART:20250309T070000
END:DAYLIGHT
BEGIN:STANDARD
TZOFFSETFROM:-0400
TZOFFSETTO:-0500
TZNAME:EST
DTSTART:20251102T060000
END:STANDARD
BEGIN:DAYLIGHT
TZOFFSETFROM:-0500
TZOFFSETTO:-0400
TZNAME:EDT
DTSTART:20260308T070000
END:DAYLIGHT
BEGIN:STANDARD
TZOFFSETFROM:-0400
TZOFFSETTO:-0500
TZNAME:EST
DTSTART:20261101T060000
END:STANDARD
BEGIN:DAYLIGHT
TZOFFSETFROM:-0500
TZOFFSETTO:-0400
TZNAME:EDT
DTSTART:20270314T070000
END:DAYLIGHT
BEGIN:STANDARD
TZOFFSETFROM:-0400
TZOFFSETTO:-0500
TZNAME:EST
DTSTART:20271107T060000
END:STANDARD
END:VTIMEZONE
BEGIN:VEVENT
DTSTART;TZID=America/New_York:20260424T223000
DTEND;TZID=America/New_York:20260424T223000
DTSTAMP:20260423T093021
CREATED:20260414T194750Z
LAST-MODIFIED:20260414T194802Z
UID:63245-1777069800-1777069800@harvardsquare.com
SUMMARY:Hokum
DESCRIPTION:When reclusive novelist Ohm Bauman (Adam Scott) retreats to a remote Irish inn to scatter his parents’ ashes\, the staff’s tales of an ancient witch haunting the honeymoon suite take hold of his mind. Soon\, disturbing visions and a shocking disappearance draw him into a nightmarish confrontation with the darkest corners of his past.
URL:https://harvardsquare.com/event/hokum/
LOCATION:The Brattle Theatre\, 40 Brattle St\, Cambridge\, MA\, 02138\, United States
CATEGORIES:Movies & Museums
ATTACH;FMTTYPE=image/png:https://harvardsquare.com/wp-content/uploads/2026/04/Screenshot-2026-04-14-154729.png
END:VEVENT
END:VCALENDAR