BEGIN:VCALENDAR
VERSION:2.0
PRODID:-//Harvard Square Business Association - ECPv6.15.20//NONSGML v1.0//EN
CALSCALE:GREGORIAN
METHOD:PUBLISH
X-WR-CALNAME:Harvard Square Business Association
X-ORIGINAL-URL:https://harvardsquare.com
X-WR-CALDESC:Events for Harvard Square Business Association
REFRESH-INTERVAL;VALUE=DURATION:PT1H
X-Robots-Tag:noindex
X-PUBLISHED-TTL:PT1H
BEGIN:VTIMEZONE
TZID:America/New_York
BEGIN:DAYLIGHT
TZOFFSETFROM:-0500
TZOFFSETTO:-0400
TZNAME:EDT
DTSTART:20250309T070000
END:DAYLIGHT
BEGIN:STANDARD
TZOFFSETFROM:-0400
TZOFFSETTO:-0500
TZNAME:EST
DTSTART:20251102T060000
END:STANDARD
BEGIN:DAYLIGHT
TZOFFSETFROM:-0500
TZOFFSETTO:-0400
TZNAME:EDT
DTSTART:20260308T070000
END:DAYLIGHT
BEGIN:STANDARD
TZOFFSETFROM:-0400
TZOFFSETTO:-0500
TZNAME:EST
DTSTART:20261101T060000
END:STANDARD
BEGIN:DAYLIGHT
TZOFFSETFROM:-0500
TZOFFSETTO:-0400
TZNAME:EDT
DTSTART:20270314T070000
END:DAYLIGHT
BEGIN:STANDARD
TZOFFSETFROM:-0400
TZOFFSETTO:-0500
TZNAME:EST
DTSTART:20271107T060000
END:STANDARD
END:VTIMEZONE
BEGIN:VEVENT
DTSTART;TZID=America/New_York:20260422T193000
DTEND;TZID=America/New_York:20260422T193000
DTSTAMP:20260420T063605
CREATED:20260401T201029Z
LAST-MODIFIED:20260401T201039Z
UID:62913-1776886200-1776886200@harvardsquare.com
SUMMARY:I Hate What You Love: A Music Video Comedy Show w/ host Ryan Shea
DESCRIPTION:I Hate What You Love\, hosted by local favorite Ryan Shea\, is a comedy show where our comedians take the stage armed with their jokes — but after they win over the crowd\, they have to face the music. Literally. After each comic’s performance\, they will sit and watch a music video from their childhood and be judged by the audience and host\, too. 18+
URL:https://harvardsquare.com/event/i-hate-what-you-love-a-music-video-comedy-show-w-host-ryan-shea/
LOCATION:The Comedy Studio\, 5 John F. Kennedy St\, Cambridge\, MA\, 02138\, United States
CATEGORIES:Comedy
ATTACH;FMTTYPE=image/png:https://harvardsquare.com/wp-content/uploads/2026/04/Screenshot-2026-04-01-161012.png
END:VEVENT
END:VCALENDAR