BEGIN:VCALENDAR
VERSION:2.0
PRODID:-//Harvard Square Business Association - ECPv6.15.20//NONSGML v1.0//EN
CALSCALE:GREGORIAN
METHOD:PUBLISH
X-WR-CALNAME:Harvard Square Business Association
X-ORIGINAL-URL:https://harvardsquare.com
X-WR-CALDESC:Events for Harvard Square Business Association
REFRESH-INTERVAL;VALUE=DURATION:PT1H
X-Robots-Tag:noindex
X-PUBLISHED-TTL:PT1H
BEGIN:VTIMEZONE
TZID:America/New_York
BEGIN:DAYLIGHT
TZOFFSETFROM:-0500
TZOFFSETTO:-0400
TZNAME:EDT
DTSTART:20250309T070000
END:DAYLIGHT
BEGIN:STANDARD
TZOFFSETFROM:-0400
TZOFFSETTO:-0500
TZNAME:EST
DTSTART:20251102T060000
END:STANDARD
BEGIN:DAYLIGHT
TZOFFSETFROM:-0500
TZOFFSETTO:-0400
TZNAME:EDT
DTSTART:20260308T070000
END:DAYLIGHT
BEGIN:STANDARD
TZOFFSETFROM:-0400
TZOFFSETTO:-0500
TZNAME:EST
DTSTART:20261101T060000
END:STANDARD
BEGIN:DAYLIGHT
TZOFFSETFROM:-0500
TZOFFSETTO:-0400
TZNAME:EDT
DTSTART:20270314T070000
END:DAYLIGHT
BEGIN:STANDARD
TZOFFSETFROM:-0400
TZOFFSETTO:-0500
TZNAME:EST
DTSTART:20271107T060000
END:STANDARD
END:VTIMEZONE
BEGIN:VEVENT
DTSTART;TZID=America/New_York:20260505T200000
DTEND;TZID=America/New_York:20260505T200000
DTSTAMP:20260423T092826
CREATED:20260414T171335Z
LAST-MODIFIED:20260414T171709Z
UID:63193-1778011200-1778011200@harvardsquare.com
SUMMARY:Joe Pernice
DESCRIPTION:Joe Pernice is a songwriter celebrated for his rare ability to pair luminous melodies with quietly devastating emotional depth. Over the course of a career spanning more than three decades\, Pernice has built a body of work that is literate\, melodic\, and enduring—music that reveals new layers with each listen. \nFirst gaining attention in the early 1990s with alt-country band Scud Mountain Boys\, Pernice later founded the Pernice Brothers\, a project that would firmly establish his reputation as one of the most refined songwriters of his generation. From the initial Overcome by Happiness and across numerous albums\, his songs have been marked by elegant arrangements\, strong pop instincts\, and lyrics that balance wit\, melancholy\, and narrative precision. Drawing from folk\, power pop\, and chamber pop traditions\, Pernice’s music feels both timeless and unmistakably personal. His collaborations with a range of musicians include Norman Blake (Teenage Fanclub)\, Joshua Karp\, Neko Case\, Aimee Mann\, and the iconic Jimmy Webb. \nCritics have consistently praised his work for its craftsmanship and emotional intelligence. Major publications including Rolling Stone\, Pitchfork\, Magnet\, The Guardian\, and Mojo have highlighted his gift for melody and his ability to cloak dark\, complex themes in deceptively beautiful songs.
URL:https://harvardsquare.com/event/joe-pernice/
LOCATION:Passim\, 47 Palmer Street\, Cambridge\, MA\, 02138\, United States
CATEGORIES:Live Music
ATTACH;FMTTYPE=image/png:https://harvardsquare.com/wp-content/uploads/2026/04/Screenshot-2026-04-14-131313.png
END:VEVENT
END:VCALENDAR