BEGIN:VCALENDAR
VERSION:2.0
PRODID:-//Harvard Square Business Association - ECPv6.15.20//NONSGML v1.0//EN
CALSCALE:GREGORIAN
METHOD:PUBLISH
X-WR-CALNAME:Harvard Square Business Association
X-ORIGINAL-URL:https://harvardsquare.com
X-WR-CALDESC:Events for Harvard Square Business Association
REFRESH-INTERVAL;VALUE=DURATION:PT1H
X-Robots-Tag:noindex
X-PUBLISHED-TTL:PT1H
BEGIN:VTIMEZONE
TZID:America/New_York
BEGIN:DAYLIGHT
TZOFFSETFROM:-0500
TZOFFSETTO:-0400
TZNAME:EDT
DTSTART:20250309T070000
END:DAYLIGHT
BEGIN:STANDARD
TZOFFSETFROM:-0400
TZOFFSETTO:-0500
TZNAME:EST
DTSTART:20251102T060000
END:STANDARD
BEGIN:DAYLIGHT
TZOFFSETFROM:-0500
TZOFFSETTO:-0400
TZNAME:EDT
DTSTART:20260308T070000
END:DAYLIGHT
BEGIN:STANDARD
TZOFFSETFROM:-0400
TZOFFSETTO:-0500
TZNAME:EST
DTSTART:20261101T060000
END:STANDARD
BEGIN:DAYLIGHT
TZOFFSETFROM:-0500
TZOFFSETTO:-0400
TZNAME:EDT
DTSTART:20270314T070000
END:DAYLIGHT
BEGIN:STANDARD
TZOFFSETFROM:-0400
TZOFFSETTO:-0500
TZNAME:EST
DTSTART:20271107T060000
END:STANDARD
END:VTIMEZONE
BEGIN:VEVENT
DTSTART;TZID=America/New_York:20260505T180000
DTEND;TZID=America/New_York:20260505T180000
DTSTAMP:20260419T083736
CREATED:20260414T174255Z
LAST-MODIFIED:20260414T174255Z
UID:63203-1778004000-1778004000@harvardsquare.com
SUMMARY:Laura Zigman at Harvard Book Store
DESCRIPTION:Harvard Book Store welcomes Laura Zigman—acclaimed author of Small World\, Separation Anxiety\, and Animal Husbandry—for a discussion of her highly anticipated new novel\, The Author Weekend. She will be joined in conversation by Alice Hoffman—bestselling author of thirty works of fiction\, including Practical Magic. 
URL:https://harvardsquare.com/event/laura-zigman-at-harvard-book-store/
LOCATION:Harvard Book Store\, 1256 Massachusetts Ave\, Cambridge\, 02138\, United States
CATEGORIES:Author Events
ATTACH;FMTTYPE=image/png:https://harvardsquare.com/wp-content/uploads/2026/04/Laura-Zigman1.png
END:VEVENT
END:VCALENDAR