BEGIN:VCALENDAR
VERSION:2.0
PRODID:-//Harvard Square Business Association - ECPv6.15.20//NONSGML v1.0//EN
CALSCALE:GREGORIAN
METHOD:PUBLISH
X-WR-CALNAME:Harvard Square Business Association
X-ORIGINAL-URL:https://harvardsquare.com
X-WR-CALDESC:Events for Harvard Square Business Association
REFRESH-INTERVAL;VALUE=DURATION:PT1H
X-Robots-Tag:noindex
X-PUBLISHED-TTL:PT1H
BEGIN:VTIMEZONE
TZID:America/New_York
BEGIN:DAYLIGHT
TZOFFSETFROM:-0500
TZOFFSETTO:-0400
TZNAME:EDT
DTSTART:20250309T070000
END:DAYLIGHT
BEGIN:STANDARD
TZOFFSETFROM:-0400
TZOFFSETTO:-0500
TZNAME:EST
DTSTART:20251102T060000
END:STANDARD
BEGIN:DAYLIGHT
TZOFFSETFROM:-0500
TZOFFSETTO:-0400
TZNAME:EDT
DTSTART:20260308T070000
END:DAYLIGHT
BEGIN:STANDARD
TZOFFSETFROM:-0400
TZOFFSETTO:-0500
TZNAME:EST
DTSTART:20261101T060000
END:STANDARD
BEGIN:DAYLIGHT
TZOFFSETFROM:-0500
TZOFFSETTO:-0400
TZNAME:EDT
DTSTART:20270314T070000
END:DAYLIGHT
BEGIN:STANDARD
TZOFFSETFROM:-0400
TZOFFSETTO:-0500
TZNAME:EST
DTSTART:20271107T060000
END:STANDARD
END:VTIMEZONE
BEGIN:VEVENT
DTSTART;TZID=America/New_York:20260509T190000
DTEND;TZID=America/New_York:20260509T190000
DTSTAMP:20260419T081910
CREATED:20260414T174622Z
LAST-MODIFIED:20260414T174631Z
UID:63210-1778353200-1778353200@harvardsquare.com
SUMMARY:Lyle Brewer
DESCRIPTION:Lyle Brewer is a guitarist and songwriter from Massachusetts. He has released several instrumental guitar records and has performed all over the country with such artists as Neighbor\, Ryan Montbleau and Lori McKenna. For the last decade Lyle has been a professor at Berklee College of Music in Boston. He has released three transcription books and maintains a hearty teaching schedule through his Patreon site. His solo show will consist of instrumental music from his most recent record Promise Ring\, as well as the previous albums Juno\, Get It Together and Hold On.
URL:https://harvardsquare.com/event/lyle-brewer/
LOCATION:Passim\, 47 Palmer Street\, Cambridge\, MA\, 02138\, United States
CATEGORIES:Live Music
ATTACH;FMTTYPE=image/png:https://harvardsquare.com/wp-content/uploads/2026/04/Screenshot-2026-04-14-134602.png
END:VEVENT
END:VCALENDAR