BEGIN:VCALENDAR
VERSION:2.0
PRODID:-//Harvard Square Business Association - ECPv6.15.20//NONSGML v1.0//EN
CALSCALE:GREGORIAN
METHOD:PUBLISH
X-WR-CALNAME:Harvard Square Business Association
X-ORIGINAL-URL:https://harvardsquare.com
X-WR-CALDESC:Events for Harvard Square Business Association
REFRESH-INTERVAL;VALUE=DURATION:PT1H
X-Robots-Tag:noindex
X-PUBLISHED-TTL:PT1H
BEGIN:VTIMEZONE
TZID:America/New_York
BEGIN:DAYLIGHT
TZOFFSETFROM:-0500
TZOFFSETTO:-0400
TZNAME:EDT
DTSTART:20250309T070000
END:DAYLIGHT
BEGIN:STANDARD
TZOFFSETFROM:-0400
TZOFFSETTO:-0500
TZNAME:EST
DTSTART:20251102T060000
END:STANDARD
BEGIN:DAYLIGHT
TZOFFSETFROM:-0500
TZOFFSETTO:-0400
TZNAME:EDT
DTSTART:20260308T070000
END:DAYLIGHT
BEGIN:STANDARD
TZOFFSETFROM:-0400
TZOFFSETTO:-0500
TZNAME:EST
DTSTART:20261101T060000
END:STANDARD
BEGIN:DAYLIGHT
TZOFFSETFROM:-0500
TZOFFSETTO:-0400
TZNAME:EDT
DTSTART:20270314T070000
END:DAYLIGHT
BEGIN:STANDARD
TZOFFSETFROM:-0400
TZOFFSETTO:-0500
TZNAME:EST
DTSTART:20271107T060000
END:STANDARD
END:VTIMEZONE
BEGIN:VEVENT
DTSTART;TZID=America/New_York:20260417T180000
DTEND;TZID=America/New_York:20260417T203000
DTSTAMP:20260425T062807
CREATED:20260416T200620Z
LAST-MODIFIED:20260416T200620Z
UID:63394-1776448800-1776457800@harvardsquare.com
SUMMARY:MAIN STAGE: Dancing Home | Palaver Strings | Artistic Partner
DESCRIPTION:Dancing Home explores themes of heritage\, belonging\, displacement\, and resilience through the lens of dance. At the heart of this program is ḥawwāsh by Kareem Roustom commissioned by Palaver Strings in 2024. Inspired by the ḥawwāsh\, or lead dancer of a traditional dabke dance\, this piece allows any musician to lead the ensemble at any given moment\, sharing fluid leadership through physical and sonic cues. This program also features Palaver’s arrangement of Bartok’s Romanian Dances\, original tunes by Maya French and Jamie Oshima\, and Kinan Azmeh’s Syrian Dances\, commissioned by Palaver in 2022. Dancing Home celebrates social dance as a meeting place for tradition and innovation\, and a vehicle for building resilience\, joy\, and trust. \nMain Stage Series\nMain Stage events are where the magic happens. Experience performances that inspire\, challenge\, and resonate long after the final note. You’ll hear bold artistic ideas and exceptional musicianship\, often featuring Longy’s distinguished faculty-artists and innovative artistic partners. Each event offers a rare opportunity to be part of artistry that is both inspirational in the moment and lasting in its impact.
URL:https://harvardsquare.com/event/main-stage-dancing-home-palaver-strings-artistic-partner/
LOCATION:Longy School of Music of Bard College\, 27 Garden St\, Cambridge\, MA\, 02138\, United States
CATEGORIES:Live Music
ATTACH;FMTTYPE=image/png:https://harvardsquare.com/wp-content/uploads/2026/04/18.png
END:VEVENT
END:VCALENDAR