BEGIN:VCALENDAR
VERSION:2.0
PRODID:-//Harvard Square Business Association - ECPv6.15.20//NONSGML v1.0//EN
CALSCALE:GREGORIAN
METHOD:PUBLISH
X-WR-CALNAME:Harvard Square Business Association
X-ORIGINAL-URL:https://harvardsquare.com
X-WR-CALDESC:Events for Harvard Square Business Association
REFRESH-INTERVAL;VALUE=DURATION:PT1H
X-Robots-Tag:noindex
X-PUBLISHED-TTL:PT1H
BEGIN:VTIMEZONE
TZID:America/New_York
BEGIN:DAYLIGHT
TZOFFSETFROM:-0500
TZOFFSETTO:-0400
TZNAME:EDT
DTSTART:20250309T070000
END:DAYLIGHT
BEGIN:STANDARD
TZOFFSETFROM:-0400
TZOFFSETTO:-0500
TZNAME:EST
DTSTART:20251102T060000
END:STANDARD
BEGIN:DAYLIGHT
TZOFFSETFROM:-0500
TZOFFSETTO:-0400
TZNAME:EDT
DTSTART:20260308T070000
END:DAYLIGHT
BEGIN:STANDARD
TZOFFSETFROM:-0400
TZOFFSETTO:-0500
TZNAME:EST
DTSTART:20261101T060000
END:STANDARD
BEGIN:DAYLIGHT
TZOFFSETFROM:-0500
TZOFFSETTO:-0400
TZNAME:EDT
DTSTART:20270314T070000
END:DAYLIGHT
BEGIN:STANDARD
TZOFFSETFROM:-0400
TZOFFSETTO:-0500
TZNAME:EST
DTSTART:20271107T060000
END:STANDARD
END:VTIMEZONE
BEGIN:VEVENT
DTSTART;TZID=America/New_York:20260326T190000
DTEND;TZID=America/New_York:20260326T200000
DTSTAMP:20260420T112041
CREATED:20260220T211055Z
LAST-MODIFIED:20260220T211055Z
UID:61624-1774551600-1774555200@harvardsquare.com
SUMMARY:Mary Buchinger\, Steven Schneider and William Wenthe with an introduction by Daniel Tobin
DESCRIPTION:Please join us for a poetry reading by Mary Buchinger\, Steven Schneider and William Wenthe with an introduction by Daniel Tobin. \n** This event will take place synchronously in-store at 6 Plympton Street and on Zoom **
URL:https://harvardsquare.com/event/mary-buchinger-steven-schneider-and-william-wenthe-with-an-introduction-by-daniel-tobin/
LOCATION:Grolier Poetry Book Shop\, 6 Plympton St\, Cambridge\, MA\, 02138\, United States
CATEGORIES:Author Events
ATTACH;FMTTYPE=image/png:https://harvardsquare.com/wp-content/uploads/2026/02/Screenshot-2026-02-20-161002.png
END:VEVENT
END:VCALENDAR