BEGIN:VCALENDAR
VERSION:2.0
PRODID:-//Harvard Square Business Association - ECPv6.15.20//NONSGML v1.0//EN
CALSCALE:GREGORIAN
METHOD:PUBLISH
X-WR-CALNAME:Harvard Square Business Association
X-ORIGINAL-URL:https://harvardsquare.com
X-WR-CALDESC:Events for Harvard Square Business Association
REFRESH-INTERVAL;VALUE=DURATION:PT1H
X-Robots-Tag:noindex
X-PUBLISHED-TTL:PT1H
BEGIN:VTIMEZONE
TZID:America/New_York
BEGIN:DAYLIGHT
TZOFFSETFROM:-0500
TZOFFSETTO:-0400
TZNAME:EDT
DTSTART:20250309T070000
END:DAYLIGHT
BEGIN:STANDARD
TZOFFSETFROM:-0400
TZOFFSETTO:-0500
TZNAME:EST
DTSTART:20251102T060000
END:STANDARD
BEGIN:DAYLIGHT
TZOFFSETFROM:-0500
TZOFFSETTO:-0400
TZNAME:EDT
DTSTART:20260308T070000
END:DAYLIGHT
BEGIN:STANDARD
TZOFFSETFROM:-0400
TZOFFSETTO:-0500
TZNAME:EST
DTSTART:20261101T060000
END:STANDARD
BEGIN:DAYLIGHT
TZOFFSETFROM:-0500
TZOFFSETTO:-0400
TZNAME:EDT
DTSTART:20270314T070000
END:DAYLIGHT
BEGIN:STANDARD
TZOFFSETFROM:-0400
TZOFFSETTO:-0500
TZNAME:EST
DTSTART:20271107T060000
END:STANDARD
END:VTIMEZONE
BEGIN:VEVENT
DTSTART;TZID=America/New_York:20260506T130000
DTEND;TZID=America/New_York:20260506T140000
DTSTAMP:20260423T104853
CREATED:20260421T152707Z
LAST-MODIFIED:20260421T152707Z
UID:63460-1778072400-1778076000@harvardsquare.com
SUMMARY:Memory Café Sing-Along
DESCRIPTION:Time & Location\n\n\nMay 06\, 2026\, 1:00 PM – 2:00 PM \nConcert Room\, 25 Lowell St\, Cambridge\, MA 02138\, USA \n\n\n\n\nEvent Details\n\n\n\nNSM is excited to offer Memory Café Sing-Alongs\, warm and welcoming events for those with memory loss or cognitive changes and their care partners. Enjoy an hour of familiar songs led by NSM faculty Joe Reid followed by refreshments and friendly conversation. \n \nFree to attend and open to all\, no diagnosis needed. Music\, community\, and treats await—come and sing along with us! \n​​ \nRSVP by filling out this form or calling (617) 492-8105.  (Please note: NSM does not have an accessible bathroom; our bathroom is up one flight of stairs\, and our building does not have an elevator.)
URL:https://harvardsquare.com/event/memory-cafe-sing-along/
LOCATION:New School of Music\, 25 Lowell St\, Cambridge\, MA\, 02138\, United States
CATEGORIES:Live Music
ATTACH;FMTTYPE=image/avif:https://harvardsquare.com/wp-content/uploads/2026/04/d8ae97_e3f72b2b176c410694c8d1c1605e7909mv2.avif
END:VEVENT
END:VCALENDAR