BEGIN:VCALENDAR
VERSION:2.0
PRODID:-//Harvard Square Business Association - ECPv6.15.20//NONSGML v1.0//EN
CALSCALE:GREGORIAN
METHOD:PUBLISH
X-WR-CALNAME:Harvard Square Business Association
X-ORIGINAL-URL:https://harvardsquare.com
X-WR-CALDESC:Events for Harvard Square Business Association
REFRESH-INTERVAL;VALUE=DURATION:PT1H
X-Robots-Tag:noindex
X-PUBLISHED-TTL:PT1H
BEGIN:VTIMEZONE
TZID:America/New_York
BEGIN:DAYLIGHT
TZOFFSETFROM:-0500
TZOFFSETTO:-0400
TZNAME:EDT
DTSTART:20250309T070000
END:DAYLIGHT
BEGIN:STANDARD
TZOFFSETFROM:-0400
TZOFFSETTO:-0500
TZNAME:EST
DTSTART:20251102T060000
END:STANDARD
BEGIN:DAYLIGHT
TZOFFSETFROM:-0500
TZOFFSETTO:-0400
TZNAME:EDT
DTSTART:20260308T070000
END:DAYLIGHT
BEGIN:STANDARD
TZOFFSETFROM:-0400
TZOFFSETTO:-0500
TZNAME:EST
DTSTART:20261101T060000
END:STANDARD
BEGIN:DAYLIGHT
TZOFFSETFROM:-0500
TZOFFSETTO:-0400
TZNAME:EDT
DTSTART:20270314T070000
END:DAYLIGHT
BEGIN:STANDARD
TZOFFSETFROM:-0400
TZOFFSETTO:-0500
TZNAME:EST
DTSTART:20271107T060000
END:STANDARD
END:VTIMEZONE
BEGIN:VEVENT
DTSTART;TZID=America/New_York:20260329T113000
DTEND;TZID=America/New_York:20260329T140000
DTSTAMP:20260420T111456
CREATED:20260223T205626Z
LAST-MODIFIED:20260223T205626Z
UID:61730-1774783800-1774792800@harvardsquare.com
SUMMARY:R&B Soul\, Lisa bello in the performance space
DESCRIPTION:Lisa Bello is a Boston/Brooklyn vocalist and songwriter with a sound rooted in jazz\, soul\, and late-night storytelling. A proud member of the Recording Academy\, she blends rich vocals with an improvisational spirit and timeless emotion. Her performances feel intimate\, cinematic\, and made for low lights and close listening. \n 
URL:https://harvardsquare.com/event/rb-soul-lisa-bello-in-the-performance-space/
LOCATION:Lou’s\, 13 Brattle St\, Cambridge\, MA\, 02138\, United States
CATEGORIES:Live Music
ATTACH;FMTTYPE=image/webp:https://harvardsquare.com/wp-content/uploads/2026/02/lisabello.webp
END:VEVENT
END:VCALENDAR