BEGIN:VCALENDAR
VERSION:2.0
PRODID:-//Harvard Square Business Association - ECPv6.15.20//NONSGML v1.0//EN
CALSCALE:GREGORIAN
METHOD:PUBLISH
X-WR-CALNAME:Harvard Square Business Association
X-ORIGINAL-URL:https://harvardsquare.com
X-WR-CALDESC:Events for Harvard Square Business Association
REFRESH-INTERVAL;VALUE=DURATION:PT1H
X-Robots-Tag:noindex
X-PUBLISHED-TTL:PT1H
BEGIN:VTIMEZONE
TZID:America/New_York
BEGIN:DAYLIGHT
TZOFFSETFROM:-0500
TZOFFSETTO:-0400
TZNAME:EDT
DTSTART:20250309T070000
END:DAYLIGHT
BEGIN:STANDARD
TZOFFSETFROM:-0400
TZOFFSETTO:-0500
TZNAME:EST
DTSTART:20251102T060000
END:STANDARD
BEGIN:DAYLIGHT
TZOFFSETFROM:-0500
TZOFFSETTO:-0400
TZNAME:EDT
DTSTART:20260308T070000
END:DAYLIGHT
BEGIN:STANDARD
TZOFFSETFROM:-0400
TZOFFSETTO:-0500
TZNAME:EST
DTSTART:20261101T060000
END:STANDARD
BEGIN:DAYLIGHT
TZOFFSETFROM:-0500
TZOFFSETTO:-0400
TZNAME:EDT
DTSTART:20270314T070000
END:DAYLIGHT
BEGIN:STANDARD
TZOFFSETFROM:-0400
TZOFFSETTO:-0500
TZNAME:EST
DTSTART:20271107T060000
END:STANDARD
END:VTIMEZONE
BEGIN:VEVENT
DTSTART;TZID=America/New_York:20260508T190000
DTEND;TZID=America/New_York:20260508T190000
DTSTAMP:20260423T140946
CREATED:20260416T210913Z
LAST-MODIFIED:20260416T210913Z
UID:63411-1778266800-1778266800@harvardsquare.com
SUMMARY:Score to Stage: Well Behaved Women | Class Performance
DESCRIPTION:Well-Behaved Women is a contemporary song cycle by Carmel Dean. It is a celebration of many historic women who fought to have their voices heard and bravely made their mark on the world. The Score to Stage Experience class brings these incredible stories to life through powerful\, emotional and often hysterical songs. Come find which stories are being told on Friday\, May 8 at 7:00 PM in Pickman Hall. Remember well-behaved women seldom make history. \nWELL-BEHAVED WOMEN is presented by arrangement with Concord Theatricals. www.concordtheatricals.com. Orchestrations by Lynn Shankel. Additional Lyrics by Miraim Laube
URL:https://harvardsquare.com/event/score-to-stage-well-behaved-women-class-performance/
LOCATION:Longy School of Music of Bard College\, 27 Garden St\, Cambridge\, MA\, 02138\, United States
ATTACH;FMTTYPE=image/jpeg:https://harvardsquare.com/wp-content/uploads/2026/04/Well-Behaved-Women-Poster.jpg
END:VEVENT
END:VCALENDAR