BEGIN:VCALENDAR
VERSION:2.0
PRODID:-//Harvard Square Business Association - ECPv6.15.20//NONSGML v1.0//EN
CALSCALE:GREGORIAN
METHOD:PUBLISH
X-WR-CALNAME:Harvard Square Business Association
X-ORIGINAL-URL:https://harvardsquare.com
X-WR-CALDESC:Events for Harvard Square Business Association
REFRESH-INTERVAL;VALUE=DURATION:PT1H
X-Robots-Tag:noindex
X-PUBLISHED-TTL:PT1H
BEGIN:VTIMEZONE
TZID:America/New_York
BEGIN:DAYLIGHT
TZOFFSETFROM:-0500
TZOFFSETTO:-0400
TZNAME:EDT
DTSTART:20250309T070000
END:DAYLIGHT
BEGIN:STANDARD
TZOFFSETFROM:-0400
TZOFFSETTO:-0500
TZNAME:EST
DTSTART:20251102T060000
END:STANDARD
BEGIN:DAYLIGHT
TZOFFSETFROM:-0500
TZOFFSETTO:-0400
TZNAME:EDT
DTSTART:20260308T070000
END:DAYLIGHT
BEGIN:STANDARD
TZOFFSETFROM:-0400
TZOFFSETTO:-0500
TZNAME:EST
DTSTART:20261101T060000
END:STANDARD
BEGIN:DAYLIGHT
TZOFFSETFROM:-0500
TZOFFSETTO:-0400
TZNAME:EDT
DTSTART:20270314T070000
END:DAYLIGHT
BEGIN:STANDARD
TZOFFSETFROM:-0400
TZOFFSETTO:-0500
TZNAME:EST
DTSTART:20271107T060000
END:STANDARD
END:VTIMEZONE
BEGIN:VEVENT
DTSTART;TZID=America/New_York:20260722T093000
DTEND;TZID=America/New_York:20260722T120000
DTSTAMP:20260420T181615
CREATED:20260406T192924Z
LAST-MODIFIED:20260406T193132Z
UID:10001796-1784712600-1784721600@harvardsquare.com
SUMMARY:Spineless Wonders
DESCRIPTION:For children entering grades 1–3. Explore the amazing world of insects\, spiders\, crabs\, and other invertebrates. Meet a tarantula\, search for millipedes\, and listen to the hiss of a giant cockroach. Invent a “superbug” to take home and compare to the feats of real invertebrates.
URL:https://harvardsquare.com/event/spineless-wonders/2026-07-22/
LOCATION:Harvard Museums of Science and Culture\, 11 Divinity Avenue\, Cambridge\, MA\, 02138\, United States
CATEGORIES:Classes,Discussion
ATTACH;FMTTYPE=image/png:https://harvardsquare.com/wp-content/uploads/2026/04/Screenshot-2026-04-06-152852.png
END:VEVENT
END:VCALENDAR