BEGIN:VCALENDAR
VERSION:2.0
PRODID:-//Harvard Square Business Association - ECPv6.15.20//NONSGML v1.0//EN
CALSCALE:GREGORIAN
METHOD:PUBLISH
X-WR-CALNAME:Harvard Square Business Association
X-ORIGINAL-URL:https://harvardsquare.com
X-WR-CALDESC:Events for Harvard Square Business Association
REFRESH-INTERVAL;VALUE=DURATION:PT1H
X-Robots-Tag:noindex
X-PUBLISHED-TTL:PT1H
BEGIN:VTIMEZONE
TZID:America/New_York
BEGIN:DAYLIGHT
TZOFFSETFROM:-0500
TZOFFSETTO:-0400
TZNAME:EDT
DTSTART:20250309T070000
END:DAYLIGHT
BEGIN:STANDARD
TZOFFSETFROM:-0400
TZOFFSETTO:-0500
TZNAME:EST
DTSTART:20251102T060000
END:STANDARD
BEGIN:DAYLIGHT
TZOFFSETFROM:-0500
TZOFFSETTO:-0400
TZNAME:EDT
DTSTART:20260308T070000
END:DAYLIGHT
BEGIN:STANDARD
TZOFFSETFROM:-0400
TZOFFSETTO:-0500
TZNAME:EST
DTSTART:20261101T060000
END:STANDARD
BEGIN:DAYLIGHT
TZOFFSETFROM:-0500
TZOFFSETTO:-0400
TZNAME:EDT
DTSTART:20270314T070000
END:DAYLIGHT
BEGIN:STANDARD
TZOFFSETFROM:-0400
TZOFFSETTO:-0500
TZNAME:EST
DTSTART:20271107T060000
END:STANDARD
END:VTIMEZONE
BEGIN:VEVENT
DTSTART;TZID=America/New_York:20260426T110000
DTEND;TZID=America/New_York:20260426T115000
DTSTAMP:20260419T112221
CREATED:20260415T171442Z
LAST-MODIFIED:20260415T171442Z
UID:63301-1777201200-1777204200@harvardsquare.com
SUMMARY:Spotlight Tour: Where Are We?\, with Varya Lyapneva ’26
DESCRIPTION:On this tour\, Varya Lyapneva ’26 will explore space\, mapping\, and dislocation in three works of art that visualize fantasy worlds. They are Nancy Graves’s lithograph Montes Apenninus Region of the Moon (1972)\, Charles Sheeler’s painting Upper Deck (1929)\, and Albert Bierstadt’s painting Rocky Mountains\, “Lander’s Peak” (1863).
URL:https://harvardsquare.com/event/spotlight-tour-where-are-we-with-varya-lyapneva-26/
LOCATION:Harvard Art Museums\, 32 Quincy St\, Cambridge\, MA\, 02138\, United States
ATTACH;FMTTYPE=image/jpeg:https://harvardsquare.com/wp-content/uploads/2026/04/01KHBZS2JWBK92K1S7FWGZ8112-hero.jpg
END:VEVENT
END:VCALENDAR