BEGIN:VCALENDAR
VERSION:2.0
PRODID:-//Harvard Square Business Association - ECPv6.15.20//NONSGML v1.0//EN
CALSCALE:GREGORIAN
METHOD:PUBLISH
X-WR-CALNAME:Harvard Square Business Association
X-ORIGINAL-URL:https://harvardsquare.com
X-WR-CALDESC:Events for Harvard Square Business Association
REFRESH-INTERVAL;VALUE=DURATION:PT1H
X-Robots-Tag:noindex
X-PUBLISHED-TTL:PT1H
BEGIN:VTIMEZONE
TZID:America/New_York
BEGIN:DAYLIGHT
TZOFFSETFROM:-0500
TZOFFSETTO:-0400
TZNAME:EDT
DTSTART:20250309T070000
END:DAYLIGHT
BEGIN:STANDARD
TZOFFSETFROM:-0400
TZOFFSETTO:-0500
TZNAME:EST
DTSTART:20251102T060000
END:STANDARD
BEGIN:DAYLIGHT
TZOFFSETFROM:-0500
TZOFFSETTO:-0400
TZNAME:EDT
DTSTART:20260308T070000
END:DAYLIGHT
BEGIN:STANDARD
TZOFFSETFROM:-0400
TZOFFSETTO:-0500
TZNAME:EST
DTSTART:20261101T060000
END:STANDARD
BEGIN:DAYLIGHT
TZOFFSETFROM:-0500
TZOFFSETTO:-0400
TZNAME:EDT
DTSTART:20270314T070000
END:DAYLIGHT
BEGIN:STANDARD
TZOFFSETFROM:-0400
TZOFFSETTO:-0500
TZNAME:EST
DTSTART:20271107T060000
END:STANDARD
END:VTIMEZONE
BEGIN:VEVENT
DTSTART;TZID=America/New_York:20260522T191500
DTEND;TZID=America/New_York:20260522T191500
DTSTAMP:20260424T160329
CREATED:20260421T183442Z
LAST-MODIFIED:20260421T183456Z
UID:63506-1779477300-1779477300@harvardsquare.com
SUMMARY:TCS presents: Abbas Wahab
DESCRIPTION:18+ w/ 2-Item Suggested Minimum. Please Arrive Early to Guarantee Seating. \nAbbas Wahab is a New York-based\, Canadian comedian and actor. He’s been featured on Just For Laughs and Edinburgh Fringe festivals\, and is best known most recently for his role as SWAT officer in M.Night Shyamalan’s TRAP. Wahab has also appeared in TV shows\, such as The Boys\, What We Do In The Shadows\, and Star Trek: Strange New Worlds. He has garnered a loyal following of over 350k fans on Instagram and TikTok. Abbas is best known for his viral “job interview” and “automotive marketing” series\, which parody the behind-the-scenes hiring and advertising of major brands. His comedic style has been described as electrifying and sharp\, with grounded storytelling. Don’t miss him on the road!
URL:https://harvardsquare.com/event/tcs-presents-abbas-wahab/
LOCATION:The Comedy Studio\, 5 John F. Kennedy St\, Cambridge\, MA\, 02138\, United States
CATEGORIES:Comedy
ATTACH;FMTTYPE=image/png:https://harvardsquare.com/wp-content/uploads/2026/04/Screenshot-2026-04-21-143420.png
END:VEVENT
END:VCALENDAR