BEGIN:VCALENDAR
VERSION:2.0
PRODID:-//Harvard Square Business Association - ECPv6.15.20//NONSGML v1.0//EN
CALSCALE:GREGORIAN
METHOD:PUBLISH
X-WR-CALNAME:Harvard Square Business Association
X-ORIGINAL-URL:https://harvardsquare.com
X-WR-CALDESC:Events for Harvard Square Business Association
REFRESH-INTERVAL;VALUE=DURATION:PT1H
X-Robots-Tag:noindex
X-PUBLISHED-TTL:PT1H
BEGIN:VTIMEZONE
TZID:America/New_York
BEGIN:DAYLIGHT
TZOFFSETFROM:-0500
TZOFFSETTO:-0400
TZNAME:EDT
DTSTART:20250309T070000
END:DAYLIGHT
BEGIN:STANDARD
TZOFFSETFROM:-0400
TZOFFSETTO:-0500
TZNAME:EST
DTSTART:20251102T060000
END:STANDARD
BEGIN:DAYLIGHT
TZOFFSETFROM:-0500
TZOFFSETTO:-0400
TZNAME:EDT
DTSTART:20260308T070000
END:DAYLIGHT
BEGIN:STANDARD
TZOFFSETFROM:-0400
TZOFFSETTO:-0500
TZNAME:EST
DTSTART:20261101T060000
END:STANDARD
BEGIN:DAYLIGHT
TZOFFSETFROM:-0500
TZOFFSETTO:-0400
TZNAME:EDT
DTSTART:20270314T070000
END:DAYLIGHT
BEGIN:STANDARD
TZOFFSETFROM:-0400
TZOFFSETTO:-0500
TZNAME:EST
DTSTART:20271107T060000
END:STANDARD
END:VTIMEZONE
BEGIN:VEVENT
DTSTART;TZID=America/New_York:20260302T190000
DTEND;TZID=America/New_York:20260302T210000
DTSTAMP:20260420T063150
CREATED:20260224T200640Z
LAST-MODIFIED:20260224T200640Z
UID:61775-1772478000-1772485200@harvardsquare.com
SUMMARY:The Heartless One Release Celebration with Emma Hamm
DESCRIPTION:  \n \nDeath has a body\, the witches have power\, and the stakes have never been higher—join us as we celebrate the release of The Heartless One with USA TODAY bestselling author Emma Hamm! Hear Emma share the process and inspiration behind the writing of the second book in her high-stakes romantasy trilogy.
URL:https://harvardsquare.com/event/the-heartless-one-release-celebration-with-emma-hamm/
LOCATION:Lovestruck Books
CATEGORIES:Author Events
ATTACH;FMTTYPE=image/png:https://harvardsquare.com/wp-content/uploads/2026/02/The_Heartless_One_Website_Simple.png
END:VEVENT
END:VCALENDAR