BEGIN:VCALENDAR
VERSION:2.0
PRODID:-//Harvard Square Business Association - ECPv6.15.20//NONSGML v1.0//EN
CALSCALE:GREGORIAN
METHOD:PUBLISH
X-WR-CALNAME:Harvard Square Business Association
X-ORIGINAL-URL:https://harvardsquare.com
X-WR-CALDESC:Events for Harvard Square Business Association
REFRESH-INTERVAL;VALUE=DURATION:PT1H
X-Robots-Tag:noindex
X-PUBLISHED-TTL:PT1H
BEGIN:VTIMEZONE
TZID:America/New_York
BEGIN:DAYLIGHT
TZOFFSETFROM:-0500
TZOFFSETTO:-0400
TZNAME:EDT
DTSTART:20250309T070000
END:DAYLIGHT
BEGIN:STANDARD
TZOFFSETFROM:-0400
TZOFFSETTO:-0500
TZNAME:EST
DTSTART:20251102T060000
END:STANDARD
BEGIN:DAYLIGHT
TZOFFSETFROM:-0500
TZOFFSETTO:-0400
TZNAME:EDT
DTSTART:20260308T070000
END:DAYLIGHT
BEGIN:STANDARD
TZOFFSETFROM:-0400
TZOFFSETTO:-0500
TZNAME:EST
DTSTART:20261101T060000
END:STANDARD
BEGIN:DAYLIGHT
TZOFFSETFROM:-0500
TZOFFSETTO:-0400
TZNAME:EDT
DTSTART:20270314T070000
END:DAYLIGHT
BEGIN:STANDARD
TZOFFSETFROM:-0400
TZOFFSETTO:-0500
TZNAME:EST
DTSTART:20271107T060000
END:STANDARD
END:VTIMEZONE
BEGIN:VEVENT
DTSTART;TZID=America/New_York:20260402T163000
DTEND;TZID=America/New_York:20260402T163000
DTSTAMP:20260419T095713
CREATED:20260402T170335Z
LAST-MODIFIED:20260402T170616Z
UID:62939-1775147400-1775147400@harvardsquare.com
SUMMARY:The Naked Gun
DESCRIPTION:In a sea of mediocre reboots\, this revival of THE NAKED GUN franchise succeeds where so many have failed. It is gloriously silly\, unabashedly gag fueled\, and effortlessly updated to the present. Taking over from the late\, great Leslie Nielsen\, Liam Neeson (clearly game to make fun of his own late career action hero status) stars as Lt. Frank Drebin Jr. following in his father’s footsteps as the LAPD’s resident supercop/idiot savant. \n 
URL:https://harvardsquare.com/event/the-naked-gun/
LOCATION:The Brattle Theatre\, 40 Brattle St\, Cambridge\, MA\, 02138\, United States
CATEGORIES:Movies & Museums
ATTACH;FMTTYPE=image/jpeg:https://harvardsquare.com/wp-content/uploads/2026/04/nakes-gun.jpg
END:VEVENT
END:VCALENDAR