BEGIN:VCALENDAR
VERSION:2.0
PRODID:-//Harvard Square Business Association - ECPv6.15.20//NONSGML v1.0//EN
CALSCALE:GREGORIAN
METHOD:PUBLISH
X-WR-CALNAME:Harvard Square Business Association
X-ORIGINAL-URL:https://harvardsquare.com
X-WR-CALDESC:Events for Harvard Square Business Association
REFRESH-INTERVAL;VALUE=DURATION:PT1H
X-Robots-Tag:noindex
X-PUBLISHED-TTL:PT1H
BEGIN:VTIMEZONE
TZID:America/New_York
BEGIN:DAYLIGHT
TZOFFSETFROM:-0500
TZOFFSETTO:-0400
TZNAME:EDT
DTSTART:20250309T070000
END:DAYLIGHT
BEGIN:STANDARD
TZOFFSETFROM:-0400
TZOFFSETTO:-0500
TZNAME:EST
DTSTART:20251102T060000
END:STANDARD
BEGIN:DAYLIGHT
TZOFFSETFROM:-0500
TZOFFSETTO:-0400
TZNAME:EDT
DTSTART:20260308T070000
END:DAYLIGHT
BEGIN:STANDARD
TZOFFSETFROM:-0400
TZOFFSETTO:-0500
TZNAME:EST
DTSTART:20261101T060000
END:STANDARD
BEGIN:DAYLIGHT
TZOFFSETFROM:-0500
TZOFFSETTO:-0400
TZNAME:EDT
DTSTART:20270314T070000
END:DAYLIGHT
BEGIN:STANDARD
TZOFFSETFROM:-0400
TZOFFSETTO:-0500
TZNAME:EST
DTSTART:20271107T060000
END:STANDARD
END:VTIMEZONE
BEGIN:VEVENT
DTSTART;TZID=America/New_York:20260225T183000
DTEND;TZID=America/New_York:20260225T183000
DTSTAMP:20260420T175331
CREATED:20260225T211523Z
LAST-MODIFIED:20260225T211626Z
UID:61802-1772044200-1772044200@harvardsquare.com
SUMMARY:Whethan
DESCRIPTION:For Whethan\, evolution happens in real-time. He doesn’t wait around or look back. Instead\, he forges ahead\, making the most of not only each song\, show\, and album\, but of every second\, minute\, hour\, and day. The gold-selling Chicago-based artist\, producer\, and remixer consistently canvases new creative territory from a place of pure curiosity. Committed to constant perpetual motion\, he never stops searching for peaks to summit and barriers to break. \n  \nOnce again\, he confidently pushes forward on a series of singles and his 2021 second full-length album for Atlantic Records. \n  \n“I’ve been in the electronic music community for a while\, but I’m really exploring now because I’m more comfortable with who I am\,” he reveals. “I’m growing up and experimenting at the same time. The music is exciting and real because of it. I want to keep evolving and reaching people who haven’t heard me.” \n  \nAt this point\, an awful lot of people have heard Whethan… \n  \nSince 2015\, he has quietly emerged as an influential and inescapable force in not only the electronic genre\, but popular music at large. Beyond tallying over 1 billion global streams and counting\, he notably became “the young artist ever on Australia’s Future Classics.”  He earned a gold single with “Good Nights” [feat. Mascolo] from 2018’s Life of a Wallflower\, Vol. 1 and notably collaborated with everyone from Dua Lipa\, Charli XCX\, and K.FLAY to Tom Morello of Rage Against The Machine\, Portugal. The Man\, Jeremih\, The Knocks\, and Wafia. During 2020\, he reached another high watermark with his debut album\, FANTASY.  It incited tastemaker applause courtesy of Billboard\, SPIN\, Earmilk\, Flaunt\, American Songwriter\, OnestoWatch\, Dancing Astronaut\, EDM.com\, ThisSongIsSick\, and more. Along the way\, he graced bills of marquee festivals such as Coachella\, Lollapalooza\, Outside Lands\, and Electric Daisy Carnival in addition to selling out a co-headliner at the legendary Red Rocks Amphitheatre and topping the lineup of MTV’s Snowglobe Music Festival. \n  \nAs he continued to create throughout the Global Pandemic\, advice from one of his heroes\, Skrillex\, echoed in the back of his mind. \n  \n“Skrillex told me you should make music for your inner child\,” he recalls. “That always stuck with me. It was a revelation. I want to always be excited about what I’m doing.” \n  \nAfter touring heavily for the last few years\, he maximized his time off the road. He produced five tracks on Oliver Tree’s critically acclaimed debut album\, Ugly Is Beautiful. Combing Soundcloud for music\, he immersed himself in the burgeoning hyperpop movement at the same time. \n  \n“After putting out FANTASY\, I took a break from my solo material\,” he elaborates. “I wanted to go outside of the box and work on all types of music. I knew doing that would lead me back to music as an artist.” \n  \nHis instincts proved correct. He reached out to rising hyperpop star Glaive and genre-bending ericdoa and cooked up the 2021 single “Think You Right.” On the track\, synths shift like tectonic plates underneath hypnotic vocal interplay. Meanwhile\, strings underscore a hook teeming with uncontainable energy. \n  \n“I was able to work with Glaive and ericdoa very naturally\,” he states. “I didn’t feel like I was sacrificing my sound or integrity. These guys were all about getting crazy with the production. They wanted me to be as Whethan as I could be. There was a ton of freedom\, so it’s a very special song to me. It’s a big moment. It’s pretty much what I want the next project to sound like. It absolutely set the tone.” \nWorking with the likes of Matt Ox\, midwxst\, Yeat\, Reocragun\, Slump6s\, and many more on tracks\, he continues to widen the scope of his sound. \n  \n“I hate doing the same thing twice\,” he affirms. “I love surprising people and keeping them on the edge of their seats. I want to make music that can be played for everyone on the biggest scale possible. I love synths\, crazy video game sounds\, and hard bass. Everything is a part of the next chapter.” \nIn the end\, this evolution services a higher calling for Whethan. \n  \n“When people hear my music\, I want them to party and dance\,” he leaves off. “I just hope they have a good time.”
URL:https://harvardsquare.com/event/whethan/
LOCATION:The Sinclair\, 52 Church St\, Cambridge\, Cambridge\, MA\, 02138\, United States
CATEGORIES:Live Music
ATTACH;FMTTYPE=image/jpeg:https://harvardsquare.com/wp-content/uploads/2026/02/whethan-tickets_03-14-26_17_69135ad367c5e.jpg
END:VEVENT
END:VCALENDAR