BEGIN:VCALENDAR
VERSION:2.0
PRODID:-//Harvard Square Business Association - ECPv6.15.20//NONSGML v1.0//EN
CALSCALE:GREGORIAN
METHOD:PUBLISH
X-WR-CALNAME:Harvard Square Business Association
X-ORIGINAL-URL:https://harvardsquare.com
X-WR-CALDESC:Events for Harvard Square Business Association
REFRESH-INTERVAL;VALUE=DURATION:PT1H
X-Robots-Tag:noindex
X-PUBLISHED-TTL:PT1H
BEGIN:VTIMEZONE
TZID:America/New_York
BEGIN:DAYLIGHT
TZOFFSETFROM:-0500
TZOFFSETTO:-0400
TZNAME:EDT
DTSTART:20250309T070000
END:DAYLIGHT
BEGIN:STANDARD
TZOFFSETFROM:-0400
TZOFFSETTO:-0500
TZNAME:EST
DTSTART:20251102T060000
END:STANDARD
BEGIN:DAYLIGHT
TZOFFSETFROM:-0500
TZOFFSETTO:-0400
TZNAME:EDT
DTSTART:20260308T070000
END:DAYLIGHT
BEGIN:STANDARD
TZOFFSETFROM:-0400
TZOFFSETTO:-0500
TZNAME:EST
DTSTART:20261101T060000
END:STANDARD
BEGIN:DAYLIGHT
TZOFFSETFROM:-0500
TZOFFSETTO:-0400
TZNAME:EDT
DTSTART:20270314T070000
END:DAYLIGHT
BEGIN:STANDARD
TZOFFSETFROM:-0400
TZOFFSETTO:-0500
TZNAME:EST
DTSTART:20271107T060000
END:STANDARD
END:VTIMEZONE
BEGIN:VEVENT
DTSTART;TZID=America/New_York:20260402T183000
DTEND;TZID=America/New_York:20260402T183000
DTSTAMP:20260420T130135
CREATED:20260220T221905Z
LAST-MODIFIED:20260220T221918Z
UID:61643-1775154600-1775154600@harvardsquare.com
SUMMARY:Wine Tasting 101: Introduction to the Wines of Vermont
DESCRIPTION:Step into the unique world of northeastern winemaking with “Wine Tasting 101 Introduction to the Wines of Vermont”\, an immersive and accessible class led by internationally acclaimed sommelier Bertil Jean-Chronberg at Bonde Fine Wine. \nOver 120 minutes\, explore Vermont’s pioneering wine culture\, its cold-climate grape varieties and Hybrids\, and discover how innovation and resilience have shaped one of the most distinctive wine regions in the United States. \nWhat to Expect: \n\nExplore Vermont’s unique terroirs\, climates\, and grape varieties\, including hybrid and cold-hardy selections.\nGuided tasting of representative Vermont wines to understand their aromatic profiles\, freshness\, and expressive character.\nGain practical tips for selecting\, appreciating\, and pairing Vermont wines at home.\n\nWhether you are completely new to wine or simply curious about Vermont’s dynamic wine scene\, this class is more than an introduction: it’s a sensory and educational journey into a bold and emerging winemaking culture. With Bertil’s signature expertise\, passion\, and welcoming approach\, every glass becomes an opportunity to learn\, enjoy\, and connect.\nLeave with the confidence to taste wine thoughtfully\, the curiosity to explore beyond the familiar\, and the joy of sharing an engaging\, interactive\, and memorable experience.
URL:https://harvardsquare.com/event/wine-tasting-101-introduction-to-the-wines-of-vermont/
LOCATION:Bonde Fine Wine Shop\, 54 Church St\, Cambridge\, MA\, 02138\, United States
CATEGORIES:Resturant Events
ATTACH;FMTTYPE=image/png:https://harvardsquare.com/wp-content/uploads/2026/02/Screenshot-2026-02-20-171834.png
END:VEVENT
END:VCALENDAR