BEGIN:VCALENDAR
VERSION:2.0
PRODID:-//Harvard Square Business Association - ECPv6.15.20//NONSGML v1.0//EN
CALSCALE:GREGORIAN
METHOD:PUBLISH
X-WR-CALNAME:Harvard Square Business Association
X-ORIGINAL-URL:https://harvardsquare.com
X-WR-CALDESC:Events for Harvard Square Business Association
REFRESH-INTERVAL;VALUE=DURATION:PT1H
X-Robots-Tag:noindex
X-PUBLISHED-TTL:PT1H
BEGIN:VTIMEZONE
TZID:America/New_York
BEGIN:DAYLIGHT
TZOFFSETFROM:-0500
TZOFFSETTO:-0400
TZNAME:EDT
DTSTART:20250309T070000
END:DAYLIGHT
BEGIN:STANDARD
TZOFFSETFROM:-0400
TZOFFSETTO:-0500
TZNAME:EST
DTSTART:20251102T060000
END:STANDARD
BEGIN:DAYLIGHT
TZOFFSETFROM:-0500
TZOFFSETTO:-0400
TZNAME:EDT
DTSTART:20260308T070000
END:DAYLIGHT
BEGIN:STANDARD
TZOFFSETFROM:-0400
TZOFFSETTO:-0500
TZNAME:EST
DTSTART:20261101T060000
END:STANDARD
BEGIN:DAYLIGHT
TZOFFSETFROM:-0500
TZOFFSETTO:-0400
TZNAME:EDT
DTSTART:20270314T070000
END:DAYLIGHT
BEGIN:STANDARD
TZOFFSETFROM:-0400
TZOFFSETTO:-0500
TZNAME:EST
DTSTART:20271107T060000
END:STANDARD
END:VTIMEZONE
BEGIN:VEVENT
DTSTART;TZID=America/New_York:20260409T080000
DTEND;TZID=America/New_York:20260419T170000
DTSTAMP:20260419T102430
CREATED:20260413T143942Z
LAST-MODIFIED:20260413T143942Z
UID:10001828-1775721600-1776618000@harvardsquare.com
SUMMARY:DESIGN + UX DESIGN
DESCRIPTION:Roberts Gallery: Design\nRaizes Gallery: UX Design\nExhibition Dates: April 9 – April 19\nReception: April 16\, 5–7 PM
URL:https://harvardsquare.com/event/design-ux-design/
LOCATION:Lesly University\, 29 Everett Street\, Cambridge\, 02138\, United States
ATTACH;FMTTYPE=image/jpeg:https://harvardsquare.com/wp-content/uploads/2026/04/Lesly-scaled.jpg
END:VEVENT
BEGIN:VEVENT
DTSTART;TZID=America/New_York:20260419T100000
DTEND;TZID=America/New_York:20260419T233000
DTSTAMP:20260419T102430
CREATED:20260402T185707Z
LAST-MODIFIED:20260402T185707Z
UID:10001774-1776592800-1776641400@harvardsquare.com
SUMMARY:April Awakening with Stefanie Haug
DESCRIPTION:Join Stefanie Haug (LICSW)\, ecotherapist and nature and meditation guide for April Awakening\, a mindful springtime nature walk designed to help you both slow down and “wake up.” Slowly walking together\, participants will engage in pausing to notice budding leaves\, shifting light\, and the quiet hum of renewal. Along the way\, you’ll be guided with simple meditative prompts to reconnect to your breath\, your senses\, and the subtle energy of new beginnings unfolding all around you. As the natural world stretches into bloom all around us\, feel your spirit awaken alongside it. \n\n\nCome as you are. Suitable for all ages and bodies and interests. Slow-paced walk around the cemetery with pauses and a chance to sit and observe. Bring water and something to sit on\, if desired. \nThis series will occur monthly\, offering a variety of events centered around awareness and nature\, featuring topics such as Forest Bathing\, Sound Meditation\, Nature Mindfulness\, and more. \nThis month’s session will be held outdoors\, please dress accordingly with the weather. \nCheck-in for this month’s event will be outside Story Chapel.
URL:https://harvardsquare.com/event/april-awakening-with-stefanie-haug/
LOCATION:Mount Auburn Cemetary
CATEGORIES:Classes
ATTACH;FMTTYPE=image/jpeg:https://harvardsquare.com/wp-content/uploads/2026/04/Nature-Nourishment-2048x1365-1.jpg
END:VEVENT
BEGIN:VEVENT
DTSTART;TZID=America/New_York:20260419T103000
DTEND;TZID=America/New_York:20260419T113000
DTSTAMP:20260419T102430
CREATED:20260415T163827Z
LAST-MODIFIED:20260415T163827Z
UID:10002161-1776594600-1776598200@harvardsquare.com
SUMMARY:Worship - "The Meaning of Our Tears"
DESCRIPTION:Sometimes life brings us to tears. But can those same tears also point us back to life’s blessings? What can we learn from our tears? What do they teach us? What do they mean? Rev. Rob Hardies preaching
URL:https://harvardsquare.com/event/worship-the-meaning-of-our-tears/
LOCATION:First Parish Church\, 1446 Massachusetts Ave.\, Cambridge\, MA\, 02138\, United States
ATTACH;FMTTYPE=image/webp:https://harvardsquare.com/wp-content/uploads/2026/04/FPWindowTopColorswWhiteText.webp
END:VEVENT
BEGIN:VEVENT
DTSTART;TZID=America/New_York:20260419T110000
DTEND;TZID=America/New_York:20260419T140000
DTSTAMP:20260419T102430
CREATED:20260331T172903Z
LAST-MODIFIED:20260331T172903Z
UID:10001727-1776596400-1776607200@harvardsquare.com
SUMMARY:drag brunch – APRIL – in the performance space
DESCRIPTION:Ages: 21+ \nCambridge… we’re taking it BACK. \nLou’s Brunch is taking it to the 90s — and baby\, it’s about to be all that and a bag of chips. Think pop princesses\, R&B realness\, girl group glam\, and iconic throwback anthems that raised us. \nWe’re talking full 90s fantasy — the energy of TRL\, the drama of a world tour\, and the soundtrack of your childhood… all with a brunch cocktail in hand. \nYour lineup is stacked: \nShakaren – bold\, high-energy\, and ready to shut it down. \nDottie Ave – bringing charisma\, attitude\, and pure throwback magic. \nLilly Rose Valore – glam\, playful\, and dripping in 90s pop fantasy. \nAbby Cummings – fierce\, polished\, and ready to give you main character energy \nHosted by Rocky Graziano – keeping the vibes high and the nostalgia flowing all brunch long. \nThis isn’t background entertainment — this is your 90s main character moment. \nThe looks? Nostalgic and fierce. \nThe performances? Sing-at-the-top-of-your-lungs worthy. \nThe crowd? Going absolutely wild.
URL:https://harvardsquare.com/event/drag-brunch-april-in-the-performance-space/
LOCATION:Lou’s\, 13 Brattle St\, Cambridge\, MA\, 02138\, United States
CATEGORIES:Resturant Events
ATTACH;FMTTYPE=image/png:https://harvardsquare.com/wp-content/uploads/2026/03/Screenshot-2026-03-31-132832.png
END:VEVENT
BEGIN:VEVENT
DTSTART;TZID=America/New_York:20260419T120000
DTEND;TZID=America/New_York:20260419T120000
DTSTAMP:20260419T102430
CREATED:20260416T172059Z
LAST-MODIFIED:20260416T172059Z
UID:10002208-1776600000-1776600000@harvardsquare.com
SUMMARY:90's Drag Brunch
DESCRIPTION:Sunday\, April 19th | Seating 11:00am | Show Begins 12:00pm | In the Performance Space\n4.19 90’s Drag Brunch – April\n\nCambridge… we’re taking it BACK. \nLou’s Brunch is taking it to the 90s — and baby\, it’s about to be all that and a bag of chips. Think pop princesses\, R&B realness\, girl group glam\, and iconic throwback anthems that raised us. \nWe’re talking full 90s fantasy — the energy of TRL\, the drama of a world tour\, and the soundtrack of your childhood… all with a brunch cocktail in hand. \nYour lineup is stacked: \nShakaren – bold\, high-energy\, and ready to shut it down. \nDottie Ave – bringing charisma\, attitude\, and pure throwback magic. \nLilly Rose Valore – glam\, playful\, and dripping in 90s pop fantasy. \nAbby Cummings – fierce\, polished\, and ready to give you main character energy \nHosted by Rocky Graziano – keeping the vibes high and the nostalgia flowing all brunch long. \nThis isn’t background entertainment — this is your 90s main character moment. \nThe looks? Nostalgic and fierce. \nThe performances? Sing-at-the-top-of-your-lungs worthy. \nThe crowd? Going absolutely wild. \nSunday\, April 19 at Lou’s in Cambridge.\nIf you grew up on the 90s… this brunch was made for you. \nDRAG BRUNCH SEATING OPTIONS \nBAR SEATING  \n– $25 per person (charged at the time of reservation booking) \n– 1 Complimentary Mimosa per person \n– Limited to parties of 1-2 \nTABLE SEATING  \n– $25 per person (charged at the time of reservation booking) \n– 1 Complimentary Mimosa per person \n– Limited to parties of 2-4 \nVIP BOOTH \n– $35 per person (charged at the time of reservation booking) \n– 1 Complimentary Mimosa per person \n– Limited to parties of 3-5
URL:https://harvardsquare.com/event/90s-drag-brunch/
LOCATION:Lou’s\, 13 Brattle St\, Cambridge\, MA\, 02138\, United States
CATEGORIES:Live Music
ATTACH;FMTTYPE=image/jpeg:https://harvardsquare.com/wp-content/uploads/2026/04/Screenshot_16-4-2026_131927_www.sevenrooms.com_.jpeg
END:VEVENT
BEGIN:VEVENT
DTSTART;TZID=America/New_York:20260419T150000
DTEND;TZID=America/New_York:20260419T150000
DTSTAMP:20260419T102430
CREATED:20260416T201130Z
LAST-MODIFIED:20260416T201130Z
UID:10002216-1776610800-1776610800@harvardsquare.com
SUMMARY:Yixuan Huang\, piano | Light and Warmth: A Journey Through Sound | Graduating Student Project
DESCRIPTION:Yixuan Huang is a student of Jessica Osborne \nMy recital shows who I am as an artist — someone who finds comfort\, light\, and honesty in music. These works travel across time\, from Scarlatti’s clarity to Prokofiev’s intensity. Together they tell a story about warmth and strength: how music can carry both tenderness and power. \nI begin with Scarlatti’s bright and joyful sonata\, full of clean lines and energy. Schubert’s Sonata D.664 then opens a more intimate and poetic world. Clara Schumann’s Variations Op.20 brings a voice of love and courage from a female composer of the Romantic era. Prokofiev’s Sonata No.7 ends with dramatic tension and fire. Finally\, the Schubert four-hand Rondo celebrates musical friendship and connection. \nThrough this program\, I want to share how music has been my language of warmth and honesty\, something that helps me connect deeply with others and bring light to their hearts. \n\n\nMusic has been a part of Yixuan’s life for as long as she can remember. Her music grows from the melodies and rhythms that filled her childhood home. Surrounded by both classical and folk traditions\, she learned to see music as a language of warmth and honesty. Through every note\, she hopes to offer comfort and connection\, letting people feel seen\, understood\, and gently healed by sound.
URL:https://harvardsquare.com/event/yixuan-huang-piano-light-and-warmth-a-journey-through-sound-graduating-student-project/
LOCATION:Longy School of Music of Bard College\, 27 Garden St\, Cambridge\, MA\, 02138\, United States
CATEGORIES:Live Music
ATTACH;FMTTYPE=image/png:https://harvardsquare.com/wp-content/uploads/2026/04/Second-Stage_Ticket-Tailor-Thumbnails_FY26-2048x2048-1.png
END:VEVENT
BEGIN:VEVENT
DTSTART;TZID=America/New_York:20260419T160000
DTEND;TZID=America/New_York:20260419T160000
DTSTAMP:20260419T102430
CREATED:20260325T185401Z
LAST-MODIFIED:20260325T185410Z
UID:10001664-1776614400-1776614400@harvardsquare.com
SUMMARY:Down Home Up Here Bluegrass & Oldtime Festival
DESCRIPTION:Welcome to Passim’s 14th annual bluegrass & old-time music festival!  Line-up has been announced HERE.
URL:https://harvardsquare.com/event/down-home-up-here-bluegrass-oldtime-festival-2/
LOCATION:Passim\, 47 Palmer Street\, Cambridge\, MA\, 02138\, United States
CATEGORIES:Live Music
ATTACH;FMTTYPE=image/png:https://harvardsquare.com/wp-content/uploads/2026/03/Screenshot-2026-03-25-145041.png
END:VEVENT
BEGIN:VEVENT
DTSTART;TZID=America/New_York:20260419T173000
DTEND;TZID=America/New_York:20260419T200000
DTSTAMP:20260419T102430
CREATED:20260403T190050Z
LAST-MODIFIED:20260403T191507Z
UID:10001784-1776619800-1776628800@harvardsquare.com
SUMMARY:Fallen Stars Book Celebration with Imani Erriu
DESCRIPTION:The stunning sequel to the instant international bestseller Heavenly Bodies.\n\n\n\nStep into a kingdom crafted by Imani Erriu for an evening celebrating Fallen Stars. \nThe stars are plotting against Elara in this stunning sequel to the hit romance Heavenly Bodies. While her soulmate is stuck in limbo\, Elara must fight the Titans and their dark power before he’s gone forever. \nIn conversation with Lovestruck Bookseller Anjali Singh\, hear Imani reveal the behind-the-scenes process for writing intricate world-building\, compelling characters\, passionate romance\, and\, most importantly\, the profound yearning at the heart of the book. \nTickets include your very own copy of Fallen Stars. Guests are welcome to bring past titles by Imani from home to be signed as well.
URL:https://harvardsquare.com/event/fallen-stars-book-celebration-with-imani-erriu/
LOCATION:Lovestruck Books
CATEGORIES:Author Events
ATTACH;FMTTYPE=image/png:https://harvardsquare.com/wp-content/uploads/2026/04/Screenshot-2026-04-03-150015.png
END:VEVENT
BEGIN:VEVENT
DTSTART;TZID=America/New_York:20260419T180000
DTEND;TZID=America/New_York:20260419T180000
DTSTAMP:20260419T102430
CREATED:20260227T192332Z
LAST-MODIFIED:20260227T192343Z
UID:10001588-1776621600-1776621600@harvardsquare.com
SUMMARY:Lenka
DESCRIPTION:Lenka is an Australian singer-songwriter and performer whose unique blend of emotive pop and experimental sound has captured the hearts of listeners worldwide. With a music career spanning two decades\, she first rose to prominence as a member of the critically acclaimed band Decoder Ring\, before embarking on a successful solo journey that has seen her release multiple albums\, tour internationally\, and build a devoted global fanbase with feverish fandom in Asia especially. Lenka has also appeared in various Australian TV shows and films in her early acting career\, including Working Dog’s The Dish.
URL:https://harvardsquare.com/event/lenka/
LOCATION:Regattabar\, 1 Bennett Street\, Cambridge\, MA\, 02138\, United States
CATEGORIES:Live Music
ATTACH;FMTTYPE=image/png:https://harvardsquare.com/wp-content/uploads/2026/02/Screenshot-2026-02-27-142306.png
END:VEVENT
BEGIN:VEVENT
DTSTART;TZID=America/New_York:20260419T180000
DTEND;TZID=America/New_York:20260419T180000
DTSTAMP:20260419T102430
CREATED:20260401T195308Z
LAST-MODIFIED:20260401T195319Z
UID:10001756-1776621600-1776621600@harvardsquare.com
SUMMARY:Sunday's Rising Stars Showcase w/ host Caroline Moore
DESCRIPTION:The Comedy Studio is renowned for it’s classic showcases and launching talent to the national stage. And now\, The Comedy Studio just got a whole lot cooler! Come join us and enjoy a line-up of Boston’s future headliners bringing a night of laughs. Often loved by Millennials and Gen Z\, be prepared for a show of edgy-off-the-wall humor\, some raunchier segments with twists and turns\, and some hilarious topical commentary about the state of peoples’ attitudes today. Bring your friends or come alone\, everyone’s welcome to have a good time. And once you’re in\, you’ll be laughing your head off and will be crying to come back again! \nLineup: Caroline Moore\, Alan Moreau\, Tiny\, Alexis Cristaldi\, Abby Evans\, Mark Branson (Subject to Change)
URL:https://harvardsquare.com/event/sundays-rising-stars-showcase-w-host-caroline-moore/
LOCATION:The Comedy Studio\, 5 John F. Kennedy St\, Cambridge\, MA\, 02138\, United States
CATEGORIES:Comedy
ATTACH;FMTTYPE=image/png:https://harvardsquare.com/wp-content/uploads/2026/04/Screenshot-2026-04-01-141908.png
END:VEVENT
BEGIN:VEVENT
DTSTART;TZID=America/New_York:20260419T180000
DTEND;TZID=America/New_York:20260419T193000
DTSTAMP:20260419T102430
CREATED:20260325T164957Z
LAST-MODIFIED:20260325T165012Z
UID:10001639-1776621600-1776627000@harvardsquare.com
SUMMARY:April's Harvard Square Book Circle
DESCRIPTION:This month we’re discussing Blackouts: A Novel by Justin Torres. \nDon’t forget each book we discuss is part of our featured Select 70 for frequent buyer members. \nThe Book Circle is Harvard Book Store’s monthly book club open for members of the community to meet and discuss a thoughtfully selected book. We’ll meet in the third room of the store from 6–7:30 PM. Registration is not required and no commitment is necessary.
URL:https://harvardsquare.com/event/aprils-harvard-square-book-circle/
LOCATION:Harvard Book Store\, 1256 Massachusetts Ave\, Cambridge\, 02138\, United States
CATEGORIES:Discussion
ATTACH;FMTTYPE=image/png:https://harvardsquare.com/wp-content/uploads/2026/03/Screenshot-2026-03-25-124915.png
END:VEVENT
BEGIN:VEVENT
DTSTART;TZID=America/New_York:20260419T180000
DTEND;TZID=America/New_York:20260419T210000
DTSTAMP:20260419T102430
CREATED:20260331T173528Z
LAST-MODIFIED:20260331T173528Z
UID:10001728-1776621600-1776632400@harvardsquare.com
SUMMARY:Mike Mele/Joe McMahon DUO – in the lounge
DESCRIPTION:Guitarist Mike Mele has been a mainstay of Boston’s jazz scene for over 30 years. Praised by The Boston Globe for his “unerring sense of swing\,” he has worked with Roy Hargrove\, Melvin Sparks and Tony Monaco. \nKnown for his melodic phrasing and rhythmic subtlety\, bassist Joe McMahon has performed with many of Boston’s leading jazz artists. Cambridge Day called his playing “deep in the pocket and quietly compelling.”
URL:https://harvardsquare.com/event/mike-mele-joe-mcmahon-duo-in-the-lounge-2/
LOCATION:Passim\, 47 Palmer Street\, Cambridge\, MA\, 02138\, United States
CATEGORIES:Live Music
ATTACH;FMTTYPE=image/png:https://harvardsquare.com/wp-content/uploads/2026/03/Screenshot-2026-03-31-121741-1.png
END:VEVENT
END:VCALENDAR