BEGIN:VCALENDAR
VERSION:2.0
PRODID:-//Harvard Square Business Association - ECPv6.15.20//NONSGML v1.0//EN
CALSCALE:GREGORIAN
METHOD:PUBLISH
X-ORIGINAL-URL:https://harvardsquare.com
X-WR-CALDESC:Events for Harvard Square Business Association
REFRESH-INTERVAL;VALUE=DURATION:PT1H
X-Robots-Tag:noindex
X-PUBLISHED-TTL:PT1H
BEGIN:VTIMEZONE
TZID:America/New_York
BEGIN:DAYLIGHT
TZOFFSETFROM:-0500
TZOFFSETTO:-0400
TZNAME:EDT
DTSTART:20250309T070000
END:DAYLIGHT
BEGIN:STANDARD
TZOFFSETFROM:-0400
TZOFFSETTO:-0500
TZNAME:EST
DTSTART:20251102T060000
END:STANDARD
BEGIN:DAYLIGHT
TZOFFSETFROM:-0500
TZOFFSETTO:-0400
TZNAME:EDT
DTSTART:20260308T070000
END:DAYLIGHT
BEGIN:STANDARD
TZOFFSETFROM:-0400
TZOFFSETTO:-0500
TZNAME:EST
DTSTART:20261101T060000
END:STANDARD
BEGIN:DAYLIGHT
TZOFFSETFROM:-0500
TZOFFSETTO:-0400
TZNAME:EDT
DTSTART:20270314T070000
END:DAYLIGHT
BEGIN:STANDARD
TZOFFSETFROM:-0400
TZOFFSETTO:-0500
TZNAME:EST
DTSTART:20271107T060000
END:STANDARD
END:VTIMEZONE
BEGIN:VEVENT
DTSTART;TZID=America/New_York:20260329T180000
DTEND;TZID=America/New_York:20260329T210000
DTSTAMP:20260425T101434
CREATED:20260223T210058Z
LAST-MODIFIED:20260223T210058Z
UID:10001544-1774807200-1774818000@harvardsquare.com
SUMMARY:Dinner Jazz\, Mike Mele & Joe McMahon DUO in the lounge
DESCRIPTION:Guitarist Mike Mele has been a mainstay of Boston’s jazz scene for over 30 years. Praised by The Boston Globe for his “unerring sense of swing\,” he has worked with Roy Hargrove\, Melvin Sparks and Tony Monaco. \nKnown for his melodic phrasing and rhythmic subtlety\, bassist Joe McMahon has performed with many of Boston’s leading jazz artists. Cambridge Day called his playing “deep in the pocket and quietly compelling.”
URL:https://harvardsquare.com/event/dinner-jazz-mike-mele-joe-mcmahon-duo-in-the-lounge-3/
LOCATION:Lou’s\, 13 Brattle St\, Cambridge\, MA\, 02138\, United States
CATEGORIES:Live Music
ATTACH;FMTTYPE=image/webp:https://harvardsquare.com/wp-content/uploads/2026/02/MikeMeleandJoeMcMahon.webp
END:VEVENT
BEGIN:VEVENT
DTSTART;TZID=America/New_York:20260329T113000
DTEND;TZID=America/New_York:20260329T140000
DTSTAMP:20260425T101434
CREATED:20260223T205626Z
LAST-MODIFIED:20260223T205626Z
UID:10001542-1774783800-1774792800@harvardsquare.com
SUMMARY:R&B Soul\, Lisa bello in the performance space
DESCRIPTION:Lisa Bello is a Boston/Brooklyn vocalist and songwriter with a sound rooted in jazz\, soul\, and late-night storytelling. A proud member of the Recording Academy\, she blends rich vocals with an improvisational spirit and timeless emotion. Her performances feel intimate\, cinematic\, and made for low lights and close listening. \n 
URL:https://harvardsquare.com/event/rb-soul-lisa-bello-in-the-performance-space/
LOCATION:Lou’s\, 13 Brattle St\, Cambridge\, MA\, 02138\, United States
CATEGORIES:Live Music
ATTACH;FMTTYPE=image/webp:https://harvardsquare.com/wp-content/uploads/2026/02/lisabello.webp
END:VEVENT
BEGIN:VEVENT
DTSTART;TZID=America/New_York:20260328T113000
DTEND;TZID=America/New_York:20260328T140000
DTSTAMP:20260425T101434
CREATED:20260223T205357Z
LAST-MODIFIED:20260223T205357Z
UID:10001541-1774697400-1774706400@harvardsquare.com
SUMMARY:Blues\, Strat Cat Willie and the Strays Feat. Zoe Knight in the performance space
DESCRIPTION:StratCat Willie is a seasoned bluesman whose latest project\, StratCat Willie & the Strays\, brings together top musicians to celebrate and explore the roots of the blues. Always high-energy and crowd-pleasing\, their shows are a guaranteed good time. \nFor this performance\, StratCat Willie is joined by some of Boston’s finest: Jesse Hayes on drums\, Mike Gruen on bass\, and featured “Stray” Zoe Knight on keys and vocals.
URL:https://harvardsquare.com/event/blues-strat-cat-willie-and-the-strays-feat-zoe-knight-in-the-performance-space/
LOCATION:Lou’s\, 13 Brattle St\, Cambridge\, MA\, 02138\, United States
CATEGORIES:Live Music
ATTACH;FMTTYPE=image/webp:https://harvardsquare.com/wp-content/uploads/2026/02/stratcat.webp
END:VEVENT
BEGIN:VEVENT
DTSTART;TZID=America/New_York:20260327T180000
DTEND;TZID=America/New_York:20260327T210000
DTSTAMP:20260425T101434
CREATED:20260223T205029Z
LAST-MODIFIED:20260223T205029Z
UID:10001540-1774634400-1774645200@harvardsquare.com
SUMMARY:Ken clark organ trio\, in the performance space
DESCRIPTION:Ken is internationally known as one of the world’s greatest jazz organists. He has also been *Winner of New England Blues Society\, Keyboardist of the the Year* in “2006”\, “2009”\, “2011” & “2015”. Ken’s technical ability joined with his natural feel for funk and soul makes a night with the KKOT an authentic\, special one indeed.
URL:https://harvardsquare.com/event/dinner-jazz-mike-mele-joe-mcmahon-duo-in-the-lounge-2-3/
LOCATION:Lou’s\, 13 Brattle St\, Cambridge\, MA\, 02138\, United States
CATEGORIES:Live Music
ATTACH;FMTTYPE=image/webp:https://harvardsquare.com/wp-content/uploads/2026/02/kot_1.webp
END:VEVENT
BEGIN:VEVENT
DTSTART;TZID=America/New_York:20260326T180000
DTEND;TZID=America/New_York:20260326T210000
DTSTAMP:20260425T101434
CREATED:20260223T204510Z
LAST-MODIFIED:20260223T204510Z
UID:10001539-1774548000-1774558800@harvardsquare.com
SUMMARY:Jazz Neo-Soul\, Safiya Leslie in the performance space
DESCRIPTION:Safiya is a Boston-based jazz\, neo-soul\, and reggae vocalist blending Afro-Caribbean roots with rich jazz influences to create globally inspired\, high-energy performances. A Boston Music Award–nominated artist\, she has performed internationally and opened for Grammy Award winner Keznamdi and Caribbean stars including Konshens and Glen Washington. With her debut album set for release in 2026\, Safiya continues to fuse culture\, storytelling\, and groove into a sound that moves audiences worldwide.
URL:https://harvardsquare.com/event/dinner-jazz-mike-mele-joe-mcmahon-duo-in-the-lounge-2-2/
LOCATION:Lou’s\, 13 Brattle St\, Cambridge\, MA\, 02138\, United States
CATEGORIES:Live Music
ATTACH;FMTTYPE=image/webp:https://harvardsquare.com/wp-content/uploads/2026/02/safiya.webp
END:VEVENT
BEGIN:VEVENT
DTSTART;TZID=America/New_York:20260322T180000
DTEND;TZID=America/New_York:20260322T210000
DTSTAMP:20260425T101434
CREATED:20260223T203631Z
LAST-MODIFIED:20260223T204201Z
UID:10001538-1774202400-1774213200@harvardsquare.com
SUMMARY:Dinner Jazz\, Mike Mele & Joe McMahon DUO in the lounge
DESCRIPTION:Guitarist Mike Mele has been a mainstay of Boston’s jazz scene for over 30 years. Praised by The Boston Globe for his “unerring sense of swing\,” he has worked with Roy Hargrove\, Melvin Sparks and Tony Monaco. \nKnown for his melodic phrasing and rhythmic subtlety\, bassist Joe McMahon has performed with many of Boston’s leading jazz artists. Cambridge Day called his playing “deep in the pocket and quietly compelling.”
URL:https://harvardsquare.com/event/dinner-jazz-mike-mele-joe-mcmahon-duo-in-the-lounge-2/
LOCATION:Lou’s\, 13 Brattle St\, Cambridge\, MA\, 02138\, United States
CATEGORIES:Live Music
ATTACH;FMTTYPE=image/webp:https://harvardsquare.com/wp-content/uploads/2026/02/MikeMeleandJoeMcMahon.webp
END:VEVENT
BEGIN:VEVENT
DTSTART;TZID=America/New_York:20260322T113000
DTEND;TZID=America/New_York:20260322T140000
DTSTAMP:20260425T101434
CREATED:20260223T203426Z
LAST-MODIFIED:20260223T211423Z
UID:10001537-1774179000-1774188000@harvardsquare.com
SUMMARY:Brunch\, feat. Josiah Reibstein & The Hubtones in the performance space
DESCRIPTION:When’s the last time you sidled up to the bell of a tuba and let its warm\, rich\, funky sound envelope you as it filled the room? Now layer in some spitfire New Orleans trumpet and serpentine clarinet lines\, and you’ve got a sound that helped define American music—and still gets people smiling\, laughing and dancing. \nJosiah Reibstein & The Hubtones tap into that iconic sound with some of Boston’s finest traditional jazz musicians\, delivering swinging\, high-energy sets rooted in New Orleans-style jazz. With playful arrangements and a repertoire of classics and clever surprises\, the Hubtones serve up “trad jazz” that’s brassy\, bawdy and fun. \n  \n 
URL:https://harvardsquare.com/event/brunch-feat-josiah-reibstein-the-hubtones-in-the-performance-space/
LOCATION:Lou’s\, 13 Brattle St\, Cambridge\, MA\, 02138\, United States
CATEGORIES:Live Music
ATTACH;FMTTYPE=image/webp:https://harvardsquare.com/wp-content/uploads/2026/02/1L6A0888.webp
END:VEVENT
BEGIN:VEVENT
DTSTART;TZID=America/New_York:20260321T180000
DTEND;TZID=America/New_York:20260321T210000
DTSTAMP:20260425T101434
CREATED:20260223T203040Z
LAST-MODIFIED:20260223T213307Z
UID:10001536-1774116000-1774126800@harvardsquare.com
SUMMARY:Reggae\, Pressure Cooker Featuring Sarah B in the performance space
DESCRIPTION:Pressure Cooker is a Boston-based reggae\, ska\, and rocksteady band founded in 1997. Inspired by 1960’s & 70’s Jamaican music\, the group crafts original songs with infectious energy and expert musicianship. With seven full-length albums\, they’ve performed across the Northeast and select U.S. cities\, reaching fans worldwide. Known for dynamic stage presence and classic sound\, Pressure Cooker blends horns\, soulful vocals\, and diverse influences while staying rooted in reggae tradition.
URL:https://harvardsquare.com/event/auto-draft-5/
LOCATION:Lou’s\, 13 Brattle St\, Cambridge\, MA\, 02138\, United States
CATEGORIES:Live Music
ATTACH;FMTTYPE=image/webp:https://harvardsquare.com/wp-content/uploads/2026/02/PressureCooker2025_PromoPhoto_v2.webp
END:VEVENT
BEGIN:VEVENT
DTSTART;TZID=America/New_York:20260321T113000
DTEND;TZID=America/New_York:20260321T140000
DTSTAMP:20260425T101434
CREATED:20260223T202841Z
LAST-MODIFIED:20260223T213353Z
UID:10001535-1774092600-1774101600@harvardsquare.com
SUMMARY:Brunch\, Latin\,Kristalis y Las Nenas Del Swing in the performance space
DESCRIPTION:Kristalis Sotomayor is a Puerto Rican flutist and vocalist known for her versatility in both classical and Latin music. A graduate of Berklee College of Music and the Boston Conservatory\, she combines refined musicianship with vibrant stage presence. She has toured internationally\, including performances with the Buena Vista Orchestra\, bringing passion\, elegance\, and powerful energy to every stage she graces. \nBlending classic salsa\, Cuban son\, and Latin jazz with vibrant stage presence\, the band delivers high-energy performances rooted in tradition and elevated by refined musicianship. From intimate venues to major festivals\, they transform every event into an unforgettable celebration of rhythm\, elegance\, and swing.
URL:https://harvardsquare.com/event/brunch-latinkristalis-y-las-nenas-del-swing-in-the-performance-space/
LOCATION:Lou’s\, 13 Brattle St\, Cambridge\, MA\, 02138\, United States
CATEGORIES:Live Music
ATTACH;FMTTYPE=image/webp:https://harvardsquare.com/wp-content/uploads/2026/02/kristalis.webp
END:VEVENT
BEGIN:VEVENT
DTSTART;TZID=America/New_York:20260320T180000
DTEND;TZID=America/New_York:20260320T210000
DTSTAMP:20260425T101435
CREATED:20260223T200300Z
LAST-MODIFIED:20260223T213116Z
UID:10001534-1774029600-1774040400@harvardsquare.com
SUMMARY:Groove Soul\, Shalyah Fearing ft. Yalayas in the performance space
DESCRIPTION:Powerhouse soul vocals meet groovy\, reimagined classics in this high-energy five-piece band. Blending tight pocket\, rich improvisation\, and fresh nuance\, they breathe new life into beloved soul and pop records while keeping the dance floor moving. \nFormed by five close friends and Berklee alumni\, the band’s on-stage chemistry is undeniable. Fronted by Shalyah—finalist on Season 16 of The Voice—the group delivers a dynamic\, feel-good performance that’s as musically sharp as it is unforgettable.
URL:https://harvardsquare.com/event/groove-soul-shalyah-fearing-ft-yalayas-in-the-performance-space/
LOCATION:Lou’s\, 13 Brattle St\, Cambridge\, MA\, 02138\, United States
CATEGORIES:Live Music
ATTACH;FMTTYPE=image/webp:https://harvardsquare.com/wp-content/uploads/2026/02/ShalyahFearingft.Yalayas.webp
END:VEVENT
BEGIN:VEVENT
DTSTART;TZID=America/New_York:20260319T180000
DTEND;TZID=America/New_York:20260319T210000
DTSTAMP:20260425T101435
CREATED:20260223T195637Z
LAST-MODIFIED:20260223T212914Z
UID:10001533-1773943200-1773954000@harvardsquare.com
SUMMARY:Groove soul rock\, Johnny Trama & the B3 Kings Featuring Sarah Seminski in the performance space
DESCRIPTION:Groove soul rock & roll! The B3 Kings sound melds many classic genres into a gumbo all its own. A trip to Soulsville Hammond B3  featuring Darby Wolf Johnny Trama on guitar Thomas Arey on drums and Marc Hickox on Bass which are also the rhythm section for the Boston Bass rock ‘n’ roll band Reckoners.
URL:https://harvardsquare.com/event/groove-soul-rock-johnny-trama-the-b3-kings-featuring-sarah-seminski-in-the-performance-space/
LOCATION:Lou’s\, 13 Brattle St\, Cambridge\, MA\, 02138\, United States
CATEGORIES:Live Music
ATTACH;FMTTYPE=image/webp:https://harvardsquare.com/wp-content/uploads/2026/02/johnnytramab3kings.webp
END:VEVENT
BEGIN:VEVENT
DTSTART;TZID=America/New_York:20260315T180000
DTEND;TZID=America/New_York:20260315T210000
DTSTAMP:20260425T101435
CREATED:20260223T194330Z
LAST-MODIFIED:20260223T194330Z
UID:10001532-1773597600-1773608400@harvardsquare.com
SUMMARY:Dinner Jazz\, Mike Mele & Joe McMahon DUO
DESCRIPTION:Guitarist Mike Mele has been a mainstay of Boston’s jazz scene for over 30 years. Praised by The Boston Globe for his “unerring sense of swing\,” he has worked with Roy Hargrove\, Melvin Sparks and Tony Monaco. \nKnown for his melodic phrasing and rhythmic subtlety\, bassist Joe McMahon has performed with many of Boston’s leading jazz artists. Cambridge Day called his playing “deep in the pocket and quietly compelling.”
URL:https://harvardsquare.com/event/dinner-jazz-mike-mele-joe-mcmahon-duo/
LOCATION:Lou’s\, 13 Brattle St\, Cambridge\, MA\, 02138\, United States
CATEGORIES:Live Music
ATTACH;FMTTYPE=image/webp:https://harvardsquare.com/wp-content/uploads/2026/02/MikeMeleandJoeMcMahon.webp
END:VEVENT
BEGIN:VEVENT
DTSTART;TZID=America/New_York:20260315T110000
DTEND;TZID=America/New_York:20260315T143000
DTSTAMP:20260425T101435
CREATED:20260223T194024Z
LAST-MODIFIED:20260223T211716Z
UID:10001531-1773572400-1773585000@harvardsquare.com
SUMMARY:Drag Brunch in the performance
DESCRIPTION:DRAG BRUNCH IS TAKING OVER LOU’S IN CAMBRIDGE! \n \nAges: 21+ | Seating: 11:00AM | Show Begins: 12:00PM \nCambridge…this one is for the ICONS. \nOn March 15\, Lou’s Brunch becomes a full-on Diva Takeover. We’re talking legendary energy\, superstar attitude\, and performances that feel like you just stepped into a world tour — but with brunch cocktails in hand. \nYour lineup is stacked:\nLakia Mondale – elegance\, power\, and that classic diva polish.\nShakaren – bold\, commanding\, and impossible to ignore.\nZon Legacy Phoenix – fierce\, dynamic\, and ready to light the stage up. \nThis isn’t background entertainment — this is the moment.\nThe looks will be flawless. The numbers will be electric. The crowd? Screaming. \nMarch 15 at Lou’s in Cambridge.\nIf you love divas\, drama\, and a brunch that feels like a concert experience… this is your show. \nTICKET OFFERINGS – In the Performance Space \nBar Seats \n\n\nPurchase per person \n\n\nPerformance Space Tables  \n\n\n1 Complimentary Mimosa per person \n\n\n4 People Max Per Table \n\n\nVIP Booths  \n\n\n1 Complimentary Mimosa per person \n\n\n5 People Max Per Booth \n\n\nNo refunds or exchanges. Artist lineups and set times are subject to change. By purchasing a ticket\, you agree to these terms. No shows or late cancellations\, you will be subject to fee of $20 per person that will be applied to the credit card on file.
URL:https://harvardsquare.com/event/drag-brunch-in-the-performance/
LOCATION:Lou’s\, 13 Brattle St\, Cambridge\, MA\, 02138\, United States
CATEGORIES:Live Music
ATTACH;FMTTYPE=image/webp:https://harvardsquare.com/wp-content/uploads/2026/02/Lousbrunch3_15_26_instagram.webp
END:VEVENT
BEGIN:VEVENT
DTSTART;TZID=America/New_York:20260314T113000
DTEND;TZID=America/New_York:20260314T140000
DTSTAMP:20260425T101435
CREATED:20260223T185726Z
LAST-MODIFIED:20260223T213506Z
UID:10001530-1773487800-1773496800@harvardsquare.com
SUMMARY:Irish Trad\, Caeltish in the performance space
DESCRIPTION:Caeltish is a duo from Boston\, MA that blends traditional Irish instrumentation with modern pop sounds. They have performed throughout the greater Boston area at venues such as the Black Rose\, Uncommon Corner\, and Mrs. Murphy’s. The duo brings a unique\, traditionally inspired twist on modern tunes with melodically embellished violin over a rhythmic and percussive guitar.
URL:https://harvardsquare.com/event/irish-trad-caeltish-in-the-performance-space/
LOCATION:Lou’s\, 13 Brattle St\, Cambridge\, MA\, 02138\, United States
CATEGORIES:Live Music
ATTACH;FMTTYPE=image/gif:https://harvardsquare.com/wp-content/uploads/2026/02/tempImageEkhzD0.gif
END:VEVENT
BEGIN:VEVENT
DTSTART;TZID=America/New_York:20260313T180000
DTEND;TZID=America/New_York:20260313T210000
DTSTAMP:20260425T101435
CREATED:20260223T185412Z
LAST-MODIFIED:20260223T213614Z
UID:10001529-1773424800-1773435600@harvardsquare.com
SUMMARY:Reggae\, The attractors in the performance space
DESCRIPTION:The Attractors are a Boston-based\, groove oriented reggae-jazz crush factory comprised of some of the best reggae/ska musicians in the world.  Our current line up includes current and former members of the Skatalites\, Westbound Train\, and the Selector.
URL:https://harvardsquare.com/event/reggae-the-attractors-in-the-performance-space/
LOCATION:Lou’s\, 13 Brattle St\, Cambridge\, MA\, 02138\, United States
CATEGORIES:Live Music
ATTACH;FMTTYPE=image/webp:https://harvardsquare.com/wp-content/uploads/2026/02/Attractors_press2024.webp
END:VEVENT
BEGIN:VEVENT
DTSTART;TZID=America/New_York:20260312T180000
DTEND;TZID=America/New_York:20260312T210000
DTSTAMP:20260425T101435
CREATED:20260223T185228Z
LAST-MODIFIED:20260223T213838Z
UID:10001528-1773338400-1773349200@harvardsquare.com
SUMMARY:Spy Jazz\, Four Piece Suit Featuring Christina Lacoste in the performance space
DESCRIPTION:Best known for their soundtrack work on HBO’s Sex And The City\, for 30 years Four Piece Suit have been performing their brand of 1960’s influenced “Spy Jazz” around the world\, from festivals\, to NYC’s World Trade Center\, Boston’s Top of the Hub. This trend setting Grammy-nominated band is based in New England\, where they will be able to perform in some more intimate settings\, and are looking forward to playing at Lou’s. Four Piece Suit are guitarist Milt Reder\, Drummer Seth Pappas\, Saxman Jeff Giacomelli and David Becker on bass\, all veterans of some of the best-known bands in the northeast.
URL:https://harvardsquare.com/event/auto-draft-4/
LOCATION:Lou’s\, 13 Brattle St\, Cambridge\, MA\, 02138\, United States
CATEGORIES:Live Music
ATTACH;FMTTYPE=image/webp:https://harvardsquare.com/wp-content/uploads/2026/02/fourpiecesuit.webp
END:VEVENT
BEGIN:VEVENT
DTSTART;TZID=America/New_York:20260308T180000
DTEND;TZID=America/New_York:20260308T210000
DTSTAMP:20260425T101435
CREATED:20260223T184355Z
LAST-MODIFIED:20260223T184928Z
UID:10001527-1772992800-1773003600@harvardsquare.com
SUMMARY:Dinner Jazz\, Mike Mele/Joe McMahon DUO in the lounge
DESCRIPTION:Guitarist Mike Mele has been a mainstay of Boston’s jazz scene for over 30 years. Praised by The Boston Globe for his “unerring sense of swing\,” he has worked with Roy Hargrove\, Melvin Sparks and Tony Monaco. \nKnown for his melodic phrasing and rhythmic subtlety\, bassist Joe McMahon has performed with many of Boston’s leading jazz artists. Cambridge Day called his playing “deep in the pocket and quietly compelling.”
URL:https://harvardsquare.com/event/dinner-jazz-mike-mele-joe-mcmahon-duo-in-the-lounge/
LOCATION:Lou’s\, 13 Brattle St\, Cambridge\, MA\, 02138\, United States
CATEGORIES:Live Music
ATTACH;FMTTYPE=image/webp:https://harvardsquare.com/wp-content/uploads/2026/02/MikeMeleandJoeMcMahon.webp
END:VEVENT
BEGIN:VEVENT
DTSTART;TZID=America/New_York:20260308T113000
DTEND;TZID=America/New_York:20260308T140000
DTSTAMP:20260425T101435
CREATED:20260223T183429Z
LAST-MODIFIED:20260223T212545Z
UID:10001526-1772969400-1772978400@harvardsquare.com
SUMMARY:Josiah Reibstein & The Hubtones in the performance space
DESCRIPTION:When’s the last time you sidled up to the bell of a tuba and let its warm\, rich\, funky sound envelope you as it filled the room? Now layer in some spitfire New Orleans trumpet and serpentine clarinet lines\, and you’ve got a sound that helped define American music—and still gets people smiling\, laughing and dancing. \nJosiah Reibstein & The Hubtones tap into that iconic sound with some of Boston’s finest traditional jazz musicians\, delivering swinging\, high-energy sets rooted in New Orleans-style jazz. With playful arrangements and a repertoire of classics and clever surprises\, the Hubtones serve up “trad jazz” that’s brassy\, bawdy and fun.
URL:https://harvardsquare.com/event/josiah-reibstein-the-hubtones-in-the-performance-space/
LOCATION:Lou’s\, 13 Brattle St\, Cambridge\, MA\, 02138\, United States
CATEGORIES:Live Music
ATTACH;FMTTYPE=image/webp:https://harvardsquare.com/wp-content/uploads/2026/02/1L6A0888.webp
END:VEVENT
BEGIN:VEVENT
DTSTART;TZID=America/New_York:20260307T180000
DTEND;TZID=America/New_York:20260307T210000
DTSTAMP:20260425T101435
CREATED:20260223T183207Z
LAST-MODIFIED:20260223T205140Z
UID:10001525-1772906400-1772917200@harvardsquare.com
SUMMARY:Funk\, soul & R&B\, The hIVe - A-Beez in the performance space
DESCRIPTION:The hIVe is a powerhouse collective born from Boston’s thriving soul and funk scene\, led by keyboardist Amy Bellamy and bassist Aaron Bellamy. Known for their fearless blend of soul\, funk\, R&B\, hip-hop\, and jazz\, The A-Beez deliver music that grooves hard\, feels deep\, and never stops evolving. \n 
URL:https://harvardsquare.com/event/auto-draft-3/
LOCATION:Lou’s\, 13 Brattle St\, Cambridge\, MA\, 02138\, United States
CATEGORIES:Live Music
ATTACH;FMTTYPE=image/webp:https://harvardsquare.com/wp-content/uploads/2026/02/thehive.webp
END:VEVENT
BEGIN:VEVENT
DTSTART;TZID=America/New_York:20260307T113000
DTEND;TZID=America/New_York:20260307T140000
DTSTAMP:20260425T101435
CREATED:20260223T182912Z
LAST-MODIFIED:20260223T212446Z
UID:10001524-1772883000-1772892000@harvardsquare.com
SUMMARY:Yacht Rock\, The Yacht Company in the performance space
DESCRIPTION:The Yacht Company brings back the energy of classic 70’s and 80’s Yacht Rock Music to a new light featuring the music of artists such as Steely Dan\, Toto\, Christopher Cross and many more! \n 
URL:https://harvardsquare.com/event/auto-draft-2/
LOCATION:Lou’s\, 13 Brattle St\, Cambridge\, MA\, 02138\, United States
CATEGORIES:Live Music
ATTACH;FMTTYPE=image/webp:https://harvardsquare.com/wp-content/uploads/2026/02/CAF00033.webp
END:VEVENT
BEGIN:VEVENT
DTSTART;TZID=America/New_York:20260306T180000
DTEND;TZID=America/New_York:20260306T210000
DTSTAMP:20260425T101435
CREATED:20260223T171939Z
LAST-MODIFIED:20260223T211939Z
UID:10001523-1772820000-1772830800@harvardsquare.com
SUMMARY:R&B Soul\, Alexus Lee in the performance space
DESCRIPTION:Providence-born singer\, songwriter\, producer\, and multi-instrumentalist Alexus Lee captivates audiences with soulful storytelling\, masterful vocals\, and infectious grooves. A Berklee graduate\, she has performed internationally\, shared stages with world-class artists\, and earned Rhode Island Music Award nominations for Best Vocalist and Best R&B Act. \nAlexus Lee and her band deliver a dynamic blend of R&B\, soul\, and original music—moving effortlessly from smooth\, intimate moments to high-energy\, groove-driven performances.
URL:https://harvardsquare.com/event/friday-rb-soul-alexus-lee-in-the-performance-space/
LOCATION:Lou’s\, 13 Brattle St\, Cambridge\, MA\, 02138\, United States
CATEGORIES:Live Music
ATTACH;FMTTYPE=image/webp:https://harvardsquare.com/wp-content/uploads/2026/02/ALOrange.webp
END:VEVENT
BEGIN:VEVENT
DTSTART;TZID=America/New_York:20260305T180000
DTEND;TZID=America/New_York:20260305T210000
DTSTAMP:20260425T101435
CREATED:20260223T171223Z
LAST-MODIFIED:20260223T211827Z
UID:10001522-1772733600-1772744400@harvardsquare.com
SUMMARY:R&B Soul\, Loren Benn in the performance space
DESCRIPTION:Loren Benn and friends bring a sultry but powerful R&B & Soul atmosphere to any stage.
URL:https://harvardsquare.com/event/auto-draft/
LOCATION:Lou’s\, 13 Brattle St\, Cambridge\, MA\, 02138\, United States
CATEGORIES:Live Music
ATTACH;FMTTYPE=image/webp:https://harvardsquare.com/wp-content/uploads/2026/02/loren.webp
END:VEVENT
BEGIN:VEVENT
DTSTART;TZID=America/New_York:20260301T180000
DTEND;TZID=America/New_York:20260301T210000
DTSTAMP:20260425T101435
CREATED:20260223T170919Z
LAST-MODIFIED:20260223T182455Z
UID:10001521-1772388000-1772398800@harvardsquare.com
SUMMARY:Dinner Jazz\, Mike Mele/Joe McMahon DUO in the lounge
DESCRIPTION:Guitarist Mike Mele has been a mainstay of Boston’s jazz scene for over 30 years. Praised by The Boston Globe for his “unerring sense of swing\,” he has worked with Roy Hargrove\, Melvin Sparks and Tony Monaco. \nKnown for his melodic phrasing and rhythmic subtlety\, bassist Joe McMahon has performed with many of Boston’s leading jazz artists. Cambridge Day called his playing “deep in the pocket and quietly compelling.”
URL:https://harvardsquare.com/event/sunday-dinner-jazz-mike-mele-joe-mcmahon-duo-in-the-lounge/
LOCATION:Lou’s\, 13 Brattle St\, Cambridge\, MA\, 02138\, United States
CATEGORIES:Live Music
ATTACH;FMTTYPE=image/webp:https://harvardsquare.com/wp-content/uploads/2026/02/MikeMeleandJoeMcMahon.webp
END:VEVENT
BEGIN:VEVENT
DTSTART;TZID=America/New_York:20260301T113000
DTEND;TZID=America/New_York:20260301T140000
DTSTAMP:20260425T101435
CREATED:20260223T170200Z
LAST-MODIFIED:20260223T182627Z
UID:10001520-1772364600-1772373600@harvardsquare.com
SUMMARY:Roella Oloro Trio in the performance space
DESCRIPTION:Roella Oloro is a British multi-instrumentalist and composer of Nigerian and Jamaican descent. Contemporary Jazz trio with elements of fusion between various styles.
URL:https://harvardsquare.com/event/sunday-brunch-roella-oloro-trio-in-the-performance-space/
LOCATION:Lou’s\, 13 Brattle St\, Cambridge\, MA\, 02138\, United States
CATEGORIES:Live Music
ATTACH;FMTTYPE=image/webp:https://harvardsquare.com/wp-content/uploads/2026/02/PromoRoella.webp
END:VEVENT
BEGIN:VEVENT
DTSTART;TZID=America/New_York:20260225T203000
DTEND;TZID=America/New_York:20260225T203000
DTSTAMP:20260425T101435
CREATED:20260220T215052Z
LAST-MODIFIED:20260220T215104Z
UID:10001508-1772051400-1772051400@harvardsquare.com
SUMMARY:Lou's Underground: Stephen Brodsky & Adam McGrath with Special Guest Dimitri Giannopoulos
DESCRIPTION:In 2026\, every last Wednesday of the month\, Lou’s Underground turns all the way up. These shows are 21+\, standing-room only\, and ticketed. \nExpect special bookings and curated programming with a deep commitment to supporting both local and touring artists. It’s a night built for discovery and nostalgia alike. Come hang with hometown favorites or catch a new artist passing through. With no barrier between the artist and the crowd\, Lou’s Underground is a room for people who want to dance\, listen\, and be part of a music community. \nArtist Info — Stephen Brodsky & Adam McGrath \nStephen Brodsky and Adam McGrath formed the band Cave In back in 1995. They began performing as a duo while touring to support the “Antenna” album in 2003. This iteration was born somewhat out of necessity\, when high profile FM radio stations would request exclusive performances in their closet-sized studio spaces at ungodly hours of the morning. Faced with these challenging conditions\, the stripped down 2-person operation was easier to manage than a full band set-up. From there\, the duo spawned into something unto its own – branching out into covers and collaborating on originals\, while continuing to pull from Cave In’s catalog.
URL:https://harvardsquare.com/event/lous-underground-stephen-brodsky-adam-mcgrath-with-special-guest-dimitri-giannopoulos/
LOCATION:Lou’s\, 13 Brattle St\, Cambridge\, MA\, 02138\, United States
CATEGORIES:Live Music
ATTACH;FMTTYPE=image/png:https://harvardsquare.com/wp-content/uploads/2026/02/Screenshot-2026-02-20-165004.png
END:VEVENT
END:VCALENDAR