BEGIN:VCALENDAR
VERSION:2.0
PRODID:-//Harvard Square Business Association - ECPv6.15.20//NONSGML v1.0//EN
CALSCALE:GREGORIAN
METHOD:PUBLISH
X-ORIGINAL-URL:https://harvardsquare.com
X-WR-CALDESC:Events for Harvard Square Business Association
REFRESH-INTERVAL;VALUE=DURATION:PT1H
X-Robots-Tag:noindex
X-PUBLISHED-TTL:PT1H
BEGIN:VTIMEZONE
TZID:America/New_York
BEGIN:DAYLIGHT
TZOFFSETFROM:-0500
TZOFFSETTO:-0400
TZNAME:EDT
DTSTART:20250309T070000
END:DAYLIGHT
BEGIN:STANDARD
TZOFFSETFROM:-0400
TZOFFSETTO:-0500
TZNAME:EST
DTSTART:20251102T060000
END:STANDARD
BEGIN:DAYLIGHT
TZOFFSETFROM:-0500
TZOFFSETTO:-0400
TZNAME:EDT
DTSTART:20260308T070000
END:DAYLIGHT
BEGIN:STANDARD
TZOFFSETFROM:-0400
TZOFFSETTO:-0500
TZNAME:EST
DTSTART:20261101T060000
END:STANDARD
BEGIN:DAYLIGHT
TZOFFSETFROM:-0500
TZOFFSETTO:-0400
TZNAME:EDT
DTSTART:20270314T070000
END:DAYLIGHT
BEGIN:STANDARD
TZOFFSETFROM:-0400
TZOFFSETTO:-0500
TZNAME:EST
DTSTART:20271107T060000
END:STANDARD
END:VTIMEZONE
BEGIN:VEVENT
DTSTART;TZID=America/New_York:20260426T170000
DTEND;TZID=America/New_York:20260426T170000
DTSTAMP:20260425T200925
CREATED:20260325T191459Z
LAST-MODIFIED:20260325T191509Z
UID:10001669-1777222800-1777222800@harvardsquare.com
SUMMARY:Heather Maloney
DESCRIPTION:With over 1\,000 international shows and 8 studio albums under her belt\, she is now on the brink of releasing her 9th and most personal record to date\, “Exploding Star” (out Jan 2025)\, after which she’ll embark on an international release tour throughout the US and Europe.
URL:https://harvardsquare.com/event/heather-maloney/
LOCATION:Passim\, 47 Palmer Street\, Cambridge\, MA\, 02138\, United States
CATEGORIES:Live Music
ATTACH;FMTTYPE=image/png:https://harvardsquare.com/wp-content/uploads/2026/03/Screenshot-2026-03-25-151430.png
END:VEVENT
BEGIN:VEVENT
DTSTART;TZID=America/New_York:20260427T190000
DTEND;TZID=America/New_York:20260427T190000
DTSTAMP:20260425T200925
CREATED:20260325T192101Z
LAST-MODIFIED:20260325T192115Z
UID:10001670-1777316400-1777316400@harvardsquare.com
SUMMARY:Minor Gold
DESCRIPTION:Delivering heartfelt songs\, free-spirited rhythms and magnetic onstage chemistry\, Minor Gold bring something both familiar and refreshingly new to the Americana/folk world. Since forming in 2022\, Parsons and McNeil have spent much of their time on international highways\, carrying their songs across the U.S.\, Canada\, Europe and Australia. They’ve won over the finest listening rooms\, appeared at major festivals\, delivered official showcases\, and shared stages with Grammy winner Dan Navarro\, as well as supporting The Teskey Brothers in the U.S.
URL:https://harvardsquare.com/event/minor-gold/
LOCATION:Passim\, 47 Palmer Street\, Cambridge\, MA\, 02138\, United States
CATEGORIES:Live Music
ATTACH;FMTTYPE=image/png:https://harvardsquare.com/wp-content/uploads/2026/03/Screenshot-2026-03-25-152036.png
END:VEVENT
BEGIN:VEVENT
DTSTART;TZID=America/New_York:20260428T190000
DTEND;TZID=America/New_York:20260428T190000
DTSTAMP:20260425T200925
CREATED:20260408T201651Z
LAST-MODIFIED:20260408T201703Z
UID:10001813-1777402800-1777402800@harvardsquare.com
SUMMARY:Alasdair Fraser & Natalie Haas
DESCRIPTION:The musical partnership between consummate performer Alasdair Fraser\, “the Michael Jordan of Scottish fiddling”\, and brilliant Californian cellist Natalie Haas spans the full spectrum between intimate chamber music and ecstatic dance energy. Over the last 20 years of creating a buzz at festivals and concert halls across the world\, they have truly set the standard for fiddle and cello in traditional music. They continue to thrill audiences internationally with their virtuosic playing\, their near-telepathic understanding and the joyful spontaneity and sheer physical presence of their music.
URL:https://harvardsquare.com/event/alasdair-fraser-natalie-haas/
LOCATION:Passim\, 47 Palmer Street\, Cambridge\, MA\, 02138\, United States
CATEGORIES:Live Music
ATTACH;FMTTYPE=image/png:https://harvardsquare.com/wp-content/uploads/2026/04/Screenshot-2026-04-08-161628.png
END:VEVENT
BEGIN:VEVENT
DTSTART;TZID=America/New_York:20260429T190000
DTEND;TZID=America/New_York:20260429T190000
DTSTAMP:20260425T200925
CREATED:20260408T201934Z
LAST-MODIFIED:20260408T201943Z
UID:10001814-1777489200-1777489200@harvardsquare.com
SUMMARY:Luke Bulla
DESCRIPTION:Luke Bulla has been singing and playing music most of his life. Touring with and singing in his family band from age four\, Luke took up the fiddle at seven. Over the course of the next few years\, he won the National Fiddle Contest (in Weiser\, Idaho) six times in his respective age categories. His seventh win came in the Grand Champion division at age sixteen\, making him the youngest to have earned the title at the time. Entering Nashville’s Grand Master Fiddle Championship at age ten\, Luke distinguished himself by being the youngest person to have made the top ten. In addition to violin\, Luke plays guitar and mandolin\, and sings and writes songs.
URL:https://harvardsquare.com/event/luke-bulla/
LOCATION:Passim\, 47 Palmer Street\, Cambridge\, MA\, 02138\, United States
CATEGORIES:Live Music
ATTACH;FMTTYPE=image/png:https://harvardsquare.com/wp-content/uploads/2026/04/Screenshot-2026-04-08-161912.png
END:VEVENT
BEGIN:VEVENT
DTSTART;TZID=America/New_York:20260430T190000
DTEND;TZID=America/New_York:20260430T190000
DTSTAMP:20260425T200925
CREATED:20260408T202239Z
LAST-MODIFIED:20260408T202249Z
UID:10001815-1777575600-1777575600@harvardsquare.com
SUMMARY:Trace Bundy
DESCRIPTION:Internationally-acclaimed guitar virtuoso Trace Bundy must be seen\, not just heard. His music is poetry in motion\, using harmonics\, looping\, multiple capos\, and his unique banter and stage presence to deliver an unforgettable live concert experience. Listening to his intricate arrangements is one thing\, but seeing the fan-dubbed “Acoustic Ninja” play live confounds even the most accomplished music lovers as to how one person can do all that with just two hands and ten fingers.
URL:https://harvardsquare.com/event/trace-bundy/
LOCATION:Passim\, 47 Palmer Street\, Cambridge\, MA\, 02138\, United States
CATEGORIES:Live Music
ATTACH;FMTTYPE=image/png:https://harvardsquare.com/wp-content/uploads/2026/04/Screenshot-2026-04-08-162221.png
END:VEVENT
BEGIN:VEVENT
DTSTART;TZID=America/New_York:20260501T190000
DTEND;TZID=America/New_York:20260501T190000
DTSTAMP:20260425T200925
CREATED:20260414T163517Z
LAST-MODIFIED:20260414T163528Z
UID:10002114-1777662000-1777662000@harvardsquare.com
SUMMARY:Kenny White feat. Kevin Barry & Duke Levine. Spottiswoode opens
DESCRIPTION:KENNY WHITE comes to the world of the touring singer-songwriter following a long and successful musical journey. An accomplished pianist\, who also performs on guitar\, Kenny has now become more known for his clever lyrics. LONG LIST OF PRIORS\, his aptly named current album\, is the latest collection of original songs: snapshots of the human condition. Audiences often comment that a Kenny White concert moves them to laughter and tears — sometimes within the same song! “If Mark Twain could sing and play piano like a virtuoso\, his name would be Kenny White.” –Stu Kuby\, The Strand\, Hudson Falls\, NY. Kenny recently completed an 18-month tour performing his original songs while traveling as the opener for Stephen Stills & Judy Collins\, and has toured for many years with Cheryl Wheeler. He is looking forward to returning to the road to perform his own full-length shows.
URL:https://harvardsquare.com/event/kenny-white-feat-kevin-barry-duke-levine-spottiswoode-opens/
LOCATION:Passim\, 47 Palmer Street\, Cambridge\, MA\, 02138\, United States
CATEGORIES:Live Music
ATTACH;FMTTYPE=image/png:https://harvardsquare.com/wp-content/uploads/2026/04/Screenshot-2026-04-14-123453.png
END:VEVENT
BEGIN:VEVENT
DTSTART;TZID=America/New_York:20260503T180000
DTEND;TZID=America/New_York:20260503T180000
DTSTAMP:20260425T200925
CREATED:20260414T170729Z
LAST-MODIFIED:20260414T170739Z
UID:10002115-1777831200-1777831200@harvardsquare.com
SUMMARY:É.T.É
DESCRIPTION:Awarded the OPUS prize for “Discovery of the Year 2017-2018”\, among many other accolades since their first album release in 2017\, this trio is quickly winning over the hearts of listeners worldwide\, young and old alike. É.T.É are Élisabeth (fiddle\, step-dancing\, vocals)\, Thierry (bouzouki\, podorythmie\, vocals)\, and Élisabeth (cello\, vocals). The word été in French means summer–a fitting tribute to how their original\, lively take on Québec traditional music is infused with a new vitality. \nWith lovely vocal harmonies\, deep groove\, and rich instrumentation\, É.T.É are an explosive trio on stage\, transforming the nostalgia of a kitchen party into an unforgettable show experience that celebrates the joie de vivre of Québecois culture.
URL:https://harvardsquare.com/event/e-t-e/
LOCATION:Passim\, 47 Palmer Street\, Cambridge\, MA\, 02138\, United States
CATEGORIES:Live Music
ATTACH;FMTTYPE=image/png:https://harvardsquare.com/wp-content/uploads/2026/04/Screenshot-2026-04-14-130704.png
END:VEVENT
BEGIN:VEVENT
DTSTART;TZID=America/New_York:20260505T200000
DTEND;TZID=America/New_York:20260505T200000
DTSTAMP:20260425T200925
CREATED:20260414T171335Z
LAST-MODIFIED:20260414T171709Z
UID:10002116-1778011200-1778011200@harvardsquare.com
SUMMARY:Joe Pernice
DESCRIPTION:Joe Pernice is a songwriter celebrated for his rare ability to pair luminous melodies with quietly devastating emotional depth. Over the course of a career spanning more than three decades\, Pernice has built a body of work that is literate\, melodic\, and enduring—music that reveals new layers with each listen. \nFirst gaining attention in the early 1990s with alt-country band Scud Mountain Boys\, Pernice later founded the Pernice Brothers\, a project that would firmly establish his reputation as one of the most refined songwriters of his generation. From the initial Overcome by Happiness and across numerous albums\, his songs have been marked by elegant arrangements\, strong pop instincts\, and lyrics that balance wit\, melancholy\, and narrative precision. Drawing from folk\, power pop\, and chamber pop traditions\, Pernice’s music feels both timeless and unmistakably personal. His collaborations with a range of musicians include Norman Blake (Teenage Fanclub)\, Joshua Karp\, Neko Case\, Aimee Mann\, and the iconic Jimmy Webb. \nCritics have consistently praised his work for its craftsmanship and emotional intelligence. Major publications including Rolling Stone\, Pitchfork\, Magnet\, The Guardian\, and Mojo have highlighted his gift for melody and his ability to cloak dark\, complex themes in deceptively beautiful songs.
URL:https://harvardsquare.com/event/joe-pernice/
LOCATION:Passim\, 47 Palmer Street\, Cambridge\, MA\, 02138\, United States
CATEGORIES:Live Music
ATTACH;FMTTYPE=image/png:https://harvardsquare.com/wp-content/uploads/2026/04/Screenshot-2026-04-14-131313.png
END:VEVENT
BEGIN:VEVENT
DTSTART;TZID=America/New_York:20260506T200000
DTEND;TZID=America/New_York:20260506T200000
DTSTAMP:20260425T200925
CREATED:20260414T171459Z
LAST-MODIFIED:20260414T171509Z
UID:10002117-1778097600-1778097600@harvardsquare.com
SUMMARY:Joe Pernice
DESCRIPTION:Joe Pernice is a songwriter celebrated for his rare ability to pair luminous melodies with quietly devastating emotional depth. Over the course of a career spanning more than three decades\, Pernice has built a body of work that is literate\, melodic\, and enduring—music that reveals new layers with each listen. \nFirst gaining attention in the early 1990s with alt-country band Scud Mountain Boys\, Pernice later founded the Pernice Brothers\, a project that would firmly establish his reputation as one of the most refined songwriters of his generation. From the initial Overcome by Happiness and across numerous albums\, his songs have been marked by elegant arrangements\, strong pop instincts\, and lyrics that balance wit\, melancholy\, and narrative precision. Drawing from folk\, power pop\, and chamber pop traditions\, Pernice’s music feels both timeless and unmistakably personal. His collaborations with a range of musicians include Norman Blake (Teenage Fanclub)\, Joshua Karp\, Neko Case\, Aimee Mann\, and the iconic Jimmy Webb. \nCritics have consistently praised his work for its craftsmanship and emotional intelligence. Major publications including Rolling Stone\, Pitchfork\, Magnet\, The Guardian\, and Mojo have highlighted his gift for melody and his ability to cloak dark\, complex themes in deceptively beautiful songs.
URL:https://harvardsquare.com/event/joe-pernice-2/
LOCATION:Passim\, 47 Palmer Street\, Cambridge\, MA\, 02138\, United States
CATEGORIES:Live Music
ATTACH;FMTTYPE=image/png:https://harvardsquare.com/wp-content/uploads/2026/04/Screenshot-2026-04-14-131313.png
END:VEVENT
BEGIN:VEVENT
DTSTART;TZID=America/New_York:20260507T190000
DTEND;TZID=America/New_York:20260507T190000
DTSTAMP:20260425T200925
CREATED:20260414T172455Z
LAST-MODIFIED:20260414T172504Z
UID:10002118-1778180400-1778180400@harvardsquare.com
SUMMARY:Sloan Wainwright\, Susan Cattaneo\, and Cosy Sheridan: Mother Tree
DESCRIPTION:Sloan Wainwright is a songwriter\, singer\, performer\, teacher\, mentor and collaborator. A unique hybrid of pop\, folk\, jazz and blues\, Wainwright’s music is unified by her melodious tone and rich\, powerful contralto. Over the course of a 30-year career in music\, she has played the great concert halls\, the most storied listening rooms and top music festivals while also teaching at the nation’s leading music retreats. She has inspired hundreds of students on their creative journeys and collaborated with dozens of musicians\, writers\, choreographers and performers. \nWith her powerful voice\, captivating melodies and finely-crafted lyrics\, Susan Cattaneo is one of Boston’s most respected singer-songwriters. Combining vivid storytelling with a modern songwriter’s spin. Susan’s music blends folk\, rockand blues with hint of country. She likes to call it\, “New England Americana”. \nCosy Sheridan has been called one of our era’s finest and most thoughtful songwriters. She has played everywhere from Carnegie Hall to the Cowgirl Hall of Fame as well as most of the folk clubs across the country. As The Chicago Examiner wrote: “You can’t continue touring for twenty or so years\, unless you know what you’re doing\, and do it well.”
URL:https://harvardsquare.com/event/sloan-wainwright-susan-cattaneo-and-cosy-sheridan-mother-tree/
LOCATION:Passim\, 47 Palmer Street\, Cambridge\, MA\, 02138\, United States
CATEGORIES:Live Music
ATTACH;FMTTYPE=image/png:https://harvardsquare.com/wp-content/uploads/2026/04/Screenshot-2026-04-14-132433.png
END:VEVENT
BEGIN:VEVENT
DTSTART;TZID=America/New_York:20260508T190000
DTEND;TZID=America/New_York:20260508T190000
DTSTAMP:20260425T200925
CREATED:20260414T172824Z
LAST-MODIFIED:20260414T172837Z
UID:10002119-1778266800-1778266800@harvardsquare.com
SUMMARY:Gary Louris
DESCRIPTION:Over the last three decades\, singer\, songwriter\, guitarist and producer Gary Louris has built a deeply compelling body of music whose artistry and integrity has won the loyalty of an international audience and the respect of both critics and his peers. Best known for his seminal work with The Jayhawks\, he is one of the most acclaimed musicians to come out of Minnesota’s vibrant rock scene. \nIn the summer of 2024\, Louris announced on Patreon that his third solo album would be released in early 2025. Dark Country was released on February 14\, 2025 – Valentine’s Day\, appropriate for the subject matter of the album – on Sham/Thirty Tigers. Dark Country received widespread acclaim from fans and the press. Spin named Dark Country one of their favorite albums of 2025. \nAlong with keeping the Jayhawks flame burning\, Louris is currently looking to the future and is busier than ever – writing\, performing\, producing and exploring new collaborative opportunities.
URL:https://harvardsquare.com/event/gary-louris/
LOCATION:Passim\, 47 Palmer Street\, Cambridge\, MA\, 02138\, United States
CATEGORIES:Live Music
ATTACH;FMTTYPE=image/png:https://harvardsquare.com/wp-content/uploads/2026/04/Screenshot-2026-04-14-132757.png
END:VEVENT
BEGIN:VEVENT
DTSTART;TZID=America/New_York:20260509T140000
DTEND;TZID=America/New_York:20260509T140000
DTSTAMP:20260425T200925
CREATED:20260414T174341Z
LAST-MODIFIED:20260414T174351Z
UID:10002122-1778335200-1778335200@harvardsquare.com
SUMMARY:Kipling Drozek and the Chaperones
DESCRIPTION:Kipling Drozek is twelve years old. His favorite things are video games\, “Weird Al” Yankovic\, Pokémon\, LEGO Mario\, and food. His least favorite things? Long walks\, school\, and consequences. Kip began writing music during COVID\, releasing his first album\, Oreshadow\, at the age of ten—and earning the record for the youngest musician ever to headline Club Passim. \nNow Kip is back with his sophomore outing\, Ick. Ick is a concept album all about things that Kip does not like: love songs\, coffee\, long car drives\, writer’s block\, cleaning his room\, and more. Featuring a full band and recorded/produced by the Grammy-nominated Zachariah Hickman\, the album is filled with catchy\, intricate\, open-hearted anthems about childhood\, often veering into accidentally profound reflections on the human experience.
URL:https://harvardsquare.com/event/kipling-drozek-and-the-chaperones/
LOCATION:Passim\, 47 Palmer Street\, Cambridge\, MA\, 02138\, United States
CATEGORIES:Live Music
ATTACH;FMTTYPE=image/png:https://harvardsquare.com/wp-content/uploads/2026/04/Screenshot-2026-04-14-134321.png
END:VEVENT
BEGIN:VEVENT
DTSTART;TZID=America/New_York:20260509T190000
DTEND;TZID=America/New_York:20260509T190000
DTSTAMP:20260425T200925
CREATED:20260414T174622Z
LAST-MODIFIED:20260414T174631Z
UID:10002125-1778353200-1778353200@harvardsquare.com
SUMMARY:Lyle Brewer
DESCRIPTION:Lyle Brewer is a guitarist and songwriter from Massachusetts. He has released several instrumental guitar records and has performed all over the country with such artists as Neighbor\, Ryan Montbleau and Lori McKenna. For the last decade Lyle has been a professor at Berklee College of Music in Boston. He has released three transcription books and maintains a hearty teaching schedule through his Patreon site. His solo show will consist of instrumental music from his most recent record Promise Ring\, as well as the previous albums Juno\, Get It Together and Hold On.
URL:https://harvardsquare.com/event/lyle-brewer/
LOCATION:Passim\, 47 Palmer Street\, Cambridge\, MA\, 02138\, United States
CATEGORIES:Live Music
ATTACH;FMTTYPE=image/png:https://harvardsquare.com/wp-content/uploads/2026/04/Screenshot-2026-04-14-134602.png
END:VEVENT
BEGIN:VEVENT
DTSTART;TZID=America/New_York:20260510T180000
DTEND;TZID=America/New_York:20260510T180000
DTSTAMP:20260425T200925
CREATED:20260414T175329Z
LAST-MODIFIED:20260414T175341Z
UID:10002127-1778436000-1778436000@harvardsquare.com
SUMMARY:20th Anniversary Show: Porch Party Mamas
DESCRIPTION:Boston’s Porch Party Mamas are proof that great songs\, and great friendships\, make great bands. Their concerts are equal parts musical craftsmanship and joyous camaraderie: three voices weaving tight harmonies\, instruments changing hands mid-song\, and stories that have audiences laughing one minute and misty-eyed the next. The Porch Party Mamas have built a devoted following by turning every stage into the kind of gathering where everyone feels like family.
URL:https://harvardsquare.com/event/20th-anniversary-show-porch-party-mamas/
LOCATION:Passim\, 47 Palmer Street\, Cambridge\, MA\, 02138\, United States
CATEGORIES:Live Music
ATTACH;FMTTYPE=image/png:https://harvardsquare.com/wp-content/uploads/2026/04/Screenshot-2026-04-14-135252.png
END:VEVENT
BEGIN:VEVENT
DTSTART;TZID=America/New_York:20260514T190000
DTEND;TZID=America/New_York:20260514T190000
DTSTAMP:20260425T200925
CREATED:20260414T182901Z
LAST-MODIFIED:20260414T182912Z
UID:10002129-1778785200-1778785200@harvardsquare.com
SUMMARY:Case Oats
DESCRIPTION:Casey Walker never thought she’d write an album. A novel\, maybe\, when she was in undergraduate school for creative writing. But music always called to her\, and it wasn’t until she moved to Chicago and met a stable of musicians that she realized that recording was within reach. \nWalker formed Case Oats in 2018 and turned the band into a Chicago fixture until finally\, in 2025\, signing with Merge Records\, and releasing a debut record to critical acclaim. Chicago Sun-Times called it a “standout debut.” Rolling Stone hailed it as “a winning set of alt-country and folk songs with warm melodies\, novelistic verses\, and unassuming vocals that recall Daniel Johnston and Kimya Dawson.” \nThe album was produced by Walker’s longtime bandmate and fiancé\, Spencer Tweedy (drums)\, and recorded in a makeshift Chicago basement studio\, in the bungalow rented by Jason Ashworth (bass) and Max Subar (guitar and pedal steel)\, featuring fiddle work by Scott Daniel and guest pianist/organist Nolan Chin. Walker’s songs get to the heart of relationships and experience\, and bring city life down to earth—to the porch swing\, where Walker believes everyone ultimately belongs.
URL:https://harvardsquare.com/event/case-oats/
LOCATION:Passim\, 47 Palmer Street\, Cambridge\, MA\, 02138\, United States
CATEGORIES:Live Music
ATTACH;FMTTYPE=image/png:https://harvardsquare.com/wp-content/uploads/2026/04/Screenshot-2026-04-14-142839.png
END:VEVENT
BEGIN:VEVENT
DTSTART;TZID=America/New_York:20260515T190000
DTEND;TZID=America/New_York:20260515T190000
DTSTAMP:20260425T200925
CREATED:20260414T184131Z
LAST-MODIFIED:20260414T184142Z
UID:10002130-1778871600-1778871600@harvardsquare.com
SUMMARY:Caiola
DESCRIPTION:Jordan Caiola (CAI•OLA) is a songwriter/musician/producer based out of Philadelphia. He founded the indie rock band Mo Lowda & The Humble in 2010 and\, due to its intense touring schedule\, the band became his main priority along with his side project NightSeason (founded in 2016) – an indie/electro-pop producer duo. Though he always felt writing folk songs was his true “wheelhouse”\, it wasn’t until the nationwide lockdown in early 2020 that he finally put aside the time to record a collection of those songs for his first solo album ‘Only Real When Shared’. His second record\, a more mature and textural follow up entitled\, ‘This Could Be Everything’\, was released August 2nd\, 2024 and is streaming everywhere.
URL:https://harvardsquare.com/event/caiola/
LOCATION:Passim\, 47 Palmer Street\, Cambridge\, MA\, 02138\, United States
CATEGORIES:Live Music
ATTACH;FMTTYPE=image/png:https://harvardsquare.com/wp-content/uploads/2026/04/Screenshot-2026-04-14-144056.png
END:VEVENT
BEGIN:VEVENT
DTSTART;TZID=America/New_York:20260516T140000
DTEND;TZID=America/New_York:20260516T140000
DTSTAMP:20260425T200925
CREATED:20260414T185231Z
LAST-MODIFIED:20260414T185240Z
UID:10002134-1778940000-1778940000@harvardsquare.com
SUMMARY:Rachael Kilgour & Jean Rohe
DESCRIPTION:Rachael Kilgour writes in hopes of finding a truth she can live with. Her heartfelt release\, “My Father Loved Me”\, was written in memory of her late Canadian dad and and led her on an extensive tour across the U.S. and Canada. In the spare and often gutting language for which she is known\, Kilgour poses questions about belonging\, inheritance and grief and triumphantly affirms the value of one ordinary working man’s life. Her live performances radiate with sincerity and humor. \nJean Rohe writes one-of-a-kind narrative songs\, concerned as much with the interior lives of her narrators as with the sociopolitical forces that shape them. Her long list of awards is a testament to the breadth of her vision\, spanning prizes in roots music\, song craft\, lyric writing\, theater arts\, social-justice work\, jazz performance\, and arts education from organizations as diverse as the Brooklyn Arts Council\, The NYC Women’s Fund for Media\, the Montreux Jazz Festival\, the Telluride Bluegrass Festival\, the Jonathan Larson Foundation\, the Johnny Mercer Foundation\, and MacDowell.
URL:https://harvardsquare.com/event/rachael-kilgour-jean-rohe/
LOCATION:Passim\, 47 Palmer Street\, Cambridge\, MA\, 02138\, United States
CATEGORIES:Live Music
ATTACH;FMTTYPE=image/png:https://harvardsquare.com/wp-content/uploads/2026/04/Screenshot-2026-04-14-145058.png
END:VEVENT
BEGIN:VEVENT
DTSTART;TZID=America/New_York:20260516T190000
DTEND;TZID=America/New_York:20260516T190000
DTSTAMP:20260425T200925
CREATED:20260414T190911Z
LAST-MODIFIED:20260414T191011Z
UID:10002137-1778958000-1778958000@harvardsquare.com
SUMMARY:Abigail Lapell
DESCRIPTION:Toronto songwriter and multi-instrumentalist Abigail Lapell returns with More Songs About Love\, the extended companion to her JUNO-nominated 2024 album Anniversary. An evocative collection of original love songs\, Anniversary was produced with Great Lake Swimmers’ Tony Dekker and recorded at 200-year-old St Mark’s Church in Niagara-on-the-Lake\, Ontario. Dekker helped shape the sessions’ spooky\, resonant sound and also lent his voice to a couple of spellbinding duets. \nBalancing upbeat earworms with elegiac ballads\, More Songs About Love adds eight new stripped-down tracks to the collection. Combining cynical and sentimental elements\, the collection ultimately emerges as an earnest celebration of love. Anniversary & More Songs About Love is out May 3\, 2025 on Outside Music. \nOver the past six years and four spellbinding releases\, Lapell has garnered four Canadian Folk Music Awards and accrued a staggering 60 million streams across online platforms. She tours regularly across Canada\, the U.S. and Europe.
URL:https://harvardsquare.com/event/abigail-lapell/
LOCATION:Passim\, 47 Palmer Street\, Cambridge\, MA\, 02138\, United States
CATEGORIES:Live Music
ATTACH;FMTTYPE=image/png:https://harvardsquare.com/wp-content/uploads/2026/04/Screenshot-2026-04-14-150838.png
END:VEVENT
BEGIN:VEVENT
DTSTART;TZID=America/New_York:20260517T180000
DTEND;TZID=America/New_York:20260517T180000
DTSTAMP:20260425T200925
CREATED:20260414T191906Z
LAST-MODIFIED:20260414T191918Z
UID:10002138-1779040800-1779040800@harvardsquare.com
SUMMARY:Chris & Meredith Thompson
DESCRIPTION:Chris & Meredith Thompson are “powerful performers with a natural warmth for the live concert stage” writes Tom Lounges in The Beat\, (Valparaiso Indiana). The sisters achieve a vocal harmony known uniquely to siblings. At times\, their voices effortlessly combine in harmony as if they were two parts of one whole. Then\, just as effortlessly\, the individual voices will emerge\, creating a vocal sound that has become their trademark. Chris plays percussive\, riff-driven guitar. Meredith plays congas and flute. The Thompsons tell stories that resonate with the audience\, stories that celebrate common experience. “It is their mix of intriguing stories of people’s hopes and histories that makes the Thompsons music so compelling” writes MaryAnn Robertson in Spotlight (Portsmouth\, NH). The Thompsons have performed in venues across the US and released seven albums\,and look forward to returning to the Passim stage. They will be joined by Andy Brewster on bass and Richie Smith on lead guitar.
URL:https://harvardsquare.com/event/chris-meredith-thompson/
LOCATION:Passim\, 47 Palmer Street\, Cambridge\, MA\, 02138\, United States
CATEGORIES:Live Music
ATTACH;FMTTYPE=image/png:https://harvardsquare.com/wp-content/uploads/2026/04/Screenshot-2026-04-14-151841.png
END:VEVENT
BEGIN:VEVENT
DTSTART;TZID=America/New_York:20260521T190000
DTEND;TZID=America/New_York:20260521T190000
DTSTAMP:20260425T200925
CREATED:20260414T192943Z
LAST-MODIFIED:20260414T192955Z
UID:10002139-1779390000-1779390000@harvardsquare.com
SUMMARY:Elizabeth & The Catapult
DESCRIPTION:Elizabeth Ziman\, who performs as Elizabeth and the Catapult\, is a singer-songwriter from Brooklyn. She has toured with the likes of Amy Helm\, Sara Bareilles and Kishi Bashi\, collaborated with Esperanza Spalding\, Gillian Welch\, Blake Mills and Ben Folds\, and scored with Paul Brill\, a variety of international award-winning documentaries including “Trapped”\, a Peabody winner. She won an Independent Music Award for Songwriting. Her songs have been featured in national television campaigns for Google and Amazon. Always writing\, Elizabeth narrowed her vast collection of previously unrecorded material down to her fifth full-length studio album “Sincerely\, E”\, which she self-produced at home and released on Compass Records in March 2021. One of the singles off that album\, “Together Alone”\, made it onto NPR’s “All Songs Considered 10 best songs of 2021” list. Her upcoming album “I Love You Still” is set for release in the winter of 2026.
URL:https://harvardsquare.com/event/elizabeth-the-catapult/
LOCATION:Passim\, 47 Palmer Street\, Cambridge\, MA\, 02138\, United States
CATEGORIES:Live Music
ATTACH;FMTTYPE=image/png:https://harvardsquare.com/wp-content/uploads/2026/04/Screenshot-2026-04-14-152925.png
END:VEVENT
END:VCALENDAR