BEGIN:VCALENDAR
VERSION:2.0
PRODID:-//Harvard Square Business Association - ECPv6.15.20//NONSGML v1.0//EN
CALSCALE:GREGORIAN
METHOD:PUBLISH
X-ORIGINAL-URL:https://harvardsquare.com
X-WR-CALDESC:Events for Harvard Square Business Association
REFRESH-INTERVAL;VALUE=DURATION:PT1H
X-Robots-Tag:noindex
X-PUBLISHED-TTL:PT1H
BEGIN:VTIMEZONE
TZID:America/New_York
BEGIN:DAYLIGHT
TZOFFSETFROM:-0500
TZOFFSETTO:-0400
TZNAME:EDT
DTSTART:20250309T070000
END:DAYLIGHT
BEGIN:STANDARD
TZOFFSETFROM:-0400
TZOFFSETTO:-0500
TZNAME:EST
DTSTART:20251102T060000
END:STANDARD
BEGIN:DAYLIGHT
TZOFFSETFROM:-0500
TZOFFSETTO:-0400
TZNAME:EDT
DTSTART:20260308T070000
END:DAYLIGHT
BEGIN:STANDARD
TZOFFSETFROM:-0400
TZOFFSETTO:-0500
TZNAME:EST
DTSTART:20261101T060000
END:STANDARD
BEGIN:DAYLIGHT
TZOFFSETFROM:-0500
TZOFFSETTO:-0400
TZNAME:EDT
DTSTART:20270314T070000
END:DAYLIGHT
BEGIN:STANDARD
TZOFFSETFROM:-0400
TZOFFSETTO:-0500
TZNAME:EST
DTSTART:20271107T060000
END:STANDARD
END:VTIMEZONE
BEGIN:VEVENT
DTSTART;TZID=America/New_York:20260413T190000
DTEND;TZID=America/New_York:20260413T190000
DTSTAMP:20260425T232551
CREATED:20260325T181422Z
LAST-MODIFIED:20260325T181430Z
UID:10001659-1776106800-1776106800@harvardsquare.com
SUMMARY:Passim Monday Discovery Series
DESCRIPTION:The Discovery Series is a monthly event sponsored by Nine Athens Music to bring new artists into the Passim community. Through the Discovery Series\, we provide a platform to connect new artists with a music-loving audience. These artists may be brand new to the club or may have performed at our campfire. festivals\, but the Discovery Series features artists in a room filled with our dedicated members.
URL:https://harvardsquare.com/event/passim-monday-discovery-series/
LOCATION:Passim\, 47 Palmer Street\, Cambridge\, MA\, 02138\, United States
CATEGORIES:Live Music
ATTACH;FMTTYPE=image/png:https://harvardsquare.com/wp-content/uploads/2026/03/Screenshot-2026-03-25-141355.png
END:VEVENT
BEGIN:VEVENT
DTSTART;TZID=America/New_York:20260412T160000
DTEND;TZID=America/New_York:20260412T160000
DTSTAMP:20260425T232551
CREATED:20260325T181057Z
LAST-MODIFIED:20260325T181104Z
UID:10001658-1776009600-1776009600@harvardsquare.com
SUMMARY:Jon Svetkey’s Big Birthday Bash
DESCRIPTION:In the 1990s\, before he spent 20+ years as stay-at-home dad\, Jon headlined at dozens of folk clubs\, colleges and coffeehouses throughout the Northeast and Midwest. Club Passim\, The Bluebird Cafe\, Eddie’s Attic\, Caffe Lena\, Canal Street Tavern\, Cafe Carpe\, The Blue Moon Coffeehouse at Illinois Wesleyan\, Skidmore College\, WPI\, and Indiana University is just a partial list. \nHe shared co-bills and “writers-in-the-round” nights with the likes of Kristian Bush\, Shawn Mullins\, Peirce Pettis\, Dar Williams\, and Carrie Newcomer. He opened for legendary songwriters like Richard Thompson\, Loudon Wainwright III\, Peter Case\, John Gorka\, Cheryl Wheeler and David Mallett.
URL:https://harvardsquare.com/event/jon-svetkeys-big-birthday-bash/
LOCATION:Passim\, 47 Palmer Street\, Cambridge\, MA\, 02138\, United States
CATEGORIES:Live Music
ATTACH;FMTTYPE=image/png:https://harvardsquare.com/wp-content/uploads/2026/03/Screenshot-2026-03-25-141033.png
END:VEVENT
BEGIN:VEVENT
DTSTART;TZID=America/New_York:20260411T190000
DTEND;TZID=America/New_York:20260411T190000
DTSTAMP:20260425T232551
CREATED:20260325T180738Z
LAST-MODIFIED:20260325T180805Z
UID:10001657-1775934000-1775934000@harvardsquare.com
SUMMARY:Nellie McKay
DESCRIPTION:Nellie McKay has released an eclectic bunch of critically acclaimed albums\, her songs and sound ranging from jazz to pop to indefinable\, and with her latest\, HEY GUYS\, WATCH THIS\, ably assisted by The Carpenter Ants\, she taps into the soulful sounds of West Virginia. Coming soon\, the GET AWAY FROM ME demos on Omnivore Records.
URL:https://harvardsquare.com/event/nellie-mckay/
LOCATION:Passim\, 47 Palmer Street\, Cambridge\, MA\, 02138\, United States
CATEGORIES:Live Music
ATTACH;FMTTYPE=image/png:https://harvardsquare.com/wp-content/uploads/2026/03/Screenshot-2026-03-25-140714.png
END:VEVENT
BEGIN:VEVENT
DTSTART;TZID=America/New_York:20260410T190000
DTEND;TZID=America/New_York:20260410T190000
DTSTAMP:20260425T232551
CREATED:20260325T180451Z
LAST-MODIFIED:20260325T180500Z
UID:10001656-1775847600-1775847600@harvardsquare.com
SUMMARY:Alice Howe & Freebo
DESCRIPTION:Alice Howe & Freebo have undeniable chemistry. Rock bass legend Freebo weaves his fretless stylings into Alice’s soulful\, impeccably-tuned vocals for a harmony-driven performance showcasing two uniquely compelling songwriters. \nBest known for his ten years playing bass with Bonnie Raitt\, Freebo has toured and recorded with some of the greatest artists of his generation\, including John Mayall\, Ringo Starr\, Crosby Stills & Nash\, Maria Muldaur\, Joe Walsh\, and Dr. John. For the past twenty-five years\, he’s been writing\, recording\, and performing his own original music. To hear Alice Howe sing is to be enraptured by the natural\, unaffected beauty of her voice. There’s no artifice\, no histrionics — just honest\, authentic\, emotionally resonant singing in the tradition of the roots music that shaped her. She recently had the honor of being named Best Female Artist at the International Acoustic Music Awards.
URL:https://harvardsquare.com/event/alice-howe-freebo/
LOCATION:Passim\, 47 Palmer Street\, Cambridge\, MA\, 02138\, United States
CATEGORIES:Live Music
ATTACH;FMTTYPE=image/png:https://harvardsquare.com/wp-content/uploads/2026/03/Screenshot-2026-03-25-140419.png
END:VEVENT
BEGIN:VEVENT
DTSTART;TZID=America/New_York:20260409T190000
DTEND;TZID=America/New_York:20260409T190000
DTSTAMP:20260425T232551
CREATED:20260325T175818Z
LAST-MODIFIED:20260325T175826Z
UID:10001655-1775761200-1775761200@harvardsquare.com
SUMMARY:Emma Cook\, Kara McKee\, and Louie Lou Louis
DESCRIPTION:Emma Cook is a modern folk storyteller\, releasing an album for our times. Writing and performing her original music for just about two decades\, her recent release Of the Morning offers some of her most vulnerable and finely crafted work to date. Emma is known for her expressive vocal range\, jazz-inflected chord choices\, and engaging live shows. With “gorgeous\, vivid songwriting” (Grace Potter) Emma writes about both the grand and the intimate moments that define a full life. \nJohn Legend thinks Kara’s musical choices are “smart and cool”.  Kara’s friend Rob once said: “If I ever get to heaven\, I hope the angels sing like Kara”.  In December of 2023\, Kara independently released her debut EP “Enough”.  The title track is a reminder that there are always brighter days ahead.  Kara will be the first to tell you that she is just getting started. \nLouie Lou Louis is a Brooklyn-based songster who combines an uplifting musicality with a soothing\, yet energizing vibe. Through life experiences and short stories\, he celebrates human imperfection and engages audiences with an infectious positivity. With a unique blend of folk\, jazz\, and global music\, he inspires joy and connection in any audience.
URL:https://harvardsquare.com/event/emma-cook-kara-mckee-and-louie-lou-louis/
LOCATION:Passim\, 47 Palmer Street\, Cambridge\, MA\, 02138\, United States
CATEGORIES:Live Music
ATTACH;FMTTYPE=image/png:https://harvardsquare.com/wp-content/uploads/2026/03/Screenshot-2026-03-25-135703.png
END:VEVENT
BEGIN:VEVENT
DTSTART;TZID=America/New_York:20260408T190000
DTEND;TZID=America/New_York:20260408T190000
DTSTAMP:20260425T232551
CREATED:20260325T175205Z
LAST-MODIFIED:20260325T175214Z
UID:10001654-1775674800-1775674800@harvardsquare.com
SUMMARY:Peter Case
DESCRIPTION:As a founding member of the early punk era trio The Nerves\, in 1977 Case toured the nation sharing bills with the Ramones\, Mink DeVille\, Pere Ubu\, and Devo. The Nerves single “Hanging on the Telephone\,” was covered by Blondie. In 1979\, Case formed the Plimsouls\, a record-breaking live act in California\, recording albums for Planet/Elektra and Geffen. Their independent single\, “A Million Miles Away\,” entered the Billboard charts and remains a garage rock standard\, performed by bands around the world. The band performed in the cult classic film Valley Girl and the Nerves and Plimsouls timeless teenage rock ‘n’ roll continues to appeal to fans of each new generation. \nAfter the Plimsouls\, Case rediscovered his musical roots on his self-titled solo debut\, produced by T Bone Burnett. The New York Times declared Peter Case the best album of 1986. It earned a five-star Rolling Stone review and a Grammy nomination. As one of the first songwriters of his generation to turn from rock music toward an acoustic sound\, Case also helped usher in what became known as Americana music. \nLast year he released his 16th solo album Doctor Moan. Case brings his considerable songwriting ability to this 11-song collection\, largely performed on piano\, including his first solo recorded instrumental. \n 
URL:https://harvardsquare.com/event/peter-case/
LOCATION:Passim\, 47 Palmer Street\, Cambridge\, MA\, 02138\, United States
CATEGORIES:Live Music
ATTACH;FMTTYPE=image/png:https://harvardsquare.com/wp-content/uploads/2026/03/Screenshot-2026-03-25-135143.png
END:VEVENT
BEGIN:VEVENT
DTSTART;TZID=America/New_York:20260407T180000
DTEND;TZID=America/New_York:20260407T180000
DTSTAMP:20260425T232551
CREATED:20260325T174910Z
LAST-MODIFIED:20260325T174918Z
UID:10001653-1775584800-1775584800@harvardsquare.com
SUMMARY:Gráinne Hunt with Jules Stewart
DESCRIPTION:Irish singer-songwriter Gráinne Hunt and San Diego drummer/vocalist Jules Stewart form a bi-continental queer folk duo known for their rich harmonies\, emotional depth\, and captivating onstage chemistry. Hunt’s voice – described as “complex coffee” and earning her comparisons to Tracy Chapman\, Natalie Merchant\, and even “The Irish Joni” – brings raw honesty and power to her songwriting. Stewart’s dynamic precision\, sensitivity\, and 25 years of drumming experience provide the perfect rhythmic and vocal counterpart\, creating a sound often likened to the Indigo Girls and Brandi Carlile. \nTogether\, they blend heartfelt storytelling with a fresh yet nostalgic folk energy that resonates deeply with audiences. Their 2025 highlights include multiple U.S. tours and performances across the U.K\, and the premiere of Hunt’s new show Queer Arrivals at the Liverpool Irish Festival. Praised for their warmth\, connection\, and top-tier musicianship\, Gráinne and Jules deliver intimate\, uplifting performances that leave listeners feeling held\, inspired\, and part of something shared.
URL:https://harvardsquare.com/event/grainne-hunt-with-jules-stewart/
LOCATION:Passim\, 47 Palmer Street\, Cambridge\, MA\, 02138\, United States
CATEGORIES:Live Music
ATTACH;FMTTYPE=image/png:https://harvardsquare.com/wp-content/uploads/2026/03/Screenshot-2026-03-25-134840.png
END:VEVENT
BEGIN:VEVENT
DTSTART;TZID=America/New_York:20260406T190000
DTEND;TZID=America/New_York:20260406T190000
DTSTAMP:20260425T232551
CREATED:20260325T174552Z
LAST-MODIFIED:20260325T174600Z
UID:10001652-1775502000-1775502000@harvardsquare.com
SUMMARY:Nidia Góngora
DESCRIPTION:The “Maestra Nidia Góngora” as she is known\, is the most recognized singer in the Colombian Pacific\, winner of the Shock Award and nominated for the Latin Grammy for best folklore album in 2019. \nSinger and researcher of traditional music from the Colombian South Pacific; Throughout her more than 20 years of experience as a composer and performer\, she has managed to build bridges between the traditional music of her native Timbiquí (Cauca) and other genres of world music.
URL:https://harvardsquare.com/event/nidia-gongora/
LOCATION:Passim\, 47 Palmer Street\, Cambridge\, MA\, 02138\, United States
CATEGORIES:Live Music
ATTACH;FMTTYPE=image/png:https://harvardsquare.com/wp-content/uploads/2026/03/Screenshot-2026-03-25-134530.png
END:VEVENT
BEGIN:VEVENT
DTSTART;TZID=America/New_York:20260404T190000
DTEND;TZID=America/New_York:20260404T190000
DTSTAMP:20260425T232551
CREATED:20260325T174036Z
LAST-MODIFIED:20260325T174046Z
UID:10001651-1775329200-1775329200@harvardsquare.com
SUMMARY:Ari Hest
DESCRIPTION:Ari Hest has crafted a unique path in music – independently building a loyal following through relentless college touring\, then on to major label albums\, and then reimagining listener engagement through fan-driven projects like “52” and his Patreon-powered “The Treehouse Project”. \nA grammy nominated singer/songwriter(best folk album\, 2017) who began his career two decades ago\, he’s performed both in the U.S. and abroad with artists like The Indigo Girls\, Martin Sexton\, Judy Collins and Suzanne Vega. \nMany of Ari’s songs have appeared on TV and film – The Path\, The Lincoln Lawyer\, Private Practice\, Army Wives\, and One Tree Hill to name a few. \nAri’s newest endeavor\, The Treehouse Project\, has him writing\, recording and releasing a song on his Patreon every two weeks since early 2022. Based on the votes of his subscribers\, he remixes the 10 favorite songs from each year and releases an album. The project is currently in its fourth year and is approaching 100 original songs.
URL:https://harvardsquare.com/event/ari-hest/
LOCATION:Passim\, 47 Palmer Street\, Cambridge\, MA\, 02138\, United States
CATEGORIES:Live Music
ATTACH;FMTTYPE=image/png:https://harvardsquare.com/wp-content/uploads/2026/03/Screenshot-2026-03-25-134009.png
END:VEVENT
BEGIN:VEVENT
DTSTART;TZID=America/New_York:20260403T190000
DTEND;TZID=America/New_York:20260403T190000
DTSTAMP:20260425T232551
CREATED:20260325T173706Z
LAST-MODIFIED:20260325T173727Z
UID:10001650-1775242800-1775242800@harvardsquare.com
SUMMARY:Rob Flax’s Boom Chick Trio
DESCRIPTION:Rob Flax is an award-winning multi-instrumentalist\, composer\, and educator with a playful heart and an open mind. He describes his music in a concise way: “I play things with strings\, I hit stuff\, and I sing.” Behind this simple tag line lies a rich depth of genre-bending\, from classical and jazz violin to bluegrass fiddle\, to blues and rock influences\, and beyond. Rob has performed nationally and internationally with groups of many different styles\, including opening for B.B. King and Tower of Power\, playing viola and violin with the Trans Siberian Orchestra and YouTube star Jacob Collier\, upright bass in an Argentine tango ensemble\, mandolin and fiddle in various bluegrass bands\, electric violin and synthesizers in Billy Wylder and several other rock bands\, collaborations with modern dancers\, and more. As a composer Rob has written music for choreographers\, film (including work on projects for James Franco and Anthony Bourdain)\, and several original projects. Rob is a graduate of the New England Conservatory\, and he currently lives in Boston. \nSlava Tolstoy is a Boston based guitarist\, singer and producer\, originally from St. Petersburg Russia. Slava’s original songs are best described as energetic pop-rock with tight arrangements\, virtuoso soloing and deep and meaningful lyrics in the best traditions of Russian rock. World class musicians\, including Grammy winners and nominees were carefully selected to play in Slava’s band and on his latest studio album – “Songs About the Sea” (Песни Про Море). Between 2018-2020 Slava has recorded and performed in a duo with Fedor Chistyakov – the leader of a legendary rock band “Nol”. One of Slava’s most known projects is International String Trio that fuses Jazz Manouche with World Music\, this group has toured across USA many times and gained significant national recognition. \nChris Sartori is a bassist\, percussionist\, and multi-instrumentalist currently based out of Boston. Throughout 10+ years touring nationally with Americana genre-defiers\, Twisted Pine\, Chris has studiously carved out a niche as the funkiest bassist in bluegrass. A graduate of the Jazz program at Umass Amherst\, Chris is a lifelong student of music\, dedicated to groove\, improvisation\, and bringing the music to life each night. Chris has had the privilege of traveling around the world exploring and innovating with fellow Americana/bluegrass pioneers such as Peter Rowan\, Danny Barnes\, Tray Wellington\, the Faux Paws\, and Twisted Pine\, playing notable venues and music festivals from Anchorage\, Alaska to Accra\, Ghana.
URL:https://harvardsquare.com/event/rob-flaxs-boom-chick-trio/
LOCATION:Passim\, 47 Palmer Street\, Cambridge\, MA\, 02138\, United States
CATEGORIES:Live Music
ATTACH;FMTTYPE=image/png:https://harvardsquare.com/wp-content/uploads/2026/03/Screenshot-2026-03-25-133644.png
END:VEVENT
BEGIN:VEVENT
DTSTART;TZID=America/New_York:20260402T190000
DTEND;TZID=America/New_York:20260402T190000
DTSTAMP:20260425T232551
CREATED:20260325T173358Z
LAST-MODIFIED:20260325T173406Z
UID:10001649-1775156400-1775156400@harvardsquare.com
SUMMARY:Mike Block Trio
DESCRIPTION:Mike Block Trio\, featuring Joe K. Walsh (mandolin/vocals) and Zachariah Hickman (bass/vocals)\, is led by cello player\, singer\, and composer\, Mike Block\, who has been hailed as “one of the bravest\, most intriguing musicians on the American fusion scene” by Gramophone Magazine. The trio fertilizes American roots music with contemporary and international influences\, bringing an exciting and personal perspective to the acoustic music scene.
URL:https://harvardsquare.com/event/mike-block-trio/
LOCATION:Passim\, 47 Palmer Street\, Cambridge\, MA\, 02138\, United States
CATEGORIES:Live Music
ATTACH;FMTTYPE=image/png:https://harvardsquare.com/wp-content/uploads/2026/03/Screenshot-2026-03-25-133328.png
END:VEVENT
BEGIN:VEVENT
DTSTART;TZID=America/New_York:20260401T180000
DTEND;TZID=America/New_York:20260401T180000
DTSTAMP:20260425T232551
CREATED:20260325T173102Z
LAST-MODIFIED:20260325T173138Z
UID:10001648-1775066400-1775066400@harvardsquare.com
SUMMARY:Shelby Means
DESCRIPTION:Born in the bluegrass of Kentucky and raised on Wyoming’s high plains\, Shelby Means is one of the foremost bassists in bluegrass\, with nearly two decades of experience in bluegrass\, folk\, rock\, Americana\, and country outfits. Now based in Charleston\, SC\, during her tenure in Nashville she was a member of the GRAMMY-nominated\, incredibly impactful distaff bluegrass band\, Della Mae. Throughout her career she has traveled to nearly 30 countries around the world spreading musical diplomacy.
URL:https://harvardsquare.com/event/shelby-means/
LOCATION:Passim\, 47 Palmer Street\, Cambridge\, MA\, 02138\, United States
CATEGORIES:Live Music
ATTACH;FMTTYPE=image/png:https://harvardsquare.com/wp-content/uploads/2026/03/Screenshot-2026-03-25-133039.png
END:VEVENT
BEGIN:VEVENT
DTSTART;TZID=America/New_York:20260331T170000
DTEND;TZID=America/New_York:20260331T170000
DTSTAMP:20260425T232551
CREATED:20260325T172648Z
LAST-MODIFIED:20260325T172655Z
UID:10001647-1774976400-1774976400@harvardsquare.com
SUMMARY:Emily Scott Robinson
DESCRIPTION:On her third album with Oh Boy Records\, and her fifth since beginning her career a decade ago\, Emily Scott Robinson once again unveils her mastery as a performer and storyteller. With her 2026 release Appalachia — recorded at Dreamland Recording Studios with Grammy-nominated producer Josh Kaufman — Robinson opens herself up to experimentation and sings in her crystal-clear voice about resilience\, love\, grief and hope. \nRobinson’s talent is no surprise to the music industry — she’s now a veteran touring artist\, both at home and abroad. Her records Traveling Mercies (2019) and American Siren (2021) each landed high on Rolling Stone’s “Best Country and Americana Albums” and Stereogum’s “10 Best Country Albums” year-end lists. She’s been lauded by the Washington Post\, Billboard\, American Songwriter and No Depression\, and earned the 19th spot on NPR’s “100 Best Songs of 2021” with her song “Let ‘Em Burn.”
URL:https://harvardsquare.com/event/emily-scott-robinson/
LOCATION:Passim\, 47 Palmer Street\, Cambridge\, MA\, 02138\, United States
CATEGORIES:Live Music
ATTACH;FMTTYPE=image/png:https://harvardsquare.com/wp-content/uploads/2026/03/Screenshot-2026-03-25-132618.png
END:VEVENT
BEGIN:VEVENT
DTSTART;TZID=America/New_York:20260329T170000
DTEND;TZID=America/New_York:20260329T170000
DTSTAMP:20260425T232551
CREATED:20260325T172359Z
LAST-MODIFIED:20260325T172407Z
UID:10001646-1774803600-1774803600@harvardsquare.com
SUMMARY:Big Richard
DESCRIPTION:Big Richard delivers ferocious\, unapologetic acoustic music with big energy and even bigger chops. Their live shows are raucous\, emotional\, and irreverent—mixing ripping instrumentals\, dark humor\, and raw\, socially charged songs. Their new album Pet\, out this February on Signature Sounds\, was recorded live to tape to capture the chaos and catharsis that define their performances.
URL:https://harvardsquare.com/event/big-richard/
LOCATION:Passim\, 47 Palmer Street\, Cambridge\, MA\, 02138\, United States
CATEGORIES:Live Music
ATTACH;FMTTYPE=image/png:https://harvardsquare.com/wp-content/uploads/2026/03/Screenshot-2026-03-25-132332.png
END:VEVENT
BEGIN:VEVENT
DTSTART;TZID=America/New_York:20260328T180000
DTEND;TZID=America/New_York:20260328T180000
DTSTAMP:20260425T232551
CREATED:20260325T171905Z
LAST-MODIFIED:20260325T171924Z
UID:10001645-1774720800-1774720800@harvardsquare.com
SUMMARY:Goodnight Moonshine Quartet feat. Molly of Red Molly
DESCRIPTION:Goodnight Moonshine is a musical marriage—the guitar and vocal duet of renowned Red Molly singer Molly Venter and prolific producer/guitarist Eben Pariser. Their collaborative result is a sophisticated folk sound built around Molly’s enviable voice and Eben’s wide\, imaginative harmonic sensibilities (NPR). \nMolly’s voice has been called both “biker-chick smoky” (New Haven Register) and “like silk” (American Songwriter Magazine)\, and has taken her career to highlights including Tønder Festival in Denmark\, Kate Wolf Fest in CA\, and multiple placements on television and film. Eben describes his adventurous playing as “Cooder-grass\,” combining the virtuosity of Django Reinhardt\, the depth of Bill Frisell\, and a touch of Jerry’s ethos. A natural producer\, Eben now has 9 studio records under his belt for himself and other artists.
URL:https://harvardsquare.com/event/goodnight-moonshine-quartet-feat-molly-of-red-molly/
LOCATION:Passim\, 47 Palmer Street\, Cambridge\, MA\, 02138\, United States
CATEGORIES:Live Music
ATTACH;FMTTYPE=image/png:https://harvardsquare.com/wp-content/uploads/2026/03/Screenshot-2026-03-25-131834.png
END:VEVENT
BEGIN:VEVENT
DTSTART;TZID=America/New_York:20260327T190000
DTEND;TZID=America/New_York:20260327T190000
DTSTAMP:20260425T232551
CREATED:20260325T171602Z
LAST-MODIFIED:20260325T171618Z
UID:10001644-1774638000-1774638000@harvardsquare.com
SUMMARY:Cory Branan
DESCRIPTION:Over the last two decades Cory Branan has released five albums to much critical acclaim from NPR\, Pitchfork and Rolling Stone among others\, who called him\, “A country boy with a punk-rock heart.” He has toured extensively\, appearing on stages from Letterman and the Ryman to your town’s shittiest punk bar. \nBranan’s songs have been covered by such artists as Tyler Childers\, Frank Turner\, and Dashboard Confessional. He has also collaborated with the likes of Jason Isbell\, Laura Jane Grace (Against Me!)\, and Craig Finn (The Hold Steady) who have been included as featured guests on previous records. Branan has even been mentioned in the Lucero song\, “Tears Don’t Matter Much” with the lyrics\, “Cory Branan’s got an evil streak\, and a way with words that’ll bring you to your knees.”
URL:https://harvardsquare.com/event/cory-branan/
LOCATION:Passim\, 47 Palmer Street\, Cambridge\, MA\, 02138\, United States
CATEGORIES:Live Music
ATTACH;FMTTYPE=image/png:https://harvardsquare.com/wp-content/uploads/2026/03/Screenshot-2026-03-25-131452.png
END:VEVENT
BEGIN:VEVENT
DTSTART;TZID=America/New_York:20260326T190000
DTEND;TZID=America/New_York:20260326T190000
DTSTAMP:20260425T232551
CREATED:20260325T171236Z
LAST-MODIFIED:20260325T171251Z
UID:10001643-1774551600-1774551600@harvardsquare.com
SUMMARY:Lincoln Durham
DESCRIPTION:Armed with old bastardized mid-century guitars\, hand-me-down fiddles and banjos\, home-made contraptions with just enough tension on a string to be considered an instrument and any random percussive item he can get his hands or feet on\, Lincoln Durham is a roots-rock revivalist with a heavy amped edge\, preaching the gospel of some new kind of depraved music. With driving guttural beats back-boning various growling stringed instruments Lincoln gives birth to a sound that transcends genres with his dark\, poetic and raw writing style telling tales that E.A. Poe would have been proud of.
URL:https://harvardsquare.com/event/lincoln-durham/
LOCATION:Passim\, 47 Palmer Street\, Cambridge\, MA\, 02138\, United States
CATEGORIES:Live Music
ATTACH;FMTTYPE=image/png:https://harvardsquare.com/wp-content/uploads/2026/03/Screenshot-2026-03-25-131208.png
END:VEVENT
END:VCALENDAR