BEGIN:VCALENDAR
VERSION:2.0
PRODID:-//Harvard Square Business Association - ECPv6.15.20//NONSGML v1.0//EN
CALSCALE:GREGORIAN
METHOD:PUBLISH
X-ORIGINAL-URL:https://harvardsquare.com
X-WR-CALDESC:Events for Harvard Square Business Association
REFRESH-INTERVAL;VALUE=DURATION:PT1H
X-Robots-Tag:noindex
X-PUBLISHED-TTL:PT1H
BEGIN:VTIMEZONE
TZID:America/New_York
BEGIN:DAYLIGHT
TZOFFSETFROM:-0500
TZOFFSETTO:-0400
TZNAME:EDT
DTSTART:20250309T070000
END:DAYLIGHT
BEGIN:STANDARD
TZOFFSETFROM:-0400
TZOFFSETTO:-0500
TZNAME:EST
DTSTART:20251102T060000
END:STANDARD
BEGIN:DAYLIGHT
TZOFFSETFROM:-0500
TZOFFSETTO:-0400
TZNAME:EDT
DTSTART:20260308T070000
END:DAYLIGHT
BEGIN:STANDARD
TZOFFSETFROM:-0400
TZOFFSETTO:-0500
TZNAME:EST
DTSTART:20261101T060000
END:STANDARD
BEGIN:DAYLIGHT
TZOFFSETFROM:-0500
TZOFFSETTO:-0400
TZNAME:EDT
DTSTART:20270314T070000
END:DAYLIGHT
BEGIN:STANDARD
TZOFFSETFROM:-0400
TZOFFSETTO:-0500
TZNAME:EST
DTSTART:20271107T060000
END:STANDARD
END:VTIMEZONE
BEGIN:VEVENT
DTSTART;TZID=America/New_York:20260423T183000
DTEND;TZID=America/New_York:20260423T183000
DTSTAMP:20260422T082442
CREATED:20260325T202654Z
LAST-MODIFIED:20260325T202704Z
UID:10001679-1776969000-1776969000@harvardsquare.com
SUMMARY:Billy Hart Quartet featuring Ethan Iverson\, Ben Street and Nicole Glover
DESCRIPTION:Billy Hart – drums\nNicole Glover – tenor sax\nEthan Iverson — piano\nBen Street — bass
URL:https://harvardsquare.com/event/billy-hart-quartet-featuring-ethan-iverson-ben-street-and-nicole-glover/
LOCATION:Regattabar\, 1 Bennett Street\, Cambridge\, MA\, 02138\, United States
CATEGORIES:Live Music
ATTACH;FMTTYPE=image/png:https://harvardsquare.com/wp-content/uploads/2026/03/Screenshot-2026-03-25-162627.png
END:VEVENT
BEGIN:VEVENT
DTSTART;TZID=America/New_York:20260423T190000
DTEND;TZID=America/New_York:20260423T190000
DTSTAMP:20260422T082442
CREATED:20260415T205315Z
LAST-MODIFIED:20260415T205315Z
UID:10002191-1776970800-1776970800@harvardsquare.com
SUMMARY:Billy Hart Quartet featuring Ethan Iverson\, Ben Street and Nicole Glover
DESCRIPTION:NEA jazz master Billy Hart is one of the most sought-after jazz drummers of his generation\, able to perform in diverse contexts ranging from straight-ahead to avant-garde to pop. He appears on more than 600 recordings\, including five with his critically-acclaimed quartet\, the most recent being Multidirectional on Smoke Sessions. \nHart grew up in the nation’s capital in a music-loving family who introduced him to jazz early on. His maternal grandmother bought him his first drum set. At age 17\, he was hired by the great local saxophonist Buck Hill for an extended gig with his band\, which also featured two of Hart’s high school classmates\, pianist Reuben Brown and bassist Butch Warren. His next important mentor was singer and pianist Shirley Horn. After being established locally\, Hart spent most of the 60s touring with three of the preeminent working groups of the era\, Jimmy Smith\, Wes Montgomery\, and Eddie Harris. \nAfter moving to New York\, Hart became associated with a group of like-minded and forward thinking musicians\, recording with Pharaoh Sanders\, Wayne Shorter\, McCoy Tyner\, Joe Zawinul\, and\, especially\, Herbie Hancock\, with whom Hart spent three productive years in the band now known as Mwandishi. He also appeared on the seminal Miles Davis 1972 album On the Corner. \nOther notable associations include four years with Stan Getz\, almost ten years with Charles Lloyd\, and record dates ranging from standard bearers like Frank Foster\, Clark Terry\, Horace Silver to experimentalists like Joanne Brackeen\, Geri Allen\, and James Newton. Notable cooperatives with Hart include Quest and The Cookers\, and he released a memoir\, Oceans of Time\, in 2025.
URL:https://harvardsquare.com/event/billy-hart-quartet-featuring-ethan-iverson-ben-street-and-nicole-glover-2/
LOCATION:Regattabar\, 1 Bennett Street\, Cambridge\, MA\, 02138\, United States
ATTACH;FMTTYPE=image/png:https://harvardsquare.com/wp-content/uploads/2026/04/13_Edp.png
END:VEVENT
BEGIN:VEVENT
DTSTART;TZID=America/New_York:20260424T193000
DTEND;TZID=America/New_York:20260424T193000
DTSTAMP:20260422T082442
CREATED:20260227T192917Z
LAST-MODIFIED:20260227T192926Z
UID:10001589-1777059000-1777059000@harvardsquare.com
SUMMARY:Dee Dee Bridgewater + Bill Charlap
DESCRIPTION:Over the course of a multifaceted career spanning four decades\, Grammy and Tony Award-winning jazz giant Dee Dee Bridgewater has ascended to the upper echelon of vocalists\, putting her unique spin on standards\, as well as taking intrepid leaps of faith in re-envisioning jazz classics. Ever the fearless voyager\, explorer\, pioneer and keeper of tradition\, the three-time Grammy-winner recently won the Grammy for Best Jazz Vocal Album for Eleanora Fagan (1915-1959): To Billie With Love From Dee Dee. \nGrammy award winning pianist Bill Charlap has performed with many of the leading artists of our time\, from Wynton Marsalis and Tony Bennett to Phil Woods and Ron Carter. He is acclaimed for his interpretations of the American Popular Songbook and has recorded albums featuring the music of Hoagy Carmichael\, Leonard Bernstein\, George Gershwin\, Irving Berlin\, Cole Porter\, Richard Rodgers and Duke Ellington.
URL:https://harvardsquare.com/event/dee-dee-bridgewater-bill-charlap/
LOCATION:Regattabar\, 1 Bennett Street\, Cambridge\, MA\, 02138\, United States
CATEGORIES:Live Music
ATTACH;FMTTYPE=image/png:https://harvardsquare.com/wp-content/uploads/2026/02/Screenshot-2026-02-27-142855.png
END:VEVENT
BEGIN:VEVENT
DTSTART;TZID=America/New_York:20260425T190000
DTEND;TZID=America/New_York:20260425T190000
DTSTAMP:20260422T082442
CREATED:20260227T195104Z
LAST-MODIFIED:20260227T195115Z
UID:10001590-1777143600-1777143600@harvardsquare.com
SUMMARY:Jim Caruso's Cast Party
DESCRIPTION:“The gold standard of open mic nights.” – The New York Times \nPerformers Interested in singing should email caruso212@aol.com.
URL:https://harvardsquare.com/event/jim-carusos-cast-party/
LOCATION:Regattabar\, 1 Bennett Street\, Cambridge\, MA\, 02138\, United States
CATEGORIES:Live Music
ATTACH;FMTTYPE=image/png:https://harvardsquare.com/wp-content/uploads/2026/02/Screenshot-2026-02-27-145040.png
END:VEVENT
BEGIN:VEVENT
DTSTART;TZID=America/New_York:20260501T193000
DTEND;TZID=America/New_York:20260501T193000
DTSTAMP:20260422T082442
CREATED:20260227T195520Z
LAST-MODIFIED:20260227T195530Z
UID:10001591-1777663800-1777663800@harvardsquare.com
SUMMARY:Hellbender
DESCRIPTION:HELLBENDER bends jazz until it snaps. Built on the raw electricity of classic fusion records like\nBitches Brew\, the band channels that brand of chaos through a sharper\, more intentional\ncompositional lens. Ambient sounds are juxtaposed with tough drum beats and a ton of mixed\nmeters. There isn’t endless soloing for its own sake—the band has a collective sound that\nresonates. \nThe players are conservatory-trained musicians who grew up on classic rock riffs as much as\nreal books. The intention is to bring precision in the music without losing the danger. Amplified\njazz\, electric saxophone with guitar pedals\, aggressive grooves\, and tightly forged forms collide\,\nblurring the line between headbanging and deep listening. Hellbender isn’t resurrecting\nfusion—they are weaponizing it.
URL:https://harvardsquare.com/event/hellbender/
LOCATION:Regattabar\, 1 Bennett Street\, Cambridge\, MA\, 02138\, United States
CATEGORIES:Live Music
ATTACH;FMTTYPE=image/png:https://harvardsquare.com/wp-content/uploads/2026/02/Screenshot-2026-02-27-145342.png
END:VEVENT
END:VCALENDAR